Shooting information for this photo
Camera: | NIKON CORPORATION NIKON D200 |
Exposure: | 0.25 sec. (1/4) |
Aperture: | f/5.6 |
Focal Length: | 420.0 mm (35 mm equivalent: 630.0 mm) |
Flash: | No Flash |
Exposure mode: | Program AE |
Max Aperture: | 5.7 |
Resolution: | 240 x 240 dpi |
Dimension: | 2880 x 2160 pixels |
Original Date: | 2009:02:08 20:12:38.90 |
Digitized Date: | 2009:02:08 20:12:38.90-08:00 |
Created on: | 2009:02:08 20:12:38.90 |
Modified on: | 2009:02:08 21:19:02.90 |
Software: | Adobe Photoshop CS3 Macintosh |
Copyright: | ©Marina van der Linden |
Already Applied | True |
Blue Hue | 0 |
Blue Saturation | 0 |
Brightness | +55 |
CFA Pattern | [Green,Red][Blue,Green] |
Camera Profile | ACR 3.3 |
Chromatic Aberration B | 0 |
Chromatic Aberration R | 0 |
Circle Of Confusion | 0.020 mm |
Color Mode | RGB |
Color Noise Reduction | 25 |
Color Space | Uncalibrated |
Color Temperature | 4950 |
Contrast | +44 |
Convert To Grayscale | False |
Custom Rendered | Normal |
Description | I've heard there's an eclipse tomorrow morning which should be visible from the California coast just as the moon sets. Only two problems; it will probably be ligth before the eclipse, and the forecast calls for rain..Meh! |
Digital Zoom Ratio | 1 |
Exposure | -0.25 |
Exposure Compensation | -1/3 |
Exposure Mode | Auto |
Field Of View | 3.3 deg |
Fill Light | 0 |
Flash Fired | False |
Flash Function | False |
Flash Mode | Unknown |
Flash Red Eye Mode | False |
Flash Return | No return detection |
Focal Length In 35mm Format | 630 mm |
Format | image/jpeg |
Gain Control | None |
Green Hue | 0 |
Green Saturation | 0 |
Has Crop | False |
Has Settings | True |
Highlight Recovery | 29 |
Hue Adjustment Aqua | 0 |
Hue Adjustment Blue | 0 |
Hue Adjustment Green | 0 |
Hue Adjustment Magenta | 0 |
Hue Adjustment Orange | 0 |
Hue Adjustment Purple | 0 |
Hue Adjustment Red | 0 |
Hue Adjustment Yellow | 0 |
Hyperfocal Distance | 1572.58 m |
ICC Profile Name | Adobe RGB (1998) |
ISO | 200 |
Image Description | I've heard there's an eclipse tomorrow morning which should be visible from the California coast just as the moon sets. Only two problems; it will probably be ligth before the eclipse, and the forecast calls for rain..Meh! |
Image Number | 22396 |
Image Size | 2880x2160 |
Lens | 300.0 mm f/4.0 |
Lens Info | 300mm f/4 |
Light Source | Fine Weather |
Light Value | 6.0 |
Luminance Adjustment Aqua | 0 |
Luminance Adjustment Blue | 0 |
Luminance Adjustment Green | 0 |
Luminance Adjustment Magenta | 0 |
Luminance Adjustment Orange | 0 |
Luminance Adjustment Purple | 0 |
Luminance Adjustment Red | 0 |
Luminance Adjustment Yellow | 0 |
Luminance Smoothing | 0 |
Marked | True |
Metering Mode | Multi-segment |
Parametric Darks | 0 |
Parametric Highlight Split | 75 |
Parametric Highlights | 0 |
Parametric Lights | 0 |
Parametric Midtone Split | 50 |
Parametric Shadow Split | 25 |
Parametric Shadows | 0 |
Rating | 0 |
Raw File Name | NMN_8335.NEF |
Red Hue | 0 |
Red Saturation | 0 |
Rights | ©Marina van der Linden |
Saturation | +17 |
Saturation Adjustment Aqua | 0 |
Saturation Adjustment Blue | 0 |
Saturation Adjustment Green | 0 |
Saturation Adjustment Magenta | 0 |
Saturation Adjustment Orange | 0 |
Saturation Adjustment Purple | 0 |
Saturation Adjustment Red | 0 |
Saturation Adjustment Yellow | 0 |
Scale Factor To 35 mm Equivalent | 1.5 |
Scene Capture Type | Standard |
Scene Type | Directly photographed |
Sensing Method | One-chip color area |
Shadow Tint | 0 |
Shadows | 10 |
Sharpness | 25 |
Sidecar For Extension | NEF |
Split Toning Balance | 0 |
Split Toning Highlight Hue | 0 |
Split Toning Highlight Saturation | 0 |
Split Toning Shadow Hue | 0 |
Split Toning Shadow Saturation | 0 |
Subject | Moon, clouds, double exposure, Nikon D200, Nikkor 300mm f4 |
Subject Distance Range | Unknown |
Time Zone Offset | -8 -8 |
Tint | -3 |
Title | Through the clouds |
Tone Curve | 0, 0, 32, 22, 64, 56, 128, 128, 192, 196, 255, 255 |
Tone Curve Name | Medium Contrast |
Version | 4.0 |
Vibrance | +16 |
Vignette Amount | 0 |
White Balance | As Shot |