Shooting information for this photo
Camera: | RICOH IMAGING COMPANY, LTD. PENTAX K-3 |
Exposure: | 0.004 sec. (1/250) |
Aperture: | f/8.0 |
Focal Length: | 107.5 mm (35 mm equivalent: 162.0 mm) |
Flash: | Off, Did not fire |
Exposure mode: | Aperture-priority AE |
Resolution: | 240 x 240 dpi |
Original Date: | 2023:07:23 13:46:03 |
Created on: | 2023:07:23 13:46:03 |
Modified on: | 2023:07:23 17:40:48 |
Software: | Adobe Photoshop Lightroom Classic 10.2 (Windows) |
Copyright: | COLIN@ALUMNI.MANCHESTER.AC.UK |
Already Applied | True |
Approximate Focus Distance | 4 |
Artist | COLIN ASHCROFT |
Auto Lateral CA | 0 |
Auto White Version | 134348800 |
Blacks 2012 | 0 |
Blue Hue | 0 |
Blue Saturation | 0 |
Camera Profile | Adobe Standard |
Circle Of Confusion | 0.020 mm |
Clarity 2012 | 0 |
Color Grade Blending | 50 |
Color Grade Global Hue | 0 |
Color Grade Global Lum | 0 |
Color Grade Global Sat | 0 |
Color Grade Highlight Lum | 0 |
Color Grade Midtone Hue | 0 |
Color Grade Midtone Lum | 0 |
Color Grade Midtone Sat | 0 |
Color Grade Shadow Lum | 0 |
Color Noise Reduction | 25 |
Color Noise Reduction Detail | 50 |
Color Noise Reduction Smoothness | 50 |
Color Space | sRGB |
Color Temperature | 5400 |
Contrast | High |
Contrast 2012 | 0 |
Creator | COLIN ASHCROFT |
Crop Angle | 0 |
Crop Bottom | 1 |
Crop Constrain To Warp | 0 |
Crop Left | 0 |
Crop Right | 1 |
Crop Top | 0 |
Custom Rendered | Normal |
Date Created | 2023:07:23 13:46:03 |
Defringe Green Amount | 0 |
Defringe Green Hue Hi | 60 |
Defringe Green Hue Lo | 40 |
Defringe Purple Amount | 0 |
Defringe Purple Hue Hi | 70 |
Defringe Purple Hue Lo | 30 |
Dehaze | +26 |
Exposure 2012 | 0.00 |
Exposure Compensation | 0 |
Exposure Mode | Auto |
Field Of View | 12.7 deg |
Focal Length In 35mm Format | 162 mm |
Format | image/jpeg |
Gradient Based Corr Active | true |
Gradient Based Corr Amount | 1.000000 |
Gradient Based Corr Brightness | 0.000000 |
Gradient Based Corr Clarity 2012 | 0.176470 |
Gradient Based Corr Contrast 2012 | 0.000000 |
Gradient Based Corr Correction Range Mask Color Amount | 0.500000 |
Gradient Based Corr Correction Range Mask Depth Feather | 0.500000 |
Gradient Based Corr Correction Range Mask Depth Max | 1.000000 |
Gradient Based Corr Correction Range Mask Depth Min | 0.000000 |
Gradient Based Corr Correction Range Mask Lum Feather | 0.500000 |
Gradient Based Corr Correction Range Mask Lum Max | 1.000000 |
Gradient Based Corr Correction Range Mask Lum Min | 0.000000 |
Gradient Based Corr Correction Range Mask Type | 0 |
Gradient Based Corr Correction Range Mask Version | +2 |
Gradient Based Corr Defringe | 0.000000 |
Gradient Based Corr Exposure 2012 | -0.227000 |
Gradient Based Corr Highlights 2012 | -0.226890 |
Gradient Based Corr Hue | 240.000000 |
Gradient Based Corr Local Blacks 2012 | -0.109240 |
Gradient Based Corr Local Dehaze | 0.361340 |
Gradient Based Corr Local Hue | 0.000000 |
Gradient Based Corr Local Texture | 0.000000 |
Gradient Based Corr Local Whites 2012 | -0.193280 |
Gradient Based Corr Luminance Noise | 0.000000 |
Gradient Based Corr Mask Full X | 0.542074 |
Gradient Based Corr Mask Full Y | -0.002600 |
Gradient Based Corr Mask Value | 1.000000 |
Gradient Based Corr Mask What | Mask/Gradient |
Gradient Based Corr Mask Zero X | 0.544031 |
Gradient Based Corr Mask Zero Y | 0.178153 |
Gradient Based Corr Moire | 0.058820 |
Gradient Based Corr Saturation | 0.000000 |
Gradient Based Corr Shadows 2012 | 0.579830 |
Gradient Based Corr Sharpness | 0.000000 |
Gradient Based Corr Temperature | 0.000000 |
Gradient Based Corr Tint | 0.000000 |
Gradient Based Corr What | Correction |
Grain Amount | 0 |
Green Hue | 0 |
Green Saturation | 0 |
Has Crop | False |
Has Settings | True |
Highlights 2012 | 0 |
Hue Adjustment Aqua | 0 |
Hue Adjustment Blue | 0 |
Hue Adjustment Green | 0 |
Hue Adjustment Magenta | 0 |
Hue Adjustment Orange | 0 |
Hue Adjustment Purple | 0 |
Hue Adjustment Red | 0 |
Hue Adjustment Yellow | 0 |
Hyperfocal Distance | 72.45 m |
ISO | 400 |
Image Size | 2048x1362 |
Lens | HD PENTAX-DA 55-300mm F4-5.8 ED WR |
Lens ID | Unknown (7 203) |
Lens Info | 55-300mm f/4-5.8 |
Lens Manual Distortion Amount | 0 |
Lens Model | HD PENTAX-DA 55-300mm F4-5.8 ED WR |
Lens Profile Enable | 0 |
Light Value | 12.0 |
Look Amount | 1.000000 |
Look Group | Profiles |
Look Name | Adobe Landscape |
Look Parameters Camera Profile | Adobe Standard |
Look Parameters Clarity 2012 | +10 |
Look Parameters Convert To Grayscale | False |
Look Parameters Highlights 2012 | -12 |
Look Parameters Look Table | 0B3BFB5CFB7DBF7FF175E98F24D316 B0 |
Look Parameters Process Version | 11.0 |
Look Parameters Shadows 2012 | +12 |
Look Parameters Tone Curve PV2012 | 0, 0, 64, 60, 128, 128, 192, 196, 255, 255 |
Look Parameters Version | 13.2 |
Look Supports Amount | false |
Look Supports Monochrome | false |
Look Supports Output Referred | false |
Luminance Adjustment Aqua | 0 |
Luminance Adjustment Blue | 0 |
Luminance Adjustment Green | 0 |
Luminance Adjustment Magenta | 0 |
Luminance Adjustment Orange | 0 |
Luminance Adjustment Purple | 0 |
Luminance Adjustment Red | 0 |
Luminance Adjustment Yellow | 0 |
Luminance Smoothing | 0 |
Metering Mode | Center-weighted average |
Override Look Vignette | False |
Parametric Darks | 0 |
Parametric Highlight Split | 75 |
Parametric Highlights | 0 |
Parametric Lights | 0 |
Parametric Midtone Split | 50 |
Parametric Shadow Split | 25 |
Parametric Shadows | 0 |
Perspective Aspect | 0 |
Perspective Horizontal | 0 |
Perspective Rotate | 0.0 |
Perspective Scale | 100 |
Perspective Upright | 0 |
Perspective Vertical | 0 |
Perspective X | 0.00 |
Perspective Y | 0.00 |
Post Crop Vignette Amount | 0 |
Preserved File Name | PRAW7040.PEF |
Process Version | 11.0 |
Raw File Name | PRAW7040.PEF |
Red Hue | 0 |
Red Saturation | 0 |
Rights | COLIN@ALUMNI.MANCHESTER.AC.UK |
Saturation | Normal |
Saturation Adjustment Aqua | 0 |
Saturation Adjustment Blue | 0 |
Saturation Adjustment Green | 0 |
Saturation Adjustment Magenta | 0 |
Saturation Adjustment Orange | 0 |
Saturation Adjustment Purple | 0 |
Saturation Adjustment Red | 0 |
Saturation Adjustment Yellow | 0 |
Scale Factor To 35 mm Equivalent | 1.5 |
Scene Capture Type | Standard |
Sensing Method | One-chip color area |
Sensitivity Type | Standard Output Sensitivity |
Shadow Tint | 0 |
Shadows 2012 | +53 |
Sharpen Detail | 25 |
Sharpen Edge Masking | 0 |
Sharpen Radius | +1.0 |
Sharpness | Hard |
Split Toning Balance | 0 |
Split Toning Highlight Hue | 0 |
Split Toning Highlight Saturation | 0 |
Split Toning Shadow Hue | 0 |
Split Toning Shadow Saturation | 0 |
Standard Output Sensitivity | 400 |
Subject Distance Range | Distant |
Texture | 0 |
Tint | +30 |
Tone Curve Name 2012 | Linear |
Tone Curve PV2012 | 0, 0, 255, 255 |
Tone Curve PV2012 Blue | 0, 0, 255, 255 |
Tone Curve PV2012 Green | 0, 0, 255, 255 |
Tone Curve PV2012 Red | 0, 0, 255, 255 |
Version | 13.2 |
Vibrance | 0 |
Vignette Amount | 0 |
White Balance | Auto |
Whites 2012 | 0 |