Shooting information for this photo
Camera: | Apple iPhone SE (2nd generation) |
Exposure: | 0.00833 sec. (1/120) |
Aperture: | f/1.8 |
Focal Length: | 4.0 mm (35 mm equivalent: 28.0 mm) |
Flash: | Off, Did not fire |
Exposure mode: | Program AE |
Resolution: | 300 x 300 dpi |
Original Date: | 2023:04:13 17:03:52.587 |
Created on: | 2023:04:13 17:03:52.587 |
Modified on: | 2023:04:13 21:06:25 |
Software: | 16.3.1 |
Already Applied | True |
Auto Lateral CA | 0 |
Blacks 2012 | +18 |
Blue Hue | 0 |
Blue Saturation | 0 |
Brightness Value | 4.954288836 |
Camera Profile | Embedded |
Circle Of Confusion | 0.004 mm |
Clarity 2012 | 0 |
Color Grade Blending | 50 |
Color Grade Global Hue | 48 |
Color Grade Global Lum | 0 |
Color Grade Global Sat | 8 |
Color Grade Highlight Lum | 0 |
Color Grade Midtone Hue | 96 |
Color Grade Midtone Lum | 0 |
Color Grade Midtone Sat | 15 |
Color Grade Shadow Lum | +10 |
Color Noise Reduction | 0 |
Color Space | sRGB |
Compatible Version | 251658240 |
Contrast 2012 | +3 |
Convert To Grayscale | False |
Crop Angle | 0 |
Crop Bottom | 0.937649 |
Crop Constrain To Warp | 0 |
Crop Left | 0.084903 |
Crop Right | 0.998441 |
Crop Top | 0.024111 |
Defringe Green Amount | 0 |
Defringe Green Hue Hi | 60 |
Defringe Green Hue Lo | 40 |
Defringe Purple Amount | 0 |
Defringe Purple Hue Hi | 70 |
Defringe Purple Hue Lo | 30 |
Dehaze | 0 |
Exposure 2012 | -0.38 |
Exposure Compensation | 0 |
Exposure Mode | Auto |
Field Of View | 65.5 deg |
Focal Length In 35mm Format | 28 mm |
Format | image/jpeg |
Grain Amount | 0 |
Green Hue | 0 |
Green Saturation | 0 |
Has Crop | True |
Has Settings | True |
Highlights 2012 | -14 |
Hue Adjustment Aqua | -78 |
Hue Adjustment Blue | -68 |
Hue Adjustment Green | -11 |
Hue Adjustment Magenta | -50 |
Hue Adjustment Orange | -12 |
Hue Adjustment Purple | -63 |
Hue Adjustment Red | +50 |
Hue Adjustment Yellow | -50 |
Hyperfocal Distance | 2.07 m |
ISO | 50 |
Image Size | 2762x3683 |
Incremental Temperature | 0 |
Incremental Tint | 0 |
Lens | iPhone SE (2nd generation) back camera 3.99mm f/1.8 |
Lens Info | 3.99mm f/1.8 |
Lens Make | Apple |
Lens Manual Distortion Amount | 0 |
Lens Model | iPhone SE (2nd generation) back camera 3.99mm f/1.8 |
Lens Profile Enable | 0 |
Light Value | 9.6 |
Luminance Adjustment Aqua | -11 |
Luminance Adjustment Blue | -46 |
Luminance Adjustment Green | +46 |
Luminance Adjustment Magenta | 0 |
Luminance Adjustment Orange | +3 |
Luminance Adjustment Purple | 0 |
Luminance Adjustment Red | -21 |
Luminance Adjustment Yellow | -28 |
Luminance Smoothing | 0 |
Metering Mode | Spot |
Override Look Vignette | False |
Parametric Darks | 0 |
Parametric Highlight Split | 75 |
Parametric Highlights | 0 |
Parametric Lights | 0 |
Parametric Midtone Split | 50 |
Parametric Shadow Split | 25 |
Parametric Shadows | 0 |
Perspective Aspect | 0 |
Perspective Horizontal | 0 |
Perspective Rotate | 0.0 |
Perspective Scale | 100 |
Perspective Upright | 0 |
Perspective Vertical | 0 |
Perspective X | 0.00 |
Perspective Y | 0.00 |
Post Crop Vignette Amount | 0 |
Process Version | 11.0 |
Red Hue | 0 |
Red Saturation | 0 |
Saturation | 0 |
Saturation Adjustment Aqua | -99 |
Saturation Adjustment Blue | -89 |
Saturation Adjustment Green | -83 |
Saturation Adjustment Magenta | -86 |
Saturation Adjustment Orange | -11 |
Saturation Adjustment Purple | -90 |
Saturation Adjustment Red | -50 |
Saturation Adjustment Yellow | -10 |
Scale Factor To 35 mm Equivalent | 7.0 |
Scene Type | Directly photographed |
Sensing Method | One-chip color area |
Shadow Tint | 0 |
Shadows 2012 | 0 |
Sharpness | 0 |
Split Toning Balance | 0 |
Split Toning Highlight Hue | 39 |
Split Toning Highlight Saturation | 14 |
Split Toning Shadow Hue | 102 |
Split Toning Shadow Saturation | 18 |
Subject Area | 2944 1372 751 756 |
Texture | 0 |
Tone Curve Name 2012 | Custom |
Tone Curve PV2012 | 0, 37, 17, 39, 34, 43, 51, 50, 68, 61, 85, 75, 102, 93, 119, 112, 136, 132, 153, 151, 170, 167, 187, 181, 204, 193, 221, 203, 238, 213, 255, 222 |
Tone Curve PV2012 Blue | 0, 0, 17, 6, 34, 15, 51, 28, 68, 48, 85, 72, 102, 101, 119, 129, 136, 153, 153, 174, 170, 192, 187, 208, 204, 221, 221, 234, 238, 245, 255, 255 |
Tone Curve PV2012 Green | 0, 0, 17, 8, 34, 17, 51, 30, 68, 48, 85, 70, 102, 97, 119, 124, 136, 150, 153, 172, 170, 192, 187, 208, 204, 222, 221, 234, 238, 245, 255, 255 |
Tone Curve PV2012 Red | 0, 0, 17, 4, 34, 10, 51, 21, 68, 38, 85, 65, 102, 99, 119, 131, 136, 156, 153, 175, 170, 191, 187, 205, 204, 218, 221, 231, 238, 243, 255, 255 |
Version | 15.2 |
Vibrance | +19 |
Vignette Amount | 0 |
White Balance | Auto |
Whites 2012 | -40 |