Shooting information for this photo
Camera: | RICOH IMAGING COMPANY, LTD. PENTAX K-3 |
Exposure: | 0.002 sec. (1/500) |
Aperture: | f/5.8 |
Focal Length: | 300.0 mm (35 mm equivalent: 450.0 mm) |
Flash: | Off, Did not fire |
Exposure mode: | Shutter speed priority AE |
Resolution: | 240 x 240 dpi |
Original Date: | 2021:12:25 14:47:24 |
Created on: | 2021:12:25 14:47:24 |
Modified on: | 2021:12:26 11:39:40 |
Software: | Adobe Photoshop Lightroom Classic 10.2 (Windows) |
Copyright: | COLIN@ALUMNI.MANCHESTER.AC.UK |
Already Applied | True |
Approximate Focus Distance | 4 |
Artist | COLIN ASHCROFT |
Auto Lateral CA | 0 |
Blacks 2012 | 0 |
Blue Hue | 0 |
Blue Saturation | 0 |
Camera Profile | Adobe Standard |
Circle Of Confusion | 0.020 mm |
Clarity 2012 | +19 |
Color Grade Blending | 50 |
Color Grade Global Hue | 0 |
Color Grade Global Lum | 0 |
Color Grade Global Sat | 0 |
Color Grade Highlight Lum | 0 |
Color Grade Midtone Hue | 0 |
Color Grade Midtone Lum | 0 |
Color Grade Midtone Sat | 0 |
Color Grade Shadow Lum | 0 |
Color Noise Reduction | 25 |
Color Noise Reduction Detail | 50 |
Color Noise Reduction Smoothness | 50 |
Color Space | sRGB |
Color Temperature | 6800 |
Contrast | High |
Contrast 2012 | +5 |
Convert To Grayscale | False |
Creator | COLIN ASHCROFT |
Crop Angle | 0 |
Crop Bottom | 0.807823 |
Crop Constrain To Warp | 0 |
Crop Left | 0 |
Crop Right | 0.807823 |
Crop Top | 0 |
Custom Rendered | Normal |
Date Created | 2021:12:25 14:47:24 |
Defringe Green Amount | 0 |
Defringe Green Hue Hi | 60 |
Defringe Green Hue Lo | 40 |
Defringe Purple Amount | 0 |
Defringe Purple Hue Hi | 70 |
Defringe Purple Hue Lo | 30 |
Dehaze | 0 |
Distortion Correction Already Applied | True |
Exposure 2012 | +0.70 |
Exposure Compensation | 0 |
Exposure Mode | Auto |
Field Of View | 4.6 deg |
Focal Length In 35mm Format | 450 mm |
Format | image/jpeg |
Grain Amount | 0 |
Green Hue | 0 |
Green Saturation | 0 |
Has Crop | True |
Has Settings | True |
Highlights 2012 | -10 |
Hue Adjustment Aqua | 0 |
Hue Adjustment Blue | 0 |
Hue Adjustment Green | 0 |
Hue Adjustment Magenta | 0 |
Hue Adjustment Orange | 0 |
Hue Adjustment Purple | 0 |
Hue Adjustment Red | 0 |
Hue Adjustment Yellow | 0 |
Hyperfocal Distance | 774.67 m |
ISO | 800 |
Image Size | 2048x1362 |
Lens | HD PENTAX-DA 55-300mm F4-5.8 ED WR |
Lens ID | Unknown (7 203) |
Lens Info | 55-300mm f/4-5.8 |
Lens Manual Distortion Amount | 0 |
Lens Model | HD PENTAX-DA 55-300mm F4-5.8 ED WR |
Lens Profile Distortion Scale | 100 |
Lens Profile Enable | 1 |
Lens Profile Filename | PENTAX (HD PENTAX-DA 55-300mm F4-5.8 ED WR) - RAW.lcp |
Lens Profile Is Embedded | False |
Lens Profile Name | Adobe (HD PENTAX-DA 55-300mm F4-5.8 ED WR) |
Lens Profile Setup | LensDefaults |
Lens Profile Vignetting Scale | 100 |
Light Value | 11.0 |
Luminance Adjustment Aqua | 0 |
Luminance Adjustment Blue | 0 |
Luminance Adjustment Green | 0 |
Luminance Adjustment Magenta | 0 |
Luminance Adjustment Orange | 0 |
Luminance Adjustment Purple | 0 |
Luminance Adjustment Red | 0 |
Luminance Adjustment Yellow | 0 |
Luminance Noise Reduction Contrast | 0 |
Luminance Noise Reduction Detail | 50 |
Luminance Smoothing | 12 |
Metering Mode | Center-weighted average |
Override Look Vignette | False |
Parametric Darks | 0 |
Parametric Highlight Split | 75 |
Parametric Highlights | 0 |
Parametric Lights | 0 |
Parametric Midtone Split | 50 |
Parametric Shadow Split | 25 |
Parametric Shadows | 0 |
Perspective Aspect | 0 |
Perspective Horizontal | 0 |
Perspective Rotate | 0.0 |
Perspective Scale | 100 |
Perspective Upright | 0 |
Perspective Vertical | 0 |
Perspective X | 0.00 |
Perspective Y | 0.00 |
Post Crop Vignette Amount | 0 |
Preserved File Name | CASH7900.PEF |
Process Version | 11.0 |
Raw File Name | CASH7900.PEF |
Red Hue | 0 |
Red Saturation | 0 |
Rights | COLIN@ALUMNI.MANCHESTER.AC.UK |
Saturation | Normal |
Saturation Adjustment Aqua | 0 |
Saturation Adjustment Blue | 0 |
Saturation Adjustment Green | 0 |
Saturation Adjustment Magenta | 0 |
Saturation Adjustment Orange | 0 |
Saturation Adjustment Purple | 0 |
Saturation Adjustment Red | 0 |
Saturation Adjustment Yellow | 0 |
Scale Factor To 35 mm Equivalent | 1.5 |
Scene Capture Type | Standard |
Sensing Method | One-chip color area |
Sensitivity Type | Standard Output Sensitivity |
Shadow Tint | 0 |
Shadows 2012 | +35 |
Sharpen Detail | 25 |
Sharpen Edge Masking | 0 |
Sharpen Radius | +1.0 |
Sharpness | Hard |
Split Toning Balance | 0 |
Split Toning Highlight Hue | 0 |
Split Toning Highlight Saturation | 0 |
Split Toning Shadow Hue | 0 |
Split Toning Shadow Saturation | 0 |
Standard Output Sensitivity | 800 |
Subject Distance Range | Distant |
Texture | 0 |
Tint | +5 |
Tone Curve Name 2012 | Linear |
Tone Curve PV2012 | 0, 0, 255, 255 |
Tone Curve PV2012 Blue | 0, 0, 255, 255 |
Tone Curve PV2012 Green | 0, 0, 255, 255 |
Tone Curve PV2012 Red | 0, 0, 255, 255 |
Version | 13.2 |
Vibrance | +10 |
Vignette Amount | 0 |
Vignette Correction Already Applied | True |
White Balance | Auto |
Whites 2012 | +21 |