Shooting information for this photo
Camera: | RICOH IMAGING COMPANY, LTD. PENTAX K-3 |
Exposure: | 0.001 sec. (1/1000) |
Aperture: | f/8.0 |
Focal Length: | 300.0 mm (35 mm equivalent: 450.0 mm) |
Flash: | Off, Did not fire |
Exposure mode: | Not Defined |
Resolution: | 240 x 240 dpi |
Original Date: | 2020:03:25 14:35:31 |
Created on: | 2020:03:25 14:35:31 |
Modified on: | 2020:03:25 22:15:23 |
Software: | Adobe Photoshop Lightroom Classic 9.2 (Windows) |
Copyright: | COLINASHCROFT@PYEGROVE.CO.UK |
Already Applied | True |
Approximate Focus Distance | 4 |
Artist | COLIN ASHCROFT |
Auto Lateral CA | 0 |
Blacks 2012 | 0 |
Blue Hue | 0 |
Blue Saturation | 0 |
Camera Profile | Adobe Standard |
Circle Of Confusion | 0.020 mm |
Clarity 2012 | +17 |
Color Noise Reduction | 25 |
Color Noise Reduction Detail | 50 |
Color Noise Reduction Smoothness | 50 |
Color Space | sRGB |
Color Temperature | 5050 |
Contrast | High |
Contrast 2012 | 0 |
Convert To Grayscale | False |
Creator | COLIN ASHCROFT |
Crop Angle | 0 |
Crop Bottom | 0.924324 |
Crop Constrain To Warp | 0 |
Crop Left | 0.201258 |
Crop Right | 0.847644 |
Crop Top | 0.277938 |
Custom Rendered | Normal |
Date Created | 2020:03:25 14:35:31 |
Defringe Green Amount | 0 |
Defringe Green Hue Hi | 60 |
Defringe Green Hue Lo | 40 |
Defringe Purple Amount | 0 |
Defringe Purple Hue Hi | 70 |
Defringe Purple Hue Lo | 30 |
Dehaze | +28 |
Exposure 2012 | 0.00 |
Exposure Compensation | 0 |
Exposure Mode | Auto |
Field Of View | 4.6 deg |
Focal Length In 35mm Format | 450 mm |
Format | image/jpeg |
Grain Amount | 0 |
Green Hue | 0 |
Green Saturation | 0 |
Has Crop | True |
Has Settings | True |
Highlights 2012 | -80 |
Hue Adjustment Aqua | 0 |
Hue Adjustment Blue | 0 |
Hue Adjustment Green | 0 |
Hue Adjustment Magenta | 0 |
Hue Adjustment Orange | 0 |
Hue Adjustment Purple | 0 |
Hue Adjustment Red | 0 |
Hue Adjustment Yellow | 0 |
Hyperfocal Distance | 561.63 m |
ISO | 800 |
Image Size | 2048x1362 |
Lens | HD PENTAX-DA 55-300mm F4-5.8 ED WR |
Lens ID | Unknown (7 203) |
Lens Info | 55-300mm f/4-5.8 |
Lens Manual Distortion Amount | 0 |
Lens Model | HD PENTAX-DA 55-300mm F4-5.8 ED WR |
Lens Profile Enable | 0 |
Lens Profile Setup | LensDefaults |
Light Value | 13.0 |
Look Amount | 1.000000 |
Look Group | Profiles |
Look Name | Adobe Color |
Look Parameters Camera Profile | Adobe Standard |
Look Parameters Convert To Grayscale | False |
Look Parameters Look Table | E1095149FDB39D7A057BAB208837E2 E1 |
Look Parameters Process Version | 11.0 |
Look Parameters Tone Curve PV2012 | 0, 0, 22, 16, 40, 35, 127, 127, 224, 230, 240, 246, 255, 255 |
Look Parameters Tone Curve PV2012 Blue | 0, 0, 255, 255 |
Look Parameters Tone Curve PV2012 Green | 0, 0, 255, 255 |
Look Parameters Tone Curve PV2012 Red | 0, 0, 255, 255 |
Look Parameters Version | 12.2 |
Look Supports Amount | false |
Look Supports Monochrome | false |
Look Supports Output Referred | false |
Luminance Adjustment Aqua | 0 |
Luminance Adjustment Blue | 0 |
Luminance Adjustment Green | 0 |
Luminance Adjustment Magenta | 0 |
Luminance Adjustment Orange | 0 |
Luminance Adjustment Purple | 0 |
Luminance Adjustment Red | 0 |
Luminance Adjustment Yellow | 0 |
Luminance Smoothing | 0 |
Metering Mode | Spot |
Override Look Vignette | False |
Parametric Darks | 0 |
Parametric Highlight Split | 75 |
Parametric Highlights | 0 |
Parametric Lights | 0 |
Parametric Midtone Split | 50 |
Parametric Shadow Split | 25 |
Parametric Shadows | 0 |
Perspective Aspect | 0 |
Perspective Horizontal | 0 |
Perspective Rotate | 0.0 |
Perspective Scale | 100 |
Perspective Upright | 0 |
Perspective Vertical | 0 |
Perspective X | 0.00 |
Perspective Y | 0.00 |
Post Crop Vignette Amount | 0 |
Preserved File Name | IMGP5935.PEF |
Process Version | 11.0 |
Raw File Name | IMGP5935.PEF |
Red Hue | 0 |
Red Saturation | 0 |
Rights | COLINASHCROFT@PYEGROVE.CO.UK |
Saturation | Normal |
Saturation Adjustment Aqua | 0 |
Saturation Adjustment Blue | 0 |
Saturation Adjustment Green | 0 |
Saturation Adjustment Magenta | 0 |
Saturation Adjustment Orange | 0 |
Saturation Adjustment Purple | 0 |
Saturation Adjustment Red | 0 |
Saturation Adjustment Yellow | 0 |
Scale Factor To 35 mm Equivalent | 1.5 |
Scene Capture Type | Standard |
Sensing Method | One-chip color area |
Sensitivity Type | Standard Output Sensitivity |
Shadow Tint | 0 |
Shadows 2012 | +64 |
Sharpen Detail | 25 |
Sharpen Edge Masking | 0 |
Sharpen Radius | +1.0 |
Sharpness | Hard |
Split Toning Balance | 0 |
Split Toning Highlight Hue | 0 |
Split Toning Highlight Saturation | 0 |
Split Toning Shadow Hue | 0 |
Split Toning Shadow Saturation | 0 |
Standard Output Sensitivity | 800 |
Subject Distance Range | Close |
Texture | +10 |
Tint | +17 |
Tone Curve | 0, 0, 255, 255 |
Tone Curve Blue | 0, 0, 255, 255 |
Tone Curve Green | 0, 0, 255, 255 |
Tone Curve Name | Linear |
Tone Curve Name 2012 | Linear |
Tone Curve PV2012 | 0, 0, 255, 255 |
Tone Curve PV2012 Blue | 0, 0, 255, 255 |
Tone Curve PV2012 Green | 0, 0, 255, 255 |
Tone Curve PV2012 Red | 0, 0, 255, 255 |
Tone Curve Red | 0, 0, 255, 255 |
Tone Map Strength | 0 |
Version | 12.2 |
Vibrance | 0 |
Vignette Amount | 0 |
White Balance | Auto |
Whites 2012 | -80 |