Shooting information for this photo
Camera: | Canon EOS 5D Mark IV |
Exposure: | 0.00156 sec. (1/640) |
Aperture: | f/4.0 |
Focal Length: | 99.0 mm (35 mm equivalent: 332.4 mm) |
Flash: | Off, Did not fire |
Exposure mode: | Aperture-priority AE |
Max Aperture: | 4.0 |
Resolution: | 300 x 300 dpi |
Dimension: | 2000 x 1336 pixels |
Original Date: | 2021:08:22 16:36:04.35 |
Created on: | 2021:08:22 16:36:04.35 |
Modified on: | 2022:10:07 21:49:18.35 |
Software: | Adobe Photoshop CC 2019 (Windows) |
Already Applied | True |
Approximate Focus Distance | 6.51 |
Artist | ABSutter |
Auto Lateral CA | 0 |
Auto White Version | 134348800 |
Blacks 2012 | +26 |
Blue Hue | 0 |
Blue Saturation | 0 |
Camera Profile | Adobe Standard |
Circle Of Confusion | 0.009 mm |
Circular Gradient Based Corrections Correction Active | true |
Circular Gradient Based Corrections Correction Amount | 1.000000 |
Circular Gradient Based Corrections Correction Masks Angle | 0.000000 |
Circular Gradient Based Corrections Correction Masks Bottom | 0.256089 |
Circular Gradient Based Corrections Correction Masks Feather | +84 |
Circular Gradient Based Corrections Correction Masks Flipped | true |
Circular Gradient Based Corrections Correction Masks Left | 0.748913 |
Circular Gradient Based Corrections Correction Masks Mask Value | 1.000000 |
Circular Gradient Based Corrections Correction Masks Midpoint | +50 |
Circular Gradient Based Corrections Correction Masks Right | 0.817801 |
Circular Gradient Based Corrections Correction Masks Roundness | 0 |
Circular Gradient Based Corrections Correction Masks Top | 0.127542 |
Circular Gradient Based Corrections Correction Masks Version | +2 |
Circular Gradient Based Corrections Correction Masks What | Mask/CircularGradient |
Circular Gradient Based Corrections Correction Range Mask Color Amount | 0.500000 |
Circular Gradient Based Corrections Correction Range Mask Depth Feather | 0.500000 |
Circular Gradient Based Corrections Correction Range Mask Depth Max | 1.000000 |
Circular Gradient Based Corrections Correction Range Mask Depth Min | 0.000000 |
Circular Gradient Based Corrections Correction Range Mask Lum Feather | 0.500000 |
Circular Gradient Based Corrections Correction Range Mask Lum Max | 1.000000 |
Circular Gradient Based Corrections Correction Range Mask Lum Min | 0.000000 |
Circular Gradient Based Corrections Correction Range Mask Type | 0 |
Circular Gradient Based Corrections Correction Range Mask Version | +2 |
Circular Gradient Based Corrections Local Blacks 2012 | 0.100000 |
Circular Gradient Based Corrections Local Brightness | 0.000000 |
Circular Gradient Based Corrections Local Clarity | 0.000000 |
Circular Gradient Based Corrections Local Clarity 2012 | 0.190000 |
Circular Gradient Based Corrections Local Contrast | 0.000000 |
Circular Gradient Based Corrections Local Contrast 2012 | 0.000000 |
Circular Gradient Based Corrections Local Defringe | 0.000000 |
Circular Gradient Based Corrections Local Dehaze | 0.000000 |
Circular Gradient Based Corrections Local Exposure | 0.000000 |
Circular Gradient Based Corrections Local Exposure 2012 | 0.162500 |
Circular Gradient Based Corrections Local Highlights 2012 | -1.000000 |
Circular Gradient Based Corrections Local Luminance Noise | 0.350000 |
Circular Gradient Based Corrections Local Moire | 0.000000 |
Circular Gradient Based Corrections Local Saturation | 0.000000 |
Circular Gradient Based Corrections Local Shadows 2012 | 0.130000 |
Circular Gradient Based Corrections Local Sharpness | 0.410000 |
Circular Gradient Based Corrections Local Temperature | 0.000000 |
Circular Gradient Based Corrections Local Texture | 0.070000 |
Circular Gradient Based Corrections Local Tint | 0.000000 |
Circular Gradient Based Corrections Local Toning Hue | 0.000000 |
Circular Gradient Based Corrections Local Toning Saturation | 0.010000 |
Circular Gradient Based Corrections Local Whites 2012 | -0.600000 |
Circular Gradient Based Corrections What | Correction |
Clarity 2012 | +19 |
Color Mode | RGB |
Color Noise Reduction | 25 |
Color Noise Reduction Detail | 50 |
Color Noise Reduction Smoothness | 50 |
Color Space | Uncalibrated |
Color Temperature | 4200 |
Contrast 2012 | +6 |
Convert To Grayscale | False |
Creator | ABSutter |
Custom Rendered | Normal |
Date Created | 2021:08:22 16:36:04.035+02:00 |
Defringe Green Amount | 0 |
Defringe Green Hue Hi | 60 |
Defringe Green Hue Lo | 40 |
Defringe Purple Amount | 0 |
Defringe Purple Hue Hi | 70 |
Defringe Purple Hue Lo | 30 |
Dehaze | 0 |
Distortion Correction Already Applied | True |
Exposure 2012 | +0.10 |
Exposure Compensation | 0 |
Exposure Mode | Auto |
Field Of View | 6.2 deg |
Firmware | 1.1.2 |
Flash Compensation | 0 |
Format | image/jpeg |
Grain Amount | 0 |
Green Hue | 0 |
Green Saturation | 0 |
Has Crop | False |
Has Settings | True |
Highlights 2012 | -81 |
Hue Adjustment Aqua | 0 |
Hue Adjustment Blue | 0 |
Hue Adjustment Green | 0 |
Hue Adjustment Magenta | 0 |
Hue Adjustment Orange | 0 |
Hue Adjustment Purple | 0 |
Hue Adjustment Red | 0 |
Hue Adjustment Yellow | 0 |
Hyperfocal Distance | 273.84 m |
ICC Profile Name | Adobe RGB (1998) |
ISO | 200 |
Image Number | 0 |
Image Size | 2000x1336 |
Lens | EF24-105mm f/4L IS USM |
Lens ID | Canon EF 24-105mm f/4L IS |
Lens Info | 24-105mm f/? |
Lens Manual Distortion Amount | 0 |
Lens Model | EF24-105mm f/4L IS USM |
Lens Profile Chromatic Aberration Scale | 100 |
Lens Profile Distortion Scale | 100 |
Lens Profile Enable | 1 |
Lens Profile Filename | Canon EOS-1Ds Mark III (Canon EF 24-105mm f4 L IS USM) - RAW.lcp |
Lens Profile Name | Adobe (Canon EF 24-105mm f/4 L IS USM) |
Lens Profile Setup | LensDefaults |
Lens Profile Vignetting Scale | 100 |
Light Value | 12.3 |
Look Amount | 1.000000 |
Look Copyright | © 2018 Adobe Systems, Inc. |
Look Group | Profiles |
Look Name | Adobe Color |
Look Parameters Camera Profile | Adobe Standard |
Look Parameters Convert To Grayscale | False |
Look Parameters Look Table | E1095149FDB39D7A057BAB208837E2 E1 |
Look Parameters Process Version | 11.0 |
Look Parameters Tone Curve PV2012 | 0, 0, 22, 16, 40, 35, 127, 127, 224, 230, 240, 246, 255, 255 |
Look Parameters Tone Curve PV2012 Blue | 0, 0, 255, 255 |
Look Parameters Tone Curve PV2012 Green | 0, 0, 255, 255 |
Look Parameters Tone Curve PV2012 Red | 0, 0, 255, 255 |
Look Parameters Version | 12.2.1 |
Look Supports Amount | false |
Look Supports Monochrome | false |
Look Supports Output Referred | false |
Luminance Adjustment Aqua | 0 |
Luminance Adjustment Blue | 0 |
Luminance Adjustment Green | 0 |
Luminance Adjustment Magenta | 0 |
Luminance Adjustment Orange | 0 |
Luminance Adjustment Purple | 0 |
Luminance Adjustment Red | 0 |
Luminance Adjustment Yellow | 0 |
Luminance Smoothing | 0 |
Metering Mode | Multi-segment |
Override Look Vignette | False |
Parametric Darks | 0 |
Parametric Highlight Split | 75 |
Parametric Highlights | 0 |
Parametric Lights | 0 |
Parametric Midtone Split | 50 |
Parametric Shadow Split | 25 |
Parametric Shadows | 0 |
Perspective Aspect | 0 |
Perspective Horizontal | 0 |
Perspective Rotate | 0.0 |
Perspective Scale | 100 |
Perspective Upright | 1 |
Perspective Vertical | 0 |
Perspective X | 0.00 |
Perspective Y | 0.00 |
Photometric Interpretation | RGB |
Post Crop Vignette Amount | 0 |
Process Version | 11.0 |
Rating | 0 |
Recommended Exposure Index | 200 |
Red Hue | 0 |
Red Saturation | 0 |
Samples Per Pixel | 3 |
Saturation | +1 |
Saturation Adjustment Aqua | 0 |
Saturation Adjustment Blue | 0 |
Saturation Adjustment Green | 0 |
Saturation Adjustment Magenta | 0 |
Saturation Adjustment Orange | 0 |
Saturation Adjustment Purple | 0 |
Saturation Adjustment Red | 0 |
Saturation Adjustment Yellow | 0 |
Scale Factor To 35 mm Equivalent | 3.4 |
Scene Capture Type | Standard |
Sensitivity Type | Recommended Exposure Index |
Shadow Tint | 0 |
Shadows 2012 | +73 |
Sharpen Detail | 25 |
Sharpen Edge Masking | 0 |
Sharpen Radius | +1.0 |
Sharpness | 40 |
Split Toning Balance | 0 |
Split Toning Highlight Hue | 0 |
Split Toning Highlight Saturation | 0 |
Split Toning Shadow Hue | 0 |
Split Toning Shadow Saturation | 0 |
Texture | 0 |
Tint | 0 |
Tone Curve | 0, 0, 32, 22, 64, 56, 128, 128, 192, 196, 255, 255 |
Tone Curve Blue | 0, 0, 255, 255 |
Tone Curve Green | 0, 0, 255, 255 |
Tone Curve Name | Medium Contrast |
Tone Curve Name 2012 | Linear |
Tone Curve PV2012 | 0, 0, 255, 255 |
Tone Curve PV2012 Blue | 0, 0, 255, 255 |
Tone Curve PV2012 Green | 0, 0, 255, 255 |
Tone Curve PV2012 Red | 0, 0, 255, 255 |
Tone Curve Red | 0, 0, 255, 255 |
Tone Map Strength | 0 |
Version | 12.2.1 |
Vibrance | +15 |
Vignette Amount | 0 |
Vignette Correction Already Applied | True |
White Balance | Auto |
Whites 2012 | +5 |