Shooting information for this photo
Camera: | Canon EOS 7D |
Exposure: | 0.005 sec. (1/200) |
Aperture: | f/11.0 |
Focal Length: | 24.0 mm (35 mm equivalent: 37.7 mm) |
Flash: | Off, Did not fire |
Exposure mode: | Aperture-priority AE |
Max Aperture: | 4.0 |
Resolution: | 300 x 300 dpi |
Dimension: | 1024 x 683 pixels |
Original Date: | 2020:03:13 13:37:22.14 |
Created on: | 2020:03:13 13:37:22.14 |
Modified on: | 2020:04:13 18:11:20.14 |
Software: | Adobe Photoshop CS6 (Windows) |
Already Applied | True |
Approximate Focus Distance | 4.47 |
Artist | ABS Photos |
Auto Lateral CA | 0 |
Auto White Version | 134348800 |
Blacks 2012 | +12 |
Blue Hue | 0 |
Blue Saturation | 0 |
Camera Profile | Adobe Standard |
Circle Of Confusion | 0.019 mm |
Clarity 2012 | +18 |
Color Mode | RGB |
Color Noise Reduction | 25 |
Color Noise Reduction Detail | 50 |
Color Noise Reduction Smoothness | 50 |
Color Space | Uncalibrated |
Color Temperature | 5900 |
Contrast 2012 | 0 |
Convert To Grayscale | False |
Creator | ABS Photos, ABSutter |
Custom Rendered | Normal |
Date Created | 2020:03:13 13:37:22.014+01:00 |
Defringe Green Amount | 0 |
Defringe Green Hue Hi | 60 |
Defringe Green Hue Lo | 40 |
Defringe Purple Amount | 0 |
Defringe Purple Hue Hi | 70 |
Defringe Purple Hue Lo | 30 |
Dehaze | 0 |
Exposure 2012 | +0.35 |
Exposure Compensation | 0 |
Exposure Mode | Auto |
Field Of View | 51.1 deg |
Firmware | 1.2.5 |
Flash Compensation | 0 |
Format | image/jpeg |
Grain Amount | 0 |
Green Hue | 0 |
Green Saturation | 0 |
Has Crop | False |
Has Settings | True |
Highlights 2012 | -63 |
Hue Adjustment Aqua | 0 |
Hue Adjustment Blue | 0 |
Hue Adjustment Green | 0 |
Hue Adjustment Magenta | 0 |
Hue Adjustment Orange | 0 |
Hue Adjustment Purple | 0 |
Hue Adjustment Red | 0 |
Hue Adjustment Yellow | 0 |
Hyperfocal Distance | 2.74 m |
ICC Profile Name | Adobe RGB (1998) |
ISO | 200 |
Image Number | 0 |
Image Size | 1024x683 |
Lens | EF24-105mm f/4L IS USM |
Lens ID | Canon EF 24-105mm f/4L IS |
Lens Info | 24-105mm f/? |
Lens Manual Distortion Amount | 0 |
Lens Model | EF24-105mm f/4L IS USM |
Lens Profile Enable | 0 |
Lens Profile Setup | LensDefaults |
Light Value | 13.6 |
Luminance Adjustment Aqua | 0 |
Luminance Adjustment Blue | 0 |
Luminance Adjustment Green | 0 |
Luminance Adjustment Magenta | 0 |
Luminance Adjustment Orange | 0 |
Luminance Adjustment Purple | 0 |
Luminance Adjustment Red | 0 |
Luminance Adjustment Yellow | 0 |
Luminance Smoothing | 0 |
Metering Mode | Multi-segment |
Parametric Darks | 0 |
Parametric Highlight Split | 75 |
Parametric Highlights | 0 |
Parametric Lights | 0 |
Parametric Midtone Split | 50 |
Parametric Shadow Split | 25 |
Parametric Shadows | 0 |
Perspective Aspect | 0 |
Perspective Horizontal | 0 |
Perspective Rotate | 0.0 |
Perspective Scale | 100 |
Perspective Upright | 0 |
Perspective Vertical | 0 |
Post Crop Vignette Amount | 0 |
Process Version | 6.7 |
Rating | 0 |
Raw File Name | _MG_7750.CR2 |
Red Hue | 0 |
Red Saturation | 0 |
Saturation | 0 |
Saturation Adjustment Aqua | 0 |
Saturation Adjustment Blue | 0 |
Saturation Adjustment Green | 0 |
Saturation Adjustment Magenta | 0 |
Saturation Adjustment Orange | 0 |
Saturation Adjustment Purple | 0 |
Saturation Adjustment Red | 0 |
Saturation Adjustment Yellow | 0 |
Scale Factor To 35 mm Equivalent | 1.6 |
Scene Capture Type | Standard |
Shadow Tint | 0 |
Shadows 2012 | 0 |
Sharpen Detail | 25 |
Sharpen Edge Masking | 0 |
Sharpen Radius | +1.0 |
Sharpness | 38 |
Split Toning Balance | 0 |
Split Toning Highlight Hue | 0 |
Split Toning Highlight Saturation | 0 |
Split Toning Shadow Hue | 0 |
Split Toning Shadow Saturation | 0 |
Tint | +12 |
Tone Curve | 0, 0, 32, 22, 64, 56, 128, 128, 192, 196, 255, 255 |
Tone Curve Blue | 0, 0, 255, 255 |
Tone Curve Green | 0, 0, 255, 255 |
Tone Curve Name | Medium Contrast |
Tone Curve Name 2012 | Linear |
Tone Curve PV2012 | 0, 0, 255, 255 |
Tone Curve PV2012 Blue | 0, 0, 255, 255 |
Tone Curve PV2012 Green | 0, 0, 255, 255 |
Tone Curve PV2012 Red | 0, 0, 255, 255 |
Tone Curve Red | 0, 0, 255, 255 |
Tone Map Strength | 0 |
Version | 9.1.1 |
Vibrance | +3 |
Vignette Amount | 0 |
White Balance | Auto |
Whites 2012 | 0 |