Shooting information for this photo
Camera: | RICOH IMAGING COMPANY, LTD. PENTAX K-3 |
Exposure: | 0.02222 sec. (1/45) |
Focal Length: | 85.0 mm (35 mm equivalent: 127.0 mm) |
Flash: | Off, Did not fire |
Exposure mode: | Aperture-priority AE |
Resolution: | 300 x 300 dpi |
Original Date: | 2018:03:03 11:19:16 |
Created on: | 2018:03:03 11:19:16 |
Modified on: | 2018:03:03 15:09:18 |
Software: | Adobe Photoshop Lightroom 4.4 (Windows) |
Copyright: | Kris Lockyear |
Already Applied | True |
Artist | Kris Lockyear |
Auto Lateral CA | 0 |
Blacks 2012 | -33 |
Blue Hue | 0 |
Blue Saturation | 0 |
Camera Profile | Embedded |
Circle Of Confusion | 0.020 mm |
Clarity 2012 | 0 |
Color Noise Reduction | 0 |
Contrast | Normal |
Contrast 2012 | 0 |
Convert To Grayscale | False |
Creator | Kris Lockyear |
Crop Angle | 0 |
Crop Bottom | 0.87069 |
Crop Constrain To Warp | 0 |
Crop Height | 1000 |
Crop Left | 0 |
Crop Right | 1 |
Crop Top | 0 |
Crop Unit | pixels |
Crop Width | 764 |
Date Created | 2018:03:03 11:19:16 |
Defringe Green Amount | 0 |
Defringe Green Hue Hi | 60 |
Defringe Green Hue Lo | 40 |
Defringe Purple Amount | 0 |
Defringe Purple Hue Hi | 70 |
Defringe Purple Hue Lo | 30 |
Exposure 2012 | 0.00 |
Exposure Compensation | 0 |
Exposure Mode | Auto |
Field Of View | 16.1 deg |
Focal Length In 35mm Format | 127 mm |
Format | image/jpeg |
Grain Amount | 0 |
Green Hue | 0 |
Green Saturation | 0 |
Has Crop | True |
Has Settings | True |
Highlights 2012 | 0 |
Hue Adjustment Aqua | 0 |
Hue Adjustment Blue | 0 |
Hue Adjustment Green | 0 |
Hue Adjustment Magenta | 0 |
Hue Adjustment Orange | 0 |
Hue Adjustment Purple | 0 |
Hue Adjustment Red | 0 |
Hue Adjustment Yellow | 0 |
ISO | 800 |
Image Size | 764x1000 |
Incremental Temperature | 0 |
Incremental Tint | 0 |
Lens ID | Unknown (0 0) |
Lens Manual Distortion Amount | 0 |
Lens Profile Enable | 0 |
Lens Profile Setup | LensDefaults |
Luminance Adjustment Aqua | 0 |
Luminance Adjustment Blue | 0 |
Luminance Adjustment Green | 0 |
Luminance Adjustment Magenta | 0 |
Luminance Adjustment Orange | 0 |
Luminance Adjustment Purple | 0 |
Luminance Adjustment Red | 0 |
Luminance Adjustment Yellow | 0 |
Luminance Smoothing | 0 |
Marked | True |
Metering Mode | Center-weighted average |
Parametric Darks | 0 |
Parametric Highlight Split | 75 |
Parametric Highlights | 0 |
Parametric Lights | 0 |
Parametric Midtone Split | 50 |
Parametric Shadow Split | 25 |
Parametric Shadows | 0 |
Perspective Horizontal | 0 |
Perspective Rotate | 0.0 |
Perspective Scale | 100 |
Perspective Vertical | 0 |
Photographic Sensitivity | 800 |
Post Crop Vignette Amount | 0 |
Process Version | 6.7 |
Red Hue | 0 |
Red Saturation | 0 |
Rights | Kris Lockyear |
Saturation | Normal |
Saturation Adjustment Aqua | 0 |
Saturation Adjustment Blue | 0 |
Saturation Adjustment Green | 0 |
Saturation Adjustment Magenta | 0 |
Saturation Adjustment Orange | 0 |
Saturation Adjustment Purple | 0 |
Saturation Adjustment Red | 0 |
Saturation Adjustment Yellow | 0 |
Scale Factor To 35 mm Equivalent | 1.5 |
Scene Capture Type | Standard |
Sensing Method | One-chip color area |
Shadow Tint | 0 |
Shadows 2012 | +60 |
Sharpen Detail | 25 |
Sharpen Edge Masking | 0 |
Sharpen Radius | +1.0 |
Sharpness | Normal |
Split Toning Balance | 0 |
Split Toning Highlight Hue | 0 |
Split Toning Highlight Saturation | 0 |
Split Toning Shadow Hue | 0 |
Split Toning Shadow Saturation | 0 |
Subject | Hertfordshire, Pentax K-3, Wheathanpstead, cold, snow, winter |
Subject Distance Range | Unknown |
Tone Curve Name 2012 | Linear |
Tone Curve PV2012 | 0, 0, 255, 255 |
Tone Curve PV2012 Blue | 0, 0, 255, 255 |
Tone Curve PV2012 Green | 0, 0, 255, 255 |
Tone Curve PV2012 Red | 0, 0, 255, 255 |
Version | 7.4 |
Vibrance | 0 |
Vignette Amount | 0 |
White Balance | Auto |
Whites 2012 | 0 |
GPS Information |
GPS Altitude | 118.4 m Above Sea Level |
GPS Altitude Ref | Above Sea Level |
GPS Date Stamp | 2018:03:03 |
GPS Date/Time | 2018:03:03 10:19:12Z |
GPS Img Direction | 95.57 |
GPS Img Direction Ref | True North |
GPS Latitude | 51 deg 49' 42.57" N |
GPS Latitude Ref | North |
GPS Longitude | 0 deg 17' 26.18" W |
GPS Longitude Ref | West |
GPS Map Datum | WGS-84 |
GPS Measure Mode | 3-Dimensional Measurement |
GPS Position | 51 deg 49' 42.57" N, 0 deg 17' 26.18" W |
GPS Satellites | 07 |
GPS Speed | 1.36 |
GPS Speed Ref | km/h |
GPS Status | Measurement Active |
GPS Time Stamp | 10:19:12 |
GPS Track | 230.14 |
GPS Track Ref | True North |
GPS Version ID | 2.3.0.0 |