Shooting information for this photo
Camera: | NORITSU KOKI QSS-32_33 |
Resolution: | 240 x 240 dpi |
Modified on: | 2012:05:19 22:33:06 |
Software: | QSS-32_33 6.00.022 2006.04.06 |
Copyright: | Kris Lockyear |
Already Applied | True |
Blue Hue | 0 |
Blue Saturation | 0 |
Brightness | 0 |
Camera Profile | Embedded |
Chromatic Aberration B | 0 |
Chromatic Aberration R | 0 |
Clarity | 0 |
Color Noise Reduction | 0 |
Contrast | 0 |
Convert To Grayscale | True |
Creator | Kris Lockyear |
Crop Angle | -0.446407 |
Crop Bottom | 0.988611 |
Crop Height | 541 |
Crop Left | 0.022446 |
Crop Right | 0.996971 |
Crop Top | 0.011389 |
Crop Unit | pixels |
Crop Width | 800 |
Defringe | 0 |
Exposure | 0.00 |
Fill Light | 0 |
Gray Mixer Aqua | -18 |
Gray Mixer Blue | +9 |
Gray Mixer Green | -27 |
Gray Mixer Magenta | +4 |
Gray Mixer Orange | -19 |
Gray Mixer Purple | +15 |
Gray Mixer Red | -9 |
Gray Mixer Yellow | -22 |
Green Hue | 0 |
Green Saturation | 0 |
Has Crop | True |
Has Settings | True |
Highlight Recovery | 0 |
Image Size | 541x800 |
Incremental Temperature | 0 |
Incremental Tint | 0 |
Luminance Smoothing | 0 |
Marked | True |
Parametric Darks | -16 |
Parametric Highlight Split | 75 |
Parametric Highlights | 0 |
Parametric Lights | -9 |
Parametric Midtone Split | 50 |
Parametric Shadow Split | 25 |
Parametric Shadows | 0 |
Red Hue | 0 |
Red Saturation | 0 |
Rights | Kris Lockyear |
Shadow Tint | 0 |
Shadows | 2 |
Sharpen Detail | 25 |
Sharpen Edge Masking | 0 |
Sharpen Radius | +1.0 |
Sharpness | 0 |
Split Toning Balance | 0 |
Split Toning Highlight Hue | 0 |
Split Toning Highlight Saturation | 0 |
Split Toning Shadow Hue | 0 |
Split Toning Shadow Saturation | 0 |
Subject | Kodak Tmax 100, Pentax ES |
Tone Curve | 0, 0, 255, 255 |
Tone Curve Name | Linear |
Usage Terms | all rights reserved |
Version | 4.4.1 |
Vignette Amount | 0 |
White Balance | As Shot |