Shooting information for this photo
Camera: | NORITSU KOKI QSS-32_33 |
Resolution: | 300 x 300 dpi |
Modified on: | 2013:04:17 21:51:47 |
Software: | QSS-32_33 6.00.022 2006.04.06 |
Already Applied | True |
Blue Hue | 0 |
Blue Saturation | 0 |
Brightness | 0 |
Camera Profile | Embedded |
Chromatic Aberration B | 0 |
Chromatic Aberration R | 0 |
Clarity | 0 |
Color Noise Reduction | 0 |
Contrast | 0 |
Convert To Grayscale | True |
Crop Angle | 0 |
Crop Bottom | 1 |
Crop Height | 800 |
Crop Left | 0.007218 |
Crop Right | 0.992782 |
Crop Top | 0 |
Crop Unit | pixels |
Crop Width | 800 |
Defringe | 0 |
Exposure | 0.00 |
Fill Light | 46 |
Gray Mixer Aqua | -18 |
Gray Mixer Blue | +9 |
Gray Mixer Green | -27 |
Gray Mixer Magenta | +4 |
Gray Mixer Orange | -19 |
Gray Mixer Purple | +15 |
Gray Mixer Red | -9 |
Gray Mixer Yellow | -22 |
Green Hue | 0 |
Green Saturation | 0 |
Has Crop | True |
Has Settings | True |
Highlight Recovery | 0 |
Image Size | 800x800 |
Incremental Temperature | 0 |
Incremental Tint | 0 |
Luminance Smoothing | 0 |
Parametric Darks | +19 |
Parametric Highlight Split | 75 |
Parametric Highlights | 0 |
Parametric Lights | -18 |
Parametric Midtone Split | 50 |
Parametric Shadow Split | 25 |
Parametric Shadows | 0 |
Red Hue | 0 |
Red Saturation | 0 |
Shadow Tint | 0 |
Shadows | 0 |
Sharpen Detail | 25 |
Sharpen Edge Masking | 0 |
Sharpen Radius | +1.0 |
Sharpness | 0 |
Split Toning Balance | 0 |
Split Toning Highlight Hue | 0 |
Split Toning Highlight Saturation | 0 |
Split Toning Shadow Hue | 0 |
Split Toning Shadow Saturation | 0 |
Subject | Agfa Isolette, Tri-X |
Tone Curve | 0, 0, 255, 255 |
Tone Curve Name | Linear |
Version | 4.4.1 |
Vignette Amount | 0 |
White Balance | As Shot |