Shooting information for this photo
Camera: | PENTAX K20D |
Exposure: | 8 sec. |
Aperture: | f/10.0 |
Focal Length: | 15.0 mm (35 mm equivalent: 22.0 mm) |
Flash: | Off, Did not fire |
Exposure mode: | Manual |
Resolution: | 240 x 240 dpi |
Original Date: | 2011:03:12 08:23:32 |
Digitized Date: | 2011:03:12 08:23:32Z |
Created on: | 2011:03:12 08:23:32 |
Modified on: | 2011:03:30 14:59:04 |
Software: | K20D Ver 1.03 |
Copyright: | Kris Lockyear |
Already Applied | True |
Blue Hue | 0 |
Blue Saturation | +63 |
Brightness | +57 |
CFA Pattern | [Blue,Green][Green,Red] |
Camera Profile | ACR 2.4 |
Chromatic Aberration B | 0 |
Chromatic Aberration R | 0 |
Circle Of Confusion | 0.020 mm |
Clarity | 0 |
Color Noise Reduction | 25 |
Color Temperature | 6800 |
Contrast | High |
Convert To Grayscale | True |
Creator | Kris Lockyear |
Crop Angle | 0 |
Crop Bottom | 1 |
Crop Height | 579 |
Crop Left | 0.082524 |
Crop Right | 1 |
Crop Top | 0 |
Crop Unit | pixels |
Crop Width | 800 |
Custom Rendered | Normal |
Defringe | 0 |
Exposure | +0.70 |
Exposure Compensation | 0 |
Exposure Mode | Manual |
Field Of View | 78.6 deg |
Fill Light | 0 |
Flash Fired | False |
Flash Function | False |
Flash Mode | Off |
Flash Red Eye Mode | False |
Flash Return | No return detection |
Focal Length In 35mm Format | 22 mm |
Gray Mixer Aqua | -13 |
Gray Mixer Blue | +16 |
Gray Mixer Green | -19 |
Gray Mixer Magenta | +19 |
Gray Mixer Orange | -5 |
Gray Mixer Purple | +25 |
Gray Mixer Red | +10 |
Gray Mixer Yellow | -12 |
Green Hue | 0 |
Green Saturation | 0 |
Has Crop | True |
Has Settings | True |
Highlight Recovery | 0 |
Hyperfocal Distance | 1.10 m |
ISO | 200 |
Image Size | 579x800 |
Lens | smc PENTAX-DA 12-24mm F4 ED AL [IF] |
Lens ID | smc PENTAX-DA 12-24mm F4 ED AL [IF] |
Lens Info | 12-24mm f/4 |
Light Value | 2.6 |
Luminance Smoothing | 0 |
Marked | True |
Metering Mode | Center-weighted average |
Parametric Darks | -66 |
Parametric Highlight Split | 75 |
Parametric Highlights | 0 |
Parametric Lights | +18 |
Parametric Midtone Split | 50 |
Parametric Shadow Split | 25 |
Parametric Shadows | -14 |
Red Hue | 0 |
Red Saturation | -34 |
Rights | Kris Lockyear |
Saturation | Normal |
Scale Factor To 35 mm Equivalent | 1.5 |
Scene Capture Type | Standard |
Sensing Method | One-chip color area |
Shadow Tint | 0 |
Shadows | 8 |
Sharpen Detail | 50 |
Sharpen Edge Masking | 0 |
Sharpen Radius | +1.0 |
Sharpness | Hard |
Split Toning Balance | 0 |
Split Toning Highlight Hue | 50 |
Split Toning Highlight Saturation | 52 |
Split Toning Shadow Hue | 30 |
Split Toning Shadow Saturation | 33 |
Subject | Pentax K20D, Venice |
Subject Distance Range | Close |
Tint | +63 |
Tone Curve | 0, 0, 255, 255 |
Tone Curve Name | Linear |
Usage Terms | all rights reserved |
Version | 4.4.1 |
Vignette Amount | -41 |
Vignette Midpoint | 48 |
White Balance | Auto |