Shooting information for this photo
Camera: | NORITSU KOKI QSS-32_33 |
Resolution: | 240 x 240 dpi |
Modified on: | 2011:02:25 14:54:05 |
Software: | QSS-32_33 6.00.022 2006.04.06 |
Copyright: | Kris Lockyear |
Already Applied | True |
Blue Hue | 0 |
Blue Saturation | 0 |
Brightness | 0 |
Camera Profile | Embedded |
Chromatic Aberration B | 0 |
Chromatic Aberration R | 0 |
Clarity | 0 |
Color Noise Reduction | 0 |
Contrast | 0 |
Convert To Grayscale | False |
Creator | Kris Lockyear |
Defringe | 0 |
Exposure | 0.00 |
Fill Light | 0 |
Green Hue | 0 |
Green Saturation | 0 |
Has Crop | False |
Has Settings | True |
Highlight Recovery | 82 |
Hue Adjustment Aqua | 0 |
Hue Adjustment Blue | 0 |
Hue Adjustment Green | 0 |
Hue Adjustment Magenta | 0 |
Hue Adjustment Orange | 0 |
Hue Adjustment Purple | 0 |
Hue Adjustment Red | 0 |
Hue Adjustment Yellow | 0 |
Image Size | 800x531 |
Incremental Temperature | 0 |
Incremental Tint | 0 |
Luminance Adjustment Aqua | 0 |
Luminance Adjustment Blue | 0 |
Luminance Adjustment Green | 0 |
Luminance Adjustment Magenta | 0 |
Luminance Adjustment Orange | 0 |
Luminance Adjustment Purple | 0 |
Luminance Adjustment Red | 0 |
Luminance Adjustment Yellow | 0 |
Luminance Smoothing | 0 |
Marked | True |
Parametric Darks | -25 |
Parametric Highlight Split | 75 |
Parametric Highlights | 0 |
Parametric Lights | -6 |
Parametric Midtone Split | 50 |
Parametric Shadow Split | 25 |
Parametric Shadows | 0 |
Red Hue | 0 |
Red Saturation | 0 |
Rights | Kris Lockyear |
Saturation | 0 |
Saturation Adjustment Aqua | 0 |
Saturation Adjustment Blue | 0 |
Saturation Adjustment Green | 0 |
Saturation Adjustment Magenta | 0 |
Saturation Adjustment Orange | 0 |
Saturation Adjustment Purple | 0 |
Saturation Adjustment Red | 0 |
Saturation Adjustment Yellow | 0 |
Shadow Tint | 0 |
Shadows | 0 |
Sharpen Detail | 25 |
Sharpen Edge Masking | 0 |
Sharpen Radius | +1.0 |
Sharpness | 0 |
Split Toning Balance | 0 |
Split Toning Highlight Hue | 0 |
Split Toning Highlight Saturation | 0 |
Split Toning Shadow Hue | 0 |
Split Toning Shadow Saturation | 0 |
Subject | Koadak BW400CN |
Tone Curve | 0, 0, 255, 255 |
Tone Curve Name | Linear |
Usage Terms | all rights reserved |
Version | 4.4.1 |
Vibrance | 0 |
Vignette Amount | 0 |
White Balance | As Shot |