Shooting information for this photo
Camera: | PENTAX K20D |
Exposure: | 0.125 sec. (1/8) |
Focal Length: | 135.0 mm |
Resolution: | 240 x 240 dpi |
Original Date: | 2010:11:01 18:31:06 |
Modified on: | 2010:11:03 10:26:29 |
Copyright: | Kris Lockyear |
Already Applied | True |
Black Clip | 0.000000 |
Blue Hue | 0 |
Blue Saturation | 0 |
Brightness | 0 |
Camera Profile | Embedded |
Chromatic Aberration B | 0 |
Chromatic Aberration R | 0 |
Clarity | 0 |
Color Noise Reduction | 0 |
Color Temperature | 0.0 |
Contrast | 3.0 |
Convert To Grayscale | False |
Creator | Kris Lockyear |
Crop Angle | 0.847509 |
Crop Bottom | 0.993962 |
Crop Height | 800 |
Crop Left | 0.021719 |
Crop Right | 0.978281 |
Crop Top | 0.006038 |
Crop Unit | pixels |
Crop Width | 533 |
Defringe | 0 |
Exposure | 0.00 |
Fill Light | 0 |
Green Hue | 0 |
Green Saturation | 0 |
Has Crop | True |
Has Settings | True |
Highlight Recovery | 0 |
Hue Adjustment Aqua | 0 |
Hue Adjustment Blue | 0 |
Hue Adjustment Green | 0 |
Hue Adjustment Magenta | 0 |
Hue Adjustment Orange | -14 |
Hue Adjustment Purple | 0 |
Hue Adjustment Red | -12 |
Hue Adjustment Yellow | 0 |
ISO | 200 |
Image Size | 533x800 |
Incremental Temperature | 0 |
Incremental Tint | 0 |
Luminance Adjustment Aqua | 0 |
Luminance Adjustment Blue | 0 |
Luminance Adjustment Green | -45 |
Luminance Adjustment Magenta | 0 |
Luminance Adjustment Orange | +21 |
Luminance Adjustment Purple | 0 |
Luminance Adjustment Red | +21 |
Luminance Adjustment Yellow | -12 |
Luminance Smoothing | 0 |
Marked | True |
Method | Tone Compressor |
Parametric Darks | 0 |
Parametric Highlight Split | 75 |
Parametric Highlights | 0 |
Parametric Lights | 0 |
Parametric Midtone Split | 50 |
Parametric Shadow Split | 25 |
Parametric Shadows | 0 |
Red Hue | 0 |
Red Saturation | 0 |
Rights | Kris Lockyear |
Saturation | -2.6 |
Saturation Adjustment Aqua | -12 |
Saturation Adjustment Blue | 0 |
Saturation Adjustment Green | -31 |
Saturation Adjustment Magenta | 0 |
Saturation Adjustment Orange | +29 |
Saturation Adjustment Purple | 0 |
Saturation Adjustment Red | +29 |
Saturation Adjustment Yellow | -12 |
Shadow Tint | 0 |
Shadows | 0 |
Sharpen Detail | 25 |
Sharpen Edge Masking | 0 |
Sharpen Radius | +1.0 |
Sharpness | 0 |
Split Toning Balance | 0 |
Split Toning Highlight Hue | 0 |
Split Toning Highlight Saturation | 0 |
Split Toning Shadow Hue | 0 |
Split Toning Shadow Saturation | 0 |
Subject | Broncos, Wembley |
Tone Curve | 0, 0, 255, 255 |
Tone Curve Name | Linear |
Usage Terms | all rights reserved |
Version | 4.4.1 |
Vibrance | 0 |
Vignette Amount | 0 |
White Balance | As Shot |
White Clip | 0.000000 |