Shooting information for this photo
Camera: | PENTAX K20D |
Exposure: | 0.008 sec. (1/125) |
Aperture: | f/8.0 |
Focal Length: | 123.0 mm (35 mm equivalent: 184.0 mm) |
Flash: | Off, Did not fire |
Exposure mode: | Aperture-priority AE |
Resolution: | 300 x 300 dpi |
Original Date: | 2010:08:08 11:37:29 |
Digitized Date: | 2010:08:08 11:37:29+01:00 |
Created on: | 2010:08:08 11:37:29 |
Modified on: | 2010:08:12 19:24:42 |
Software: | K20D Ver 1.03 |
Already Applied | True |
Blue Hue | 0 |
Blue Saturation | 0 |
Brightness | +50 |
CFA Pattern | [Blue,Green][Green,Red] |
Camera Profile | ACR 4.4 |
Chromatic Aberration B | 0 |
Chromatic Aberration R | 0 |
Circle Of Confusion | 0.020 mm |
Clarity | 0 |
Color Noise Reduction | 25 |
Color Temperature | 4700 |
Contrast | High |
Convert To Grayscale | True |
Custom Rendered | Normal |
Defringe | 0 |
Exposure | +0.95 |
Exposure Compensation | +0.7 |
Exposure Mode | Manual |
Field Of View | 11.2 deg |
Fill Light | 0 |
Flash Fired | False |
Flash Function | False |
Flash Mode | Off |
Flash Red Eye Mode | False |
Flash Return | No return detection |
Focal Length In 35mm Format | 184 mm |
Gray Mixer Aqua | -19 |
Gray Mixer Blue | +6 |
Gray Mixer Green | -24 |
Gray Mixer Magenta | +4 |
Gray Mixer Orange | -15 |
Gray Mixer Purple | +13 |
Gray Mixer Red | -7 |
Gray Mixer Yellow | -19 |
Green Hue | 0 |
Green Saturation | 0 |
Has Crop | False |
Has Settings | True |
Highlight Recovery | 0 |
Hyperfocal Distance | 94.15 m |
ISO | 200 |
Image Size | 532x800 |
Lens | smc PENTAX-DA* 50-135mm F2.8 ED [IF] SDM |
Lens ID | smc PENTAX-DA* 50-135mm F2.8 ED [IF] SDM |
Lens Info | 50-135mm f/2.8 |
Light Value | 12.0 |
Luminance Smoothing | 0 |
Metering Mode | Multi-segment |
Parametric Darks | -32 |
Parametric Highlight Split | 75 |
Parametric Highlights | 0 |
Parametric Lights | +17 |
Parametric Midtone Split | 50 |
Parametric Shadow Split | 25 |
Parametric Shadows | 0 |
Red Hue | 0 |
Red Saturation | 0 |
Saturation | Normal |
Scale Factor To 35 mm Equivalent | 1.5 |
Scene Capture Type | Standard |
Sensing Method | One-chip color area |
Shadow Tint | 0 |
Shadows | 10 |
Sharpen Detail | 25 |
Sharpen Edge Masking | 0 |
Sharpen Radius | +1.0 |
Sharpness | Hard |
Split Toning Balance | 0 |
Split Toning Highlight Hue | 0 |
Split Toning Highlight Saturation | 0 |
Split Toning Shadow Hue | 0 |
Split Toning Shadow Saturation | 0 |
Subject | Bucharest, Romania |
Subject Distance Range | Distant |
Tint | -3 |
Tone Curve | 0, 0, 32, 22, 64, 56, 128, 128, 192, 196, 255, 255 |
Tone Curve Name | Medium Contrast |
Version | 4.4.1 |
Vignette Amount | 0 |
White Balance | Auto |