Shooting information for this photo
Camera: | PENTAX K20D |
Exposure: | 0.4 sec. |
Aperture: | f/22.0 |
Focal Length: | 23.0 mm |
Resolution: | 240 x 240 dpi |
Dimension: | 800 x 517 pixels |
Original Date: | 2010:04:14 19:03:06 |
Created on: | 2010:04:14 19:03:06+01:00 |
Modified on: | 2010:04:15 02:05:05 |
Copyright: | Kris Lockyear |
Already Applied | True |
Black Clip | 1.039250 |
Blue Hue | 0 |
Blue Saturation | 0 |
Brightness | 0 |
Camera Profile | Embedded |
Chromatic Aberration B | 0 |
Chromatic Aberration R | 0 |
Clarity | 0 |
Color Noise Reduction | 0 |
Color Saturation | 57 |
Color Temperature | 0 |
Contrast | 0 |
Convert To Grayscale | True |
Creator | Kris Lockyear |
Crop Angle | 0 |
Crop Bottom | 0.970803 |
Crop Height | 517 |
Crop Left | 0 |
Crop Right | 1 |
Crop Top | 0 |
Crop Unit | pixels |
Crop Width | 800 |
Defringe | 0 |
Exposure | 0.00 |
Fill Light | 0 |
Gamma | 1.375542 |
Grain Amount | 0 |
Gray Mixer Aqua | -13 |
Gray Mixer Blue | -7 |
Gray Mixer Green | -29 |
Gray Mixer Magenta | +5 |
Gray Mixer Orange | -27 |
Gray Mixer Purple | +21 |
Gray Mixer Red | -13 |
Gray Mixer Yellow | -46 |
Green Hue | 0 |
Green Saturation | 0 |
Has Crop | True |
Has Settings | True |
Highlight Recovery | 0 |
Highlights Smoothing | 0 |
ISO | 200 |
Image Size | 800x517 |
Incremental Temperature | 0 |
Incremental Tint | 0 |
Light Value | 9.2 |
Luminance Smoothing | 0 |
Luminosity | 0 |
Marked | True |
Method | Details Enhancer |
Microcontrast | 0 |
Microsmoothing | 2 |
Paint Correction Active | true |
Paint Correction Amount | 1.000000 |
Paint Correction Brightness | 0.000000 |
Paint Correction Clarity | 0.000000 |
Paint Correction Contrast | 0.000000 |
Paint Correction Exposure | 0.210000 |
Paint Correction Hue | 0.000000 |
Paint Correction Mask Center Weight | 0.000000 |
Paint Correction Mask Flow | 0.702000 |
Paint Correction Mask Radius | 0.255274 |
Paint Correction Mask Value | 1.000000 |
Paint Correction Mask What | Mask/Paint |
Paint Correction Saturation | 0.000000 |
Paint Correction Sharpness | 0.000000 |
Paint Correction What | Correction |
Parametric Darks | -18 |
Parametric Highlight Split | 75 |
Parametric Highlights | -39 |
Parametric Lights | +68 |
Parametric Midtone Split | 50 |
Parametric Shadow Split | 25 |
Parametric Shadows | 0 |
Post Crop Vignette Amount | 0 |
Process Version | 5.7 |
Red Hue | 0 |
Red Saturation | 0 |
Rights | Kris Lockyear |
Saturation Highlights | 0 |
Saturation Shadows | 0 |
Shadow Tint | 0 |
Shadows | 0 |
Shadows Clipping | 0 |
Shadows Smoothing | 0 |
Sharpen Detail | 25 |
Sharpen Edge Masking | 0 |
Sharpen Radius | +1.0 |
Sharpness | 0 |
Smoothing | High |
Split Toning Balance | 0 |
Split Toning Highlight Hue | 0 |
Split Toning Highlight Saturation | 0 |
Split Toning Shadow Hue | 0 |
Split Toning Shadow Saturation | 0 |
Strength | 70 |
Tone Curve | 0, 0, 255, 255 |
Tone Curve Name | Linear |
Version | 6.0 |
Vignette Amount | 0 |
White Balance | As Shot |
White Clip | 0.393150 |