Shooting information for this photo
Camera: | PENTAX K20D |
Exposure: | 0.01667 sec. (1/60) |
Aperture: | f/5.6 |
Focal Length: | 50.0 mm (35 mm equivalent: 75.0 mm) |
Flash: | Off, Did not fire |
Exposure mode: | Aperture-priority AE |
Resolution: | 150 x 150 dpi |
Original Date: | 2010:02:28 14:02:56 |
Digitized Date: | 2010:02:28 14:02:56Z |
Created on: | 2010:02:28 14:02:56 |
Modified on: | 2010:03:02 16:35:13 |
Software: | K20D Ver 1.03 |
Copyright: | Kris Lockyear |
Already Applied | True |
Artist | Kris Lockyear |
Blue Hue | 0 |
Blue Saturation | 0 |
Brightness | +50 |
CFA Pattern | [Blue,Green][Green,Red] |
Camera Profile | ACR 4.4 |
Chromatic Aberration B | 0 |
Chromatic Aberration R | 0 |
Circle Of Confusion | 0.020 mm |
Clarity | 12 |
Color Noise Reduction | 25 |
Color Temperature | 4900 |
Contrast | Normal |
Convert To Grayscale | False |
Creator | Kris Lockyear |
Custom Rendered | Normal |
Defringe | 0 |
Exposure | 0.00 |
Exposure Compensation | +1.3 |
Exposure Mode | Manual |
Field Of View | 27.0 deg |
Fill Light | 0 |
Flash Fired | False |
Flash Function | False |
Flash Mode | Off |
Flash Red Eye Mode | False |
Flash Return | No return detection |
Focal Length In 35mm Format | 75 mm |
Green Hue | 0 |
Green Saturation | 0 |
Has Crop | False |
Has Settings | True |
Highlight Recovery | 10 |
Hue Adjustment Aqua | 0 |
Hue Adjustment Blue | 0 |
Hue Adjustment Green | 0 |
Hue Adjustment Magenta | 0 |
Hue Adjustment Orange | 0 |
Hue Adjustment Purple | 0 |
Hue Adjustment Red | 0 |
Hue Adjustment Yellow | 0 |
Hyperfocal Distance | 22.29 m |
ISO | 100 |
Image Size | 800x532 |
Lens | smc PENTAX-F MACRO 50mm F2.8 |
Lens ID | smc PENTAX-F Macro 50mm F2.8 or Sigma 50mm F2.8 Macro |
Lens Info | 50mm f/2.8 |
Light Value | 10.9 |
Luminance Adjustment Aqua | 0 |
Luminance Adjustment Blue | 0 |
Luminance Adjustment Green | 0 |
Luminance Adjustment Magenta | 0 |
Luminance Adjustment Orange | 0 |
Luminance Adjustment Purple | 0 |
Luminance Adjustment Red | 0 |
Luminance Adjustment Yellow | 0 |
Luminance Smoothing | 0 |
Marked | True |
Metering Mode | Multi-segment |
Parametric Darks | 0 |
Parametric Highlight Split | 75 |
Parametric Highlights | 0 |
Parametric Lights | 0 |
Parametric Midtone Split | 50 |
Parametric Shadow Split | 25 |
Parametric Shadows | 0 |
Red Hue | 0 |
Red Saturation | 0 |
Rights | Kris Lockyear |
Saturation | Normal |
Saturation Adjustment Aqua | 0 |
Saturation Adjustment Blue | 0 |
Saturation Adjustment Green | 0 |
Saturation Adjustment Magenta | 0 |
Saturation Adjustment Orange | 0 |
Saturation Adjustment Purple | 0 |
Saturation Adjustment Red | 0 |
Saturation Adjustment Yellow | 0 |
Scale Factor To 35 mm Equivalent | 1.5 |
Scene Capture Type | Standard |
Sensing Method | One-chip color area |
Shadow Tint | 0 |
Shadows | 15 |
Sharpen Detail | 31 |
Sharpen Edge Masking | 0 |
Sharpen Radius | +1.6 |
Sharpness | Soft |
Split Toning Balance | 0 |
Split Toning Highlight Hue | 0 |
Split Toning Highlight Saturation | 0 |
Split Toning Shadow Hue | 0 |
Split Toning Shadow Saturation | 0 |
Subject | WAS walk, rain |
Subject Distance Range | Distant |
Tint | -5 |
Tone Curve | 0, 0, 32, 16, 64, 50, 128, 128, 192, 202, 255, 255 |
Tone Curve Name | Strong Contrast |
Version | 4.4.1 |
Vibrance | +19 |
Vignette Amount | 0 |
White Balance | Auto |