Shooting information for this photo
Camera: | PENTAX K20D |
Exposure: | 0.8 sec. |
Aperture: | f/11.0 |
Focal Length: | 18.0 mm |
Resolution: | 300 x 300 dpi |
Original Date: | 2009:12:23 11:46:26 |
Modified on: | 2009:12:24 02:58:24 |
Copyright: | Kris Lockyear |
Already Applied | True |
Artist | Kris Lockyear |
Black Clip | 0.000000 |
Blue Hue | 0 |
Blue Saturation | 0 |
Brightness | 0 |
Camera Profile | Embedded |
Chromatic Aberration B | 0 |
Chromatic Aberration R | 0 |
Clarity | 0 |
Color Noise Reduction | 0 |
Color Saturation | 46 |
Color Temperature | 0 |
Contrast | 0 |
Convert To Grayscale | True |
Creator | Kris Lockyear |
Defringe | 0 |
Exposure | 0.00 |
Fill Light | 0 |
Gamma | 0.933033 |
Gray Mixer Aqua | -19 |
Gray Mixer Blue | +7 |
Gray Mixer Green | -25 |
Gray Mixer Magenta | +5 |
Gray Mixer Orange | -16 |
Gray Mixer Purple | +14 |
Gray Mixer Red | -7 |
Gray Mixer Yellow | -19 |
Green Hue | 0 |
Green Saturation | 0 |
Has Crop | False |
Has Settings | True |
Highlight Recovery | 61 |
Highlights Smoothing | 0 |
ISO | 100 |
Image Size | 800x533 |
Incremental Temperature | +9 |
Incremental Tint | -4 |
Light Value | 7.2 |
Luminance Smoothing | 0 |
Luminosity | 2 |
Marked | True |
Method | Details Enhancer |
Microcontrast | 3 |
Microsmoothing | 2 |
Parametric Darks | +40 |
Parametric Highlight Split | 75 |
Parametric Highlights | 0 |
Parametric Lights | +23 |
Parametric Midtone Split | 50 |
Parametric Shadow Split | 25 |
Parametric Shadows | 0 |
Red Hue | 0 |
Red Saturation | 0 |
Rights | Kris Lockyear |
Saturation Highlights | 0 |
Saturation Shadows | 0 |
Shadow Tint | 0 |
Shadows | 5 |
Shadows Clipping | 0 |
Shadows Smoothing | 0 |
Sharpen Detail | 25 |
Sharpen Edge Masking | 0 |
Sharpen Radius | +1.0 |
Sharpness | 0 |
Smoothing | High |
Split Toning Balance | 0 |
Split Toning Highlight Hue | 17 |
Split Toning Highlight Saturation | 5 |
Split Toning Shadow Hue | 21 |
Split Toning Shadow Saturation | 8 |
Strength | 70 |
Subject | Lamer, snow |
Tone Curve | 0, 0, 255, 255 |
Tone Curve Name | Linear |
Version | 4.4.1 |
Vignette Amount | 0 |
White Balance | Custom |
White Clip | 1.269650 |