Shooting information for this photo
Camera: | PENTAX K20D |
Exposure: | 0.4 sec. |
Aperture: | f/11.0 |
Focal Length: | 28.0 mm |
Resolution: | 300 x 300 dpi |
Original Date: | 2009:12:25 12:12:09 |
Modified on: | 2009:12:26 10:05:07 |
Copyright: | Kris Lockyear |
Already Applied | True |
Artist | Kris Lockyear |
Black Clip | 0.000000 |
Blue Hue | 0 |
Blue Saturation | 0 |
Brightness | 0 |
Camera Profile | Embedded |
Chromatic Aberration B | 0 |
Chromatic Aberration R | 0 |
Clarity | 0 |
Color Noise Reduction | 20 |
Color Saturation | 46 |
Color Temperature | 0 |
Contrast | 0 |
Convert To Grayscale | False |
Creator | Kris Lockyear |
Crop Angle | 0 |
Crop Bottom | 0.806569 |
Crop Height | 800 |
Crop Left | 0 |
Crop Right | 1 |
Crop Top | 0 |
Crop Unit | pixels |
Crop Width | 661 |
Defringe | 0 |
Exposure | 0.00 |
Fill Light | 0 |
Gamma | 1.180993 |
Green Hue | 0 |
Green Saturation | 0 |
Has Crop | True |
Has Settings | True |
Highlight Recovery | 10 |
Highlights Smoothing | 0 |
Hue Adjustment Aqua | 0 |
Hue Adjustment Blue | 0 |
Hue Adjustment Green | 0 |
Hue Adjustment Magenta | 0 |
Hue Adjustment Orange | 0 |
Hue Adjustment Purple | 0 |
Hue Adjustment Red | 0 |
Hue Adjustment Yellow | 0 |
ISO | 100 |
Image Size | 661x800 |
Incremental Temperature | 0 |
Incremental Tint | 0 |
Light Value | 8.2 |
Luminance Adjustment Aqua | 0 |
Luminance Adjustment Blue | 0 |
Luminance Adjustment Green | 0 |
Luminance Adjustment Magenta | 0 |
Luminance Adjustment Orange | 0 |
Luminance Adjustment Purple | 0 |
Luminance Adjustment Red | 0 |
Luminance Adjustment Yellow | 0 |
Luminance Smoothing | 20 |
Luminosity | 2 |
Marked | True |
Method | Details Enhancer |
Microcontrast | 4 |
Microsmoothing | 2 |
Parametric Darks | 0 |
Parametric Highlight Split | 75 |
Parametric Highlights | 0 |
Parametric Lights | 0 |
Parametric Midtone Split | 50 |
Parametric Shadow Split | 25 |
Parametric Shadows | 0 |
Red Hue | 0 |
Red Saturation | 0 |
Rights | Kris Lockyear |
Saturation | 0 |
Saturation Adjustment Aqua | +7 |
Saturation Adjustment Blue | +7 |
Saturation Adjustment Green | 0 |
Saturation Adjustment Magenta | 0 |
Saturation Adjustment Orange | +10 |
Saturation Adjustment Purple | 0 |
Saturation Adjustment Red | +12 |
Saturation Adjustment Yellow | +10 |
Saturation Highlights | 0 |
Saturation Shadows | 1 |
Shadow Tint | 0 |
Shadows | 0 |
Shadows Clipping | 0 |
Shadows Smoothing | 0 |
Sharpen Detail | 30 |
Sharpen Edge Masking | 7 |
Sharpen Radius | +1.4 |
Sharpness | 25 |
Smoothing | Medium |
Split Toning Balance | 0 |
Split Toning Highlight Hue | 0 |
Split Toning Highlight Saturation | 0 |
Split Toning Shadow Hue | 0 |
Split Toning Shadow Saturation | 0 |
Strength | 65 |
Subject | Christmas 2009, Lamer, snow |
Tone Curve | 0, 0, 32, 22, 64, 56, 128, 128, 192, 196, 255, 255 |
Tone Curve Name | Medium Contrast |
Version | 4.4.1 |
Vibrance | +26 |
Vignette Amount | 0 |
White Balance | As Shot |
White Clip | 1.269650 |