Shooting information for this photo
Camera: | PENTAX Corporation PENTAX K10D |
Exposure: | 0.002 sec. (1/500) |
Aperture: | f/6.3 |
Focal Length: | 300.0 mm (35 mm equivalent: 450.0 mm) |
Flash: | Off, Did not fire |
Exposure mode: | Aperture-priority AE |
Resolution: | 240 x 240 dpi |
Dimension: | 763 x 1094 pixels |
Original Date: | 2009:03:11 13:27:02 |
Digitized Date: | 2009:03:11 13:27:02Z |
Created on: | 2009:03:11 13:27:02 |
Modified on: | 2009:03:25 22:15:46 |
Software: | Adobe Photoshop CS3 Windows |
Copyright: | Kris Lockyear |
Already Applied | True |
Artist | Kris Lockyear |
Blue Hue | 0 |
Blue Saturation | 0 |
Brightness | +50 |
CFA Pattern | [Red,Green][Green,Blue] |
Camera Profile | ACR 4.4 |
Chromatic Aberration B | 0 |
Chromatic Aberration R | 0 |
Circle Of Confusion | 0.020 mm |
Clarity | 11 |
Color Mode | RGB |
Color Noise Reduction | 25 |
Color Space | sRGB |
Color Temperature | 4900 |
Contrast | Normal |
Convert To Grayscale | False |
Creator | Kris Lockyear |
Custom Rendered | Normal |
Defringe | 0 |
Exposure | +0.19 |
Exposure Compensation | -0.3 |
Exposure Mode | Manual |
Field Of View | 4.6 deg |
Fill Light | 0 |
Flash Fired | False |
Flash Function | False |
Flash Mode | Off |
Flash Red Eye Mode | False |
Flash Return | No return detection |
Focal Length In 35mm Format | 450 mm |
Format | image/jpeg |
Green Hue | 0 |
Green Saturation | 0 |
Has Crop | False |
Has Settings | True |
Hierarchical Subject | birthday, birthday, flowers, flowers |
Highlight Recovery | 0 |
Hue Adjustment Aqua | 0 |
Hue Adjustment Blue | 0 |
Hue Adjustment Green | 0 |
Hue Adjustment Magenta | 0 |
Hue Adjustment Orange | 0 |
Hue Adjustment Purple | 0 |
Hue Adjustment Red | 0 |
Hue Adjustment Yellow | 0 |
Hyperfocal Distance | 713.19 m |
ICC Profile Name | sRGB IEC61966-2.1 |
ISO | 400 |
Image Size | 763x1094 |
Lens | TAMRON AF70-300mm F/4-5.6 LD MACRO |
Lens ID | Tamron AF70-300mm F4-5.6 LD Macro |
Lens Info | 70-300mm f/4-5.6 |
Light Value | 12.3 |
Luminance Adjustment Aqua | 0 |
Luminance Adjustment Blue | 0 |
Luminance Adjustment Green | 0 |
Luminance Adjustment Magenta | 0 |
Luminance Adjustment Orange | 0 |
Luminance Adjustment Purple | 0 |
Luminance Adjustment Red | 0 |
Luminance Adjustment Yellow | 0 |
Luminance Smoothing | 0 |
Marked | True |
Metering Mode | Multi-segment |
Parametric Darks | -17 |
Parametric Highlight Split | 75 |
Parametric Highlights | 0 |
Parametric Lights | +19 |
Parametric Midtone Split | 50 |
Parametric Shadow Split | 25 |
Parametric Shadows | 0 |
Red Hue | 0 |
Red Saturation | 0 |
Rights | Kris Lockyear |
Saturation | Normal |
Saturation Adjustment Aqua | 0 |
Saturation Adjustment Blue | 0 |
Saturation Adjustment Green | 0 |
Saturation Adjustment Magenta | 0 |
Saturation Adjustment Orange | 0 |
Saturation Adjustment Purple | 0 |
Saturation Adjustment Red | 0 |
Saturation Adjustment Yellow | 0 |
Saved Settings Name | Import |
Saved Settings Parameters Blue Hue | 0 |
Saved Settings Parameters Blue Saturation | 0 |
Saved Settings Parameters Brightness | 0 |
Saved Settings Parameters Camera Profile | Embedded |
Saved Settings Parameters Chromatic Aberration B | 0 |
Saved Settings Parameters Chromatic Aberration R | 0 |
Saved Settings Parameters Clarity | 0 |
Saved Settings Parameters Color Noise Reduction | 0 |
Saved Settings Parameters Contrast | 0 |
Saved Settings Parameters Convert To Grayscale | False |
Saved Settings Parameters Defringe | 0 |
Saved Settings Parameters Exposure | 0.00 |
Saved Settings Parameters Fill Light | 0 |
Saved Settings Parameters Green Hue | 0 |
Saved Settings Parameters Green Saturation | 0 |
Saved Settings Parameters Highlight Recovery | 0 |
Saved Settings Parameters Hue Adjustment Aqua | 0 |
Saved Settings Parameters Hue Adjustment Blue | 0 |
Saved Settings Parameters Hue Adjustment Green | 0 |
Saved Settings Parameters Hue Adjustment Magenta | 0 |
Saved Settings Parameters Hue Adjustment Orange | 0 |
Saved Settings Parameters Hue Adjustment Purple | 0 |
Saved Settings Parameters Hue Adjustment Red | 0 |
Saved Settings Parameters Hue Adjustment Yellow | 0 |
Saved Settings Parameters Incremental Temperature | 0 |
Saved Settings Parameters Incremental Tint | 0 |
Saved Settings Parameters Luminance Adjustment Aqua | 0 |
Saved Settings Parameters Luminance Adjustment Blue | 0 |
Saved Settings Parameters Luminance Adjustment Green | 0 |
Saved Settings Parameters Luminance Adjustment Magenta | 0 |
Saved Settings Parameters Luminance Adjustment Orange | 0 |
Saved Settings Parameters Luminance Adjustment Purple | 0 |
Saved Settings Parameters Luminance Adjustment Red | 0 |
Saved Settings Parameters Luminance Adjustment Yellow | 0 |
Saved Settings Parameters Luminance Smoothing | 0 |
Saved Settings Parameters Parametric Darks | 0 |
Saved Settings Parameters Parametric Highlight Split | 75 |
Saved Settings Parameters Parametric Highlights | 0 |
Saved Settings Parameters Parametric Lights | 0 |
Saved Settings Parameters Parametric Midtone Split | 50 |
Saved Settings Parameters Parametric Shadow Split | 25 |
Saved Settings Parameters Parametric Shadows | 0 |
Saved Settings Parameters Red Hue | 0 |
Saved Settings Parameters Red Saturation | 0 |
Saved Settings Parameters Saturation | 0 |
Saved Settings Parameters Saturation Adjustment Aqua | 0 |
Saved Settings Parameters Saturation Adjustment Blue | 0 |
Saved Settings Parameters Saturation Adjustment Green | 0 |
Saved Settings Parameters Saturation Adjustment Magenta | 0 |
Saved Settings Parameters Saturation Adjustment Orange | 0 |
Saved Settings Parameters Saturation Adjustment Purple | 0 |
Saved Settings Parameters Saturation Adjustment Red | 0 |
Saved Settings Parameters Saturation Adjustment Yellow | 0 |
Saved Settings Parameters Shadow Tint | 0 |
Saved Settings Parameters Shadows | 0 |
Saved Settings Parameters Sharpen Detail | 25 |
Saved Settings Parameters Sharpen Edge Masking | 0 |
Saved Settings Parameters Sharpen Radius | +1.0 |
Saved Settings Parameters Sharpness | 0 |
Saved Settings Parameters Split Toning Balance | 0 |
Saved Settings Parameters Split Toning Highlight Hue | 0 |
Saved Settings Parameters Split Toning Highlight Saturation | 0 |
Saved Settings Parameters Split Toning Shadow Hue | 0 |
Saved Settings Parameters Split Toning Shadow Saturation | 0 |
Saved Settings Parameters Tone Curve | 0, 0, 255, 255 |
Saved Settings Parameters Tone Curve Name | Linear |
Saved Settings Parameters Version | 4.4.1 |
Saved Settings Parameters Vibrance | 0 |
Saved Settings Parameters Vignette Amount | 0 |
Saved Settings Parameters White Balance | As Shot |
Saved Settings Type | Snapshot |
Scale Factor To 35 mm Equivalent | 1.5 |
Scene Capture Type | Standard |
Sensing Method | One-chip color area |
Shadow Tint | 0 |
Shadows | 6 |
Sharpen Detail | 27 |
Sharpen Edge Masking | 0 |
Sharpen Radius | +1.2 |
Sharpness | Normal |
Split Toning Balance | 0 |
Split Toning Highlight Hue | 0 |
Split Toning Highlight Saturation | 0 |
Split Toning Shadow Hue | 0 |
Split Toning Shadow Saturation | 0 |
Subject | birthday, flowers |
Subject Distance Range | Close |
Tint | -8 |
Tone Curve | 0, 0, 32, 22, 64, 56, 128, 128, 192, 196, 255, 255 |
Tone Curve Name | Medium Contrast |
Version | 4.4.1 |
Vibrance | +19 |
Vignette Amount | 0 |
White Balance | Auto |