Shooting information for this photo
Camera: | PENTAX Corporation PENTAX K10D |
Exposure: | 0.01667 sec. (1/60) |
Aperture: | f/6.3 |
Focal Length: | 43.0 mm (35 mm equivalent: 64.0 mm) |
Flash: | On, Fired |
Exposure mode: | Program AE |
Resolution: | 240 x 240 dpi |
Original Date: | 2009:03:29 13:00:33 |
Digitized Date: | 2009:03:29 13:00:33+01:00 |
Created on: | 2009:03:29 13:00:33 |
Modified on: | 2009:03:29 20:40:24 |
Software: | K10D Ver 1.30 |
Copyright: | Kris Lockyear |
Already Applied | True |
Artist | Kris Lockyear |
Blue Hue | 0 |
Blue Saturation | 0 |
Brightness | +50 |
CFA Pattern | [Red,Green][Green,Blue] |
Camera Profile | ACR 4.4 |
Chromatic Aberration B | 0 |
Chromatic Aberration R | 0 |
Circle Of Confusion | 0.020 mm |
Clarity | 4 |
Color Noise Reduction | 25 |
Color Temperature | 4850 |
Contrast | Normal |
Convert To Grayscale | False |
Creator | Kris Lockyear |
Crop Angle | 0 |
Crop Bottom | 1 |
Crop Height | 2233 |
Crop Left | 0 |
Crop Right | 0.726496 |
Crop Top | 0.138686 |
Crop Unit | pixels |
Crop Width | 2813 |
Custom Rendered | Normal |
Defringe | 0 |
Exposure | 0.00 |
Exposure Compensation | -0.3 |
Exposure Mode | Manual |
Field Of View | 31.4 deg |
Fill Light | 0 |
Flash Fired | True |
Flash Function | False |
Flash Mode | On |
Flash Red Eye Mode | False |
Flash Return | No return detection |
Focal Length In 35mm Format | 64 mm |
Green Hue | 0 |
Green Saturation | 0 |
Has Crop | True |
Has Settings | True |
Highlight Recovery | 0 |
Hue Adjustment Aqua | 0 |
Hue Adjustment Blue | 0 |
Hue Adjustment Green | 0 |
Hue Adjustment Magenta | 0 |
Hue Adjustment Orange | 0 |
Hue Adjustment Purple | 0 |
Hue Adjustment Red | 0 |
Hue Adjustment Yellow | 0 |
Hyperfocal Distance | 14.54 m |
ISO | 800 |
Image Size | 2813x2233 |
Lens | smc PENTAX-FA 43mm F1.9 Limited |
Lens ID | smc PENTAX-FA 43mm F1.9 Limited |
Lens Info | 43mm f/1.9 |
Light Value | 8.2 |
Luminance Adjustment Aqua | 0 |
Luminance Adjustment Blue | 0 |
Luminance Adjustment Green | 0 |
Luminance Adjustment Magenta | 0 |
Luminance Adjustment Orange | 0 |
Luminance Adjustment Purple | 0 |
Luminance Adjustment Red | 0 |
Luminance Adjustment Yellow | 0 |
Luminance Smoothing | 0 |
Marked | True |
Metering Mode | Multi-segment |
Parametric Darks | 0 |
Parametric Highlight Split | 75 |
Parametric Highlights | 0 |
Parametric Lights | +19 |
Parametric Midtone Split | 50 |
Parametric Shadow Split | 25 |
Parametric Shadows | +52 |
Red Hue | 0 |
Red Saturation | 0 |
Rights | Kris Lockyear |
Saturation | Normal |
Saturation Adjustment Aqua | 0 |
Saturation Adjustment Blue | 0 |
Saturation Adjustment Green | 0 |
Saturation Adjustment Magenta | 0 |
Saturation Adjustment Orange | 0 |
Saturation Adjustment Purple | 0 |
Saturation Adjustment Red | 0 |
Saturation Adjustment Yellow | 0 |
Scale Factor To 35 mm Equivalent | 1.5 |
Scene Capture Type | Standard |
Sensing Method | One-chip color area |
Shadow Tint | 0 |
Shadows | 5 |
Sharpen Detail | 32 |
Sharpen Edge Masking | 0 |
Sharpen Radius | +1.2 |
Sharpness | Normal |
Split Toning Balance | 0 |
Split Toning Highlight Hue | 0 |
Split Toning Highlight Saturation | 0 |
Split Toning Shadow Hue | 0 |
Split Toning Shadow Saturation | 0 |
Subject | Tony and Merle's 50th wedding anniversary |
Subject Distance Range | Close |
Tint | -13 |
Tone Curve | 0, 0, 32, 22, 64, 56, 128, 128, 192, 196, 255, 255 |
Tone Curve Name | Medium Contrast |
Version | 4.4.1 |
Vibrance | +10 |
Vignette Amount | 0 |
White Balance | Auto |