Shooting information for this photo
Resolution: | 240 x 240 dpi |
Original Date: | 2024:09:26 20:13:16 |
Modified on: | 2024:09:26 20:20:24 |
Software: | Luminar Neo |
Already Applied | True |
Auto Lateral CA | 0 |
Blacks 2012 | -23 |
Blue Hue | 0 |
Blue Saturation | 0 |
Brightness | +50 |
Camera Profile | Embedded |
Clarity 2012 | +6 |
Color Grade Blending | 50 |
Color Grade Global Hue | 0 |
Color Grade Global Lum | 0 |
Color Grade Global Sat | 0 |
Color Grade Highlight Lum | 0 |
Color Grade Midtone Hue | 0 |
Color Grade Midtone Lum | 0 |
Color Grade Midtone Sat | 0 |
Color Grade Shadow Lum | 0 |
Color Noise Reduction | 0 |
Color Space | sRGB |
Contrast | +25 |
Contrast 2012 | +6 |
Convert To Grayscale | False |
Crop Angle | 1.26 |
Crop Bottom | 1 |
Crop Constrain To Warp | 1 |
Crop Left | 0.023073 |
Crop Right | 0.976927 |
Crop Top | 0 |
Date Created | 2024:09:26 20:13:16 |
Defringe Green Amount | 0 |
Defringe Green Hue Hi | 60 |
Defringe Green Hue Lo | 40 |
Defringe Purple Amount | 0 |
Defringe Purple Hue Hi | 70 |
Defringe Purple Hue Lo | 30 |
Dehaze | 0 |
Description | Luminance HDR 2.3.0 tonemapping parameters:.Operator: Mantiuk06.Parameters:.Contrast Mapping factor: 0.61.Saturation Factor: 0.38 .Detail Factor: 1 .------.PreGamma: 1. |
Exposure 2012 | -0.04 |
Format | image/jpeg |
Grain Amount | 0 |
Green Hue | 0 |
Green Saturation | 0 |
HDR Edit Mode | 0 |
Has Crop | True |
Has Settings | True |
Highlights 2012 | -66 |
Hue Adjustment Aqua | 0 |
Hue Adjustment Blue | 0 |
Hue Adjustment Green | 0 |
Hue Adjustment Magenta | 0 |
Hue Adjustment Orange | 0 |
Hue Adjustment Purple | 0 |
Hue Adjustment Red | 0 |
Hue Adjustment Yellow | 0 |
Image Description | Luminance HDR 2.3.0 tonemapping parameters:.Operator: Mantiuk06.Parameters:.Contrast Mapping factor: 0.61.Saturation Factor: 0.38 .Detail Factor: 1 .------.PreGamma: 1. |
Image Size | 3782x2519 |
Incremental Temperature | 0 |
Incremental Tint | -2 |
Lens Manual Distortion Amount | 0 |
Lens Profile Enable | 0 |
Luminance Adjustment Aqua | 0 |
Luminance Adjustment Blue | 0 |
Luminance Adjustment Green | 0 |
Luminance Adjustment Magenta | 0 |
Luminance Adjustment Orange | 0 |
Luminance Adjustment Purple | 0 |
Luminance Adjustment Red | 0 |
Luminance Adjustment Yellow | 0 |
Luminance Smoothing | 0 |
Override Look Vignette | False |
Parametric Darks | 0 |
Parametric Highlight Split | 75 |
Parametric Highlights | 0 |
Parametric Lights | 0 |
Parametric Midtone Split | 50 |
Parametric Shadow Split | 25 |
Parametric Shadows | 0 |
Perspective Aspect | 0 |
Perspective Horizontal | 0 |
Perspective Rotate | 0.0 |
Perspective Scale | 100 |
Perspective Upright | 0 |
Perspective Vertical | 0 |
Perspective X | 0.00 |
Perspective Y | 0.00 |
Post Crop Vignette Amount | 0 |
Process Version | 15.4 |
Raw File Name | _MG_8921_pregamma_1_mantiuk06. jpg |
Red Hue | 0 |
Red Saturation | 0 |
Saturation | +20 |
Saturation Adjustment Aqua | 0 |
Saturation Adjustment Blue | 0 |
Saturation Adjustment Green | 0 |
Saturation Adjustment Magenta | 0 |
Saturation Adjustment Orange | 0 |
Saturation Adjustment Purple | 0 |
Saturation Adjustment Red | 0 |
Saturation Adjustment Yellow | 0 |
Shadow Tint | 0 |
Shadows | 5 |
Shadows 2012 | 0 |
Sharpness | 0 |
Split Toning Balance | 0 |
Split Toning Highlight Hue | 0 |
Split Toning Highlight Saturation | 0 |
Split Toning Shadow Hue | 0 |
Split Toning Shadow Saturation | 0 |
Texture | -3 |
Tone Curve Name 2012 | Linear |
Tone Curve PV2012 | 0, 0, 255, 255 |
Tone Curve PV2012 Blue | 0, 0, 255, 255 |
Tone Curve PV2012 Green | 0, 0, 255, 255 |
Tone Curve PV2012 Red | 0, 0, 255, 255 |
User Comment | Luminance HDR 2.3.0 tonemapping parameters:.Operator: Mantiuk06.Parameters:.Contrast Mapping factor: 0.61.Saturation Factor: 0.38 .Detail Factor: 1 .------.PreGamma: 1. |
Version | 16.5 |
Vibrance | +31 |
Vignette Amount | 0 |
White Balance | Custom |
Whites 2012 | -3 |