Shooting information for this photo
Camera: | SONY DSC-T10 |
Exposure: | 0.004 sec. (1/250) |
Aperture: | f/5.6 |
Focal Length: | 6.3 mm |
Flash: | Auto, Did not fire |
Exposure mode: | Program AE |
Max Aperture: | 3.5 |
Resolution: | 240 x 240 dpi |
Original Date: | 2007:02:07 09:42:41 |
Created on: | 2007:02:07 09:42:41 |
Modified on: | 2024:07:16 18:08:30 |
Software: | Adobe Photoshop Lightroom Classic 13.4 (Windows) |
Copyright: | Bruce Hyde |
Already Applied | True |
Artist | Bruce Hyde |
Auto Lateral CA | 0 |
Blacks 2012 | -11 |
Blue Hue | 0 |
Blue Saturation | 0 |
Brightness | +50 |
Camera Profile | Embedded |
City | Milton Keynes |
Clarity 2012 | 0 |
Color Grade Blending | 50 |
Color Grade Global Hue | 0 |
Color Grade Global Lum | 0 |
Color Grade Global Sat | 0 |
Color Grade Highlight Lum | 0 |
Color Grade Midtone Hue | 0 |
Color Grade Midtone Lum | 0 |
Color Grade Midtone Sat | 0 |
Color Grade Shadow Lum | 0 |
Color Noise Reduction | 0 |
Color Space | sRGB |
Compatible Version | 268632064 |
Contrast | Normal |
Contrast 2012 | +7 |
Convert To Grayscale | False |
Country | United Kingdom |
Country Code | GB |
Creator | Bruce Hyde |
Crop Angle | 0 |
Crop Bottom | 0.916832 |
Crop Constrain To Warp | 0 |
Crop Left | 0 |
Crop Right | 0.852751 |
Crop Top | 0.06408 |
Custom Rendered | Normal |
Date Created | 2007:02:07 09:42:41 |
Defringe Green Amount | 0 |
Defringe Green Hue Hi | 60 |
Defringe Green Hue Lo | 40 |
Defringe Purple Amount | 0 |
Defringe Purple Hue Hi | 70 |
Defringe Purple Hue Lo | 30 |
Dehaze | 0 |
Exposure 2012 | -0.34 |
Exposure Compensation | 0 |
Exposure Mode | Auto |
Format | image/jpeg |
Grain Amount | 0 |
Green Hue | 0 |
Green Saturation | 0 |
HDR Edit Mode | 0 |
Has Crop | True |
Has Settings | True |
Highlights 2012 | -28 |
Hue Adjustment Aqua | 0 |
Hue Adjustment Blue | 0 |
Hue Adjustment Green | 0 |
Hue Adjustment Magenta | 0 |
Hue Adjustment Orange | 0 |
Hue Adjustment Purple | 0 |
Hue Adjustment Red | 0 |
Hue Adjustment Yellow | 0 |
ISO | 125 |
Image Size | 3651x2738 |
Incremental Temperature | 0 |
Incremental Tint | 0 |
Lens Manual Distortion Amount | 0 |
Lens Profile Enable | 0 |
Light Source | Unknown |
Light Value | 12.6 |
Luminance Adjustment Aqua | 0 |
Luminance Adjustment Blue | 0 |
Luminance Adjustment Green | 0 |
Luminance Adjustment Magenta | 0 |
Luminance Adjustment Orange | 0 |
Luminance Adjustment Purple | 0 |
Luminance Adjustment Red | 0 |
Luminance Adjustment Yellow | 0 |
Luminance Smoothing | 0 |
Marked | True |
Metering Mode | Multi-segment |
Override Look Vignette | False |
Parametric Darks | 0 |
Parametric Highlight Split | 75 |
Parametric Highlights | 0 |
Parametric Lights | 0 |
Parametric Midtone Split | 50 |
Parametric Shadow Split | 25 |
Parametric Shadows | 0 |
Perspective Aspect | 0 |
Perspective Horizontal | 0 |
Perspective Rotate | 0.0 |
Perspective Scale | 100 |
Perspective Upright | 0 |
Perspective Vertical | 0 |
Perspective X | 0.00 |
Perspective Y | 0.00 |
Photographic Sensitivity | 125 |
Pick | 0 |
Point Colors | -1.000000, -1.000000, -1.000000, -1.000000, -1.000000, -1.000000, -1.000000, -1.000000, -1.000000, -1.000000, -1.000000, -1.000000, -1.000000, -1.000000, -1.000000, -1.000000, -1.000000, -1.000000, -1.000000 |
Post Crop Vignette Amount | 0 |
Preserved File Name | 8 Feb 2007 043.jpg |
Process Version | 15.4 |
Rating | 3 |
Raw File Name | Misty Morning-DSZ043.jpg |
Red Hue | 0 |
Red Saturation | 0 |
Remove Areas Fill method | firefly |
Remove Areas Masks Center Weight | 1 |
Remove Areas Masks Flow | 1 |
Remove Areas Masks Gesture Center Weight | 0 |
Remove Areas Masks Gesture Flow | 1 |
Remove Areas Masks Gesture Mask Active | true |
Remove Areas Masks Gesture Mask Blend Mode | 0 |
Remove Areas Masks Gesture Mask Inverted | false |
Remove Areas Masks Gesture Mask Sync ID | 12C2FF75DD1E0D4EAFA4F0FE9C686C 9E |
Remove Areas Masks Gesture Mask Value | 1 |
Remove Areas Masks Gesture Radius | 0 |
Remove Areas Masks Gesture What | Mask/Paint |
Remove Areas Masks Mask Active | true |
Remove Areas Masks Mask Blend Mode | 0 |
Remove Areas Masks Mask Inverted | false |
Remove Areas Masks Mask Sub Type | 0 |
Remove Areas Masks Mask Sync ID | 756CE348760FE144B9B6A9F49ADF13 A6 |
Remove Areas Masks Mask Value | 1 |
Remove Areas Masks Mask Version | 1 |
Remove Areas Masks Model Version | 234881976 |
Remove Areas Masks Origin | 620,1098 |
Remove Areas Masks Radius | 0.020138 |
Remove Areas Masks Reference Point | 0.314785 0.739175 |
Remove Areas Masks What | Mask/Image |
Remove Areas Masks Whole Image Area | 0/1,0/1,1536/1,2048/1 |
Remove Areas Opacity | 1 |
Remove Areas Pm black level | 0 |
Remove Areas Pm clio model version | 1.0.5-beta.1-1.2_1.2-8c2cea4-0 .1.27.1r16.2 |
Remove Areas Pm current variation index | 2 |
Remove Areas Pm gamma type | 1 |
Remove Areas Pm mask remap info | 0.000000000,1.000000000,0.0000 00000,1.000000000 |
Remove Areas Pm patch | B1CD153EB4E9FF5ED9FB01275F2CD2 C8 |
Remove Areas Pm patch mask | 746AAE64CFC35AD9567AA581EC5904 FF |
Remove Areas Pm patch variations Pm patch variation | 339DC73EAEF820166C14F1FC1E66CD 09 |
Remove Areas Pm remap info 0 | 0.135881588,0.275440603,0.0000 00000,1.000000000 |
Remove Areas Pm remap info 1 | 0.138689250,0.282703906,0.0000 00000,1.000000000 |
Remove Areas Pm remap info 2 | 0.135881588,0.277836263,0.0000 00000,1.000000000 |
Remove Areas Pm remap info variation 0 0 | 0.144441903,0.275440603,0.0000 00000,1.000000000 |
Remove Areas Pm remap info variation 0 1 | 0.141542688,0.275440603,0.0000 00000,1.000000000 |
Remove Areas Pm remap info variation 0 2 | 0.145922020,0.277836263,0.0000 00000,1.000000000 |
Remove Areas Pm remap info variation 1 0 | 0.150408179,0.275440603,0.0000 00000,1.000000000 |
Remove Areas Pm remap info variation 1 1 | 0.150408179,0.275440603,0.0000 00000,1.000000000 |
Remove Areas Pm remap info variation 1 2 | 0.153475240,0.273044944,0.0000 00000,1.000000000 |
Remove Areas Pm search bottom | 1182 |
Remove Areas Pm search left | 597 |
Remove Areas Pm search right | 704 |
Remove Areas Pm search top | 1075 |
Remove Areas Pm source type | full |
Remove Areas Pm target bottom | 1160 |
Remove Areas Pm target left | 619 |
Remove Areas Pm target right | 680 |
Remove Areas Pm target top | 1097 |
Remove Areas Pm version | 327680 |
Remove Areas Pm whole image bottom | 1536 |
Remove Areas Pm whole image left | 0 |
Remove Areas Pm whole image right | 2048 |
Remove Areas Pm whole image top | 0 |
Remove Areas Seed | 2 |
Remove Areas Source State | sourceAutoComputed |
Remove Areas Spot Type | heal_patchmatch |
Rights | Bruce Hyde |
Saturation | Normal |
Saturation Adjustment Aqua | 0 |
Saturation Adjustment Blue | 0 |
Saturation Adjustment Green | 0 |
Saturation Adjustment Magenta | 0 |
Saturation Adjustment Orange | 0 |
Saturation Adjustment Purple | 0 |
Saturation Adjustment Red | 0 |
Saturation Adjustment Yellow | 0 |
Scene Capture Type | Standard |
Scene Type | Directly photographed |
Shadow Tint | 0 |
Shadows | 5 |
Shadows 2012 | +39 |
Sharpness | Normal |
Split Toning Balance | 0 |
Split Toning Highlight Hue | 0 |
Split Toning Highlight Saturation | 0 |
Split Toning Shadow Hue | 0 |
Split Toning Shadow Saturation | 0 |
State | England |
Subject | Frost, Hoggeston, Mist, Tree |
Texture | 0 |
Tone Curve Name 2012 | Linear |
Tone Curve PV2012 | 0, 0, 255, 255 |
Tone Curve PV2012 Blue | 0, 0, 255, 255 |
Tone Curve PV2012 Green | 0, 0, 255, 255 |
Tone Curve PV2012 Red | 0, 0, 255, 255 |
Version | 16.4 |
Vibrance | +10 |
Vignette Amount | 0 |
Weighted Flat Subject | Frost, Hoggeston, Mist, Tree |
White Balance | Auto |
Whites 2012 | +45 |
GPS Information |
GPS Latitude | 51 deg 55' 41.95" N |
GPS Latitude Ref | North |
GPS Longitude | 0 deg 49' 18.46" W |
GPS Longitude Ref | West |
GPS Position | 51 deg 55' 41.95" N, 0 deg 49' 18.46" W |
GPS Version ID | 2.2.0.0 |