Shooting information for this photo
Camera: | Apple iPhone 6 |
Exposure: | 0.05882 sec. (1/17) |
Aperture: | f/2.2 |
Focal Length: | 4.2 mm (35 mm equivalent: 73.0 mm) |
Flash: | Off, Did not fire |
Exposure mode: | Program AE |
Resolution: | 240 x 240 dpi |
Original Date: | 2018:10:12 22:38:14 |
Created on: | 2018:10:12 22:38:14.694 |
Modified on: | 2024:07:16 18:08:34 |
Software: | Adobe Photoshop Lightroom Classic 13.4 (Windows) |
Copyright: | © Bruce Hyde |
Already Applied | True |
Auto Lateral CA | 0 |
Blacks 2012 | -10 |
Blue Hue | 0 |
Blue Saturation | 0 |
Brightness | +50 |
Brightness Value | -2.621266731 |
Camera Profile | Embedded |
Circle Of Confusion | 0.002 mm |
City | Buckingham |
Clarity 2012 | +11 |
Color Grade Blending | 50 |
Color Grade Global Hue | 0 |
Color Grade Global Lum | 0 |
Color Grade Global Sat | 0 |
Color Grade Highlight Lum | 0 |
Color Grade Midtone Hue | 0 |
Color Grade Midtone Lum | 0 |
Color Grade Midtone Sat | 0 |
Color Grade Shadow Lum | 0 |
Color Noise Reduction | 0 |
Color Space | sRGB |
Contrast | +25 |
Contrast 2012 | +6 |
Convert To Grayscale | False |
Country | United Kingdom |
Crop Angle | 0 |
Crop Bottom | 1 |
Crop Constrain To Warp | 0 |
Crop Left | 0 |
Crop Right | 1 |
Crop Top | 0 |
Custom Rendered | Unknown (4) |
Date Created | 2018:10:12 22:38:14 |
Defringe Green Amount | 0 |
Defringe Green Hue Hi | 60 |
Defringe Green Hue Lo | 40 |
Defringe Purple Amount | 0 |
Defringe Purple Hue Hi | 70 |
Defringe Purple Hue Lo | 30 |
Dehaze | +47 |
Digital Zoom Ratio | 2.518518519 |
Distortion Correction Already Applied | True |
Exposure 2012 | +0.61 |
Exposure Compensation | 0 |
Exposure Mode | Auto |
Field Of View | 27.7 deg |
Focal Length In 35mm Format | 73 mm |
Format | image/jpeg |
Grain Amount | 0 |
Green Hue | 0 |
Green Saturation | 0 |
HDR Edit Mode | 0 |
Has Crop | False |
Has Settings | True |
Highlights 2012 | -57 |
Hue Adjustment Aqua | 0 |
Hue Adjustment Blue | 0 |
Hue Adjustment Green | 0 |
Hue Adjustment Magenta | 0 |
Hue Adjustment Orange | 0 |
Hue Adjustment Purple | 0 |
Hue Adjustment Red | 0 |
Hue Adjustment Yellow | 0 |
Hyperfocal Distance | 4.58 m |
ISO | 640 |
Image Size | 3651x2738 |
Incremental Temperature | 0 |
Incremental Tint | 0 |
Lens | iPhone 6 back camera 4.15mm f/2.2 |
Lens Info | 4.15mm f/2.2 |
Lens Make | Apple |
Lens Manual Distortion Amount | 0 |
Lens Model | iPhone 6 back camera 4.15mm f/2.2 |
Lens Profile Distortion Scale | 100 |
Lens Profile Enable | 1 |
Lens Profile Filename | iPhone 6.lcp |
Lens Profile Is Embedded | False |
Lens Profile Name | Adobe (iPhone 6 back camera 4.15mm f/2.2) |
Lens Profile Setup | LensDefaults |
Lens Profile Vignetting Scale | 100 |
Lens Specification | 4.15, 4.15, 2.2, 2.2 |
Light Value | 3.7 |
Luminance Adjustment Aqua | 0 |
Luminance Adjustment Blue | 0 |
Luminance Adjustment Green | 0 |
Luminance Adjustment Magenta | 0 |
Luminance Adjustment Orange | 0 |
Luminance Adjustment Purple | 0 |
Luminance Adjustment Red | 0 |
Luminance Adjustment Yellow | 0 |
Luminance Noise Reduction Contrast | 0 |
Luminance Noise Reduction Detail | 50 |
Luminance Smoothing | 70 |
Metering Mode | Multi-segment |
Override Look Vignette | False |
Parametric Darks | 0 |
Parametric Highlight Split | 75 |
Parametric Highlights | 0 |
Parametric Lights | 0 |
Parametric Midtone Split | 50 |
Parametric Shadow Split | 25 |
Parametric Shadows | 0 |
Person In Image | Jamie Petrie |
Perspective Aspect | 0 |
Perspective Horizontal | 0 |
Perspective Rotate | 0.0 |
Perspective Scale | 100 |
Perspective Upright | 0 |
Perspective Vertical | 0 |
Perspective X | 0.00 |
Perspective Y | 0.00 |
Photographic Sensitivity | 640 |
Pick | 0 |
Point Colors | -1.000000, -1.000000, -1.000000, -1.000000, -1.000000, -1.000000, -1.000000, -1.000000, -1.000000, -1.000000, -1.000000, -1.000000, -1.000000, -1.000000, -1.000000, -1.000000, -1.000000, -1.000000, -1.000000 |
Post Crop Vignette Amount | -70 |
Post Crop Vignette Feather | 44 |
Post Crop Vignette Highlight Contrast | 0 |
Post Crop Vignette Midpoint | 21 |
Post Crop Vignette Roundness | +33 |
Post Crop Vignette Style | 1 |
Preserved File Name | IMG_0668.JPG |
Process Version | 15.4 |
Rating | 3 |
Raw File Name | In the Groove-DSD0668.JPG |
Red Hue | 0 |
Red Saturation | 0 |
Region Applied To Dimensions H | 2448 |
Region Applied To Dimensions Unit | pixel |
Region Applied To Dimensions W | 3264 |
Region Area H | 0.24870 |
Region Area W | 0.18652 |
Region Area X | 0.54834 |
Region Area Y | 0.36263 |
Region Name | Jamie Petrie |
Region Rotation | 0.00000 |
Region Type | Face |
Rights | © Bruce Hyde |
Saturation | -2 |
Saturation Adjustment Aqua | 0 |
Saturation Adjustment Blue | 0 |
Saturation Adjustment Green | 0 |
Saturation Adjustment Magenta | 0 |
Saturation Adjustment Orange | 0 |
Saturation Adjustment Purple | 0 |
Saturation Adjustment Red | 0 |
Saturation Adjustment Yellow | 0 |
Scale Factor To 35 mm Equivalent | 17.6 |
Scene Capture Type | Standard |
Scene Type | Directly photographed |
Sensing Method | One-chip color area |
Shadow Tint | 0 |
Shadows | 5 |
Shadows 2012 | +61 |
Sharpness | 0 |
Split Toning Balance | 0 |
Split Toning Highlight Hue | 0 |
Split Toning Highlight Saturation | 0 |
Split Toning Shadow Hue | 0 |
Split Toning Shadow Saturation | 0 |
State | England |
Subject | Jamie Petrie, Old Rectory |
Subject Area | 1632 1227 1795 1078 |
Texture | 0 |
Tone Curve Name 2012 | Linear |
Tone Curve PV2012 | 0, 0, 255, 255 |
Tone Curve PV2012 Blue | 0, 0, 255, 255 |
Tone Curve PV2012 Green | 0, 0, 255, 255 |
Tone Curve PV2012 Red | 0, 0, 255, 255 |
Version | 16.4 |
Vibrance | +20 |
Vignette Amount | 0 |
Vignette Correction Already Applied | True |
Weighted Flat Subject | Jamie Petrie, Old Rectory |
White Balance | Auto |
Whites 2012 | +23 |
GPS Information |
GPS Altitude | 125.2 m |
GPS Date Stamp | 2018:10:12 |
GPS Date/Time | 2018:10:12 21:38:13Z |
GPS Dest Bearing | 282.6392363 |
GPS Dest Bearing Ref | True North |
GPS Horizontal Positioning Error | 30 m |
GPS Img Direction | 282.6392363 |
GPS Img Direction Ref | True North |
GPS Latitude | 51 deg 55' 4.47" N |
GPS Latitude Ref | North |
GPS Longitude | 0 deg 49' 31.11" W |
GPS Longitude Ref | West |
GPS Position | 51 deg 55' 4.47" N, 0 deg 49' 31.11" W |
GPS Speed | 0 |
GPS Speed Ref | km/h |
GPS Time Stamp | 21:38:13 |
GPS Version ID | 2.2.0.0 |