Shooting information for this photo
Camera: | SONY DSC-T10 |
Exposure: | 0.0025 sec. (1/400) |
Aperture: | f/6.3 |
Focal Length: | 13.2 mm |
Flash: | Auto, Did not fire |
Exposure mode: | Program AE |
Max Aperture: | 3.5 |
Resolution: | 240 x 240 dpi |
Original Date: | 2007:04:24 09:30:40 |
Created on: | 2007:04:24 09:30:40 |
Modified on: | 2024:07:11 16:25:55 |
Software: | Adobe Photoshop Lightroom Classic 13.4 (Windows) |
Copyright: | Bruce Hyde |
Already Applied | True |
Artist | Bruce Hyde |
Auto Lateral CA | 0 |
Blacks 2012 | -12 |
Blue Hue | 0 |
Blue Saturation | 0 |
Camera Profile | Embedded |
Clarity 2012 | +29 |
Color Grade Blending | 50 |
Color Grade Global Hue | 0 |
Color Grade Global Lum | 0 |
Color Grade Global Sat | 0 |
Color Grade Highlight Lum | 0 |
Color Grade Midtone Hue | 0 |
Color Grade Midtone Lum | 0 |
Color Grade Midtone Sat | 0 |
Color Grade Shadow Lum | 0 |
Color Noise Reduction | 0 |
Color Space | sRGB |
Compatible Version | 234881024 |
Contrast | Normal |
Contrast 2012 | -22 |
Creator | Bruce Hyde |
Crop Angle | 0 |
Crop Bottom | 0.694073 |
Crop Constrain To Warp | 0 |
Crop Left | 0 |
Crop Right | 0.913917 |
Crop Top | 0.072657 |
Custom Rendered | Normal |
Date Created | 2007:04:24 09:30:40 |
Dehaze | 0 |
Exposure 2012 | -0.33 |
Exposure Compensation | 0 |
Exposure Mode | Auto |
Format | image/jpeg |
Grain Amount | 0 |
Gray Mixer Aqua | -10 |
Gray Mixer Blue | +29 |
Gray Mixer Green | -32 |
Gray Mixer Magenta | +6 |
Gray Mixer Orange | -27 |
Gray Mixer Purple | +29 |
Gray Mixer Red | -16 |
Gray Mixer Yellow | -32 |
Green Hue | 0 |
Green Saturation | 0 |
HDR Edit Mode | 0 |
Has Crop | True |
Has Settings | True |
Highlights 2012 | -70 |
ISO | 125 |
Image Size | 4428x2258 |
Incremental Temperature | 0 |
Incremental Tint | 0 |
Lens Manual Distortion Amount | 0 |
Lens Profile Enable | 0 |
Light Source | Unknown |
Light Value | 13.6 |
Look Amount | 1 |
Look Cluster | Adobe |
Look Group | B&W |
Look Name | B&W 09 |
Look Parameters Clarity 2012 | +8 |
Look Parameters Contrast 2012 | +55 |
Look Parameters Convert To Grayscale | True |
Look Parameters Lens Blur Active | false |
Look Parameters Lens Blur Blur Amount | 50 |
Look Parameters Lens Blur Bokeh Aspect | 0 |
Look Parameters Lens Blur Bokeh Rotation | 0 |
Look Parameters Lens Blur Bokeh Shape | 0 |
Look Parameters Lens Blur Bokeh Shape Detail | 0 |
Look Parameters Lens Blur Cat Eye Amount | 0 |
Look Parameters Lens Blur Cat Eye Scale | 100 |
Look Parameters Lens Blur Focal Range | 0 0 100 100 |
Look Parameters Lens Blur Highlights Boost | 50 |
Look Parameters Lens Blur Highlights Threshold | 50 |
Look Parameters Lens Blur Spherical Aberration | 0 |
Look Parameters Lens Blur Version | 1 |
Look Parameters Look Table | 117C9F46F99CE5FB0DAA115654DF89 AB |
Look Parameters Process Version | 15.4 |
Look Parameters Version | 16.4 |
Look Sort Name | B&W 09 |
Look Supports Monochrome | false |
Luminance Smoothing | 0 |
Marked | True |
Metering Mode | Multi-segment |
Override Look Vignette | False |
Parametric Darks | 0 |
Parametric Highlight Split | 75 |
Parametric Highlights | 0 |
Parametric Lights | 0 |
Parametric Midtone Split | 50 |
Parametric Shadow Split | 25 |
Parametric Shadows | 0 |
Perspective Aspect | 0 |
Perspective Horizontal | 0 |
Perspective Rotate | 0.0 |
Perspective Scale | 100 |
Perspective Upright | 0 |
Perspective Vertical | 0 |
Perspective X | 0.00 |
Perspective Y | 0.00 |
Photographic Sensitivity | 125 |
Pick | 0 |
Point Colors | -1.000000, -1.000000, -1.000000, -1.000000, -1.000000, -1.000000, -1.000000, -1.000000, -1.000000, -1.000000, -1.000000, -1.000000, -1.000000, -1.000000, -1.000000, -1.000000, -1.000000, -1.000000, -1.000000 |
Post Crop Vignette Amount | 0 |
Preserved File Name | 26 Apr 07 042.jpg |
Process Version | 15.4 |
Range Mask Map Info Range Mask Map Info Lab Max | 0.989670 0.748058 0.777401 |
Range Mask Map Info Range Mask Map Info Lab Min | 0.000275 0.397482 0.334279 |
Range Mask Map Info Range Mask Map Info RGB Max | 0.568734 0.551681 0.602720 |
Range Mask Map Info Range Mask Map Info RGB Min | 0.011841 0.013189 0.010734 |
Rating | 3 |
Rating Percent | 0 |
Raw File Name | St. Saturnin, Montesquieu 26 Apr 07 042.jpg |
Red Hue | 0 |
Red Saturation | 0 |
Rights | Bruce Hyde |
Saturation | Normal |
Scene Capture Type | Standard |
Scene Type | Directly photographed |
Shadow Tint | 0 |
Shadows 2012 | -45 |
Sharpness | Normal |
Split Toning Balance | 0 |
Split Toning Highlight Hue | 0 |
Split Toning Highlight Saturation | 0 |
Split Toning Shadow Hue | 0 |
Split Toning Shadow Saturation | 0 |
Subject | Canigou, Church, Common Poppy, Montesquieu, St. Saturnin |
Texture | 0 |
Tone Curve Name 2012 | Linear |
Tone Curve PV2012 | 0, 0, 255, 255 |
Tone Curve PV2012 Blue | 0, 0, 255, 255 |
Tone Curve PV2012 Green | 0, 0, 255, 255 |
Tone Curve PV2012 Red | 0, 0, 255, 255 |
Version | 16.4 |
Vignette Amount | 0 |
Weighted Flat Subject | Canigou, Church, Common Poppy, Montesquieu, St. Saturnin |
White Balance | Auto |
Whites 2012 | +29 |