Shooting information for this photo
Camera: | NIKON CORPORATION NIKON Z 6 |
Exposure: | 0.00156 sec. (1/640) |
Aperture: | f/6.3 |
Focal Length: | 300.0 mm (35 mm equivalent: 450.0 mm) |
Flash: | No Flash |
Exposure mode: | Shutter speed priority AE |
Resolution: | 240 x 240 dpi |
Original Date: | 2020:04:23 12:41:34 |
Created on: | 2020:04:23 12:41:34.59 |
Modified on: | 2024:07:11 16:27:03 |
Software: | Adobe Photoshop Lightroom Classic 13.4 (Windows) |
Copyright: | Bruce Hyde |
Already Applied | True |
Approximate Focus Distance | 4294967295 |
Artist | Bruce Hyde |
Auto Lateral CA | 1 |
Blacks 2012 | +33 |
Blue Hue | 0 |
Blue Saturation | 0 |
CFA Pattern | [Red,Green][Green,Blue] |
Camera Profile | Adobe Standard v2 |
Circle Of Confusion | 0.020 mm |
City | Milton Keynes |
Clarity 2012 | +17 |
Color Grade Blending | 50 |
Color Grade Global Hue | 0 |
Color Grade Global Lum | 0 |
Color Grade Global Sat | 0 |
Color Grade Highlight Lum | 0 |
Color Grade Midtone Hue | 0 |
Color Grade Midtone Lum | 0 |
Color Grade Midtone Sat | 0 |
Color Grade Shadow Lum | 0 |
Color Noise Reduction | 25 |
Color Noise Reduction Detail | 50 |
Color Noise Reduction Smoothness | 50 |
Color Space | sRGB |
Color Temperature | 4658 |
Compatible Version | 268435456 |
Contrast | Normal |
Contrast 2012 | -5 |
Country | United Kingdom |
Creator | Bruce Hyde |
Crop Angle | 0 |
Crop Bottom | 0.75 |
Crop Constrain To Warp | 0 |
Crop Left | 0.34187 |
Crop Right | 0.783334 |
Crop Top | 0.308536 |
Custom Rendered | Custom |
Date Created | 2020:04:23 12:41:34+01:00 |
Defringe Green Amount | 0 |
Defringe Green Hue Hi | 60 |
Defringe Green Hue Lo | 40 |
Defringe Purple Amount | 0 |
Defringe Purple Hue Hi | 70 |
Defringe Purple Hue Lo | 30 |
Dehaze | +14 |
Distortion Correction Already Applied | True |
Exposure 2012 | +0.48 |
Exposure Compensation | 0 |
Exposure Mode | Auto |
Field Of View | 4.6 deg |
Focal Length In 35mm Format | 450 mm |
Format | image/jpeg |
Gain Control | None |
Grain Amount | 0 |
Green Hue | 0 |
Green Saturation | 0 |
HDR Edit Mode | 1 |
HDR Max Value | +4.00 |
Has Crop | True |
Has Settings | True |
Highlights 2012 | -65 |
Hue Adjustment Aqua | 0 |
Hue Adjustment Blue | 0 |
Hue Adjustment Green | 0 |
Hue Adjustment Magenta | 0 |
Hue Adjustment Orange | 0 |
Hue Adjustment Purple | 0 |
Hue Adjustment Red | 0 |
Hue Adjustment Yellow | 0 |
Hyperfocal Distance | 713.19 m |
ISO | 360 |
Image Number | 8170 |
Image Size | 3872x2581 |
Lateral Chromatic Aberration Correction Already Applied | True |
Lens | TAMRON 18-400mm F3.5-6.3 Di II VC HLD B028N |
Lens ID | Sigma 70-300mm F4-5.6 APO DG Macro HSM |
Lens Info | 18-400mm f/3.5-6.3 |
Lens Manual Distortion Amount | 0 |
Lens Model | TAMRON 18-400mm F3.5-6.3 Di II VC HLD B028N |
Lens Profile Distortion Scale | 100 |
Lens Profile Enable | 1 |
Lens Profile Filename | NIKON CORPORATION (TAMRON 18-400mm F3.5-6.3 DiII VC HLD B028N) - RAW.lcp |
Lens Profile Is Embedded | False |
Lens Profile Name | Adobe (TAMRON 18-400mm F3.5-6.3 Di II VC HLD B028N, NIKON CORPORATION) |
Lens Profile Setup | LensDefaults |
Lens Profile Vignetting Scale | 100 |
Light Source | Unknown |
Light Value | 12.8 |
Look Amount | 1 |
Look Group | Profiles |
Look Name | Adobe Color |
Look Parameters Camera Profile | Adobe Standard |
Look Parameters Convert To Grayscale | False |
Look Parameters Look Table | E1095149FDB39D7A057BAB208837E2 E1 |
Look Parameters Process Version | 15.4 |
Look Parameters Tone Curve PV2012 | 0, 0, 22, 16, 40, 35, 127, 127, 224, 230, 240, 246, 255, 255 |
Look Parameters Tone Curve PV2012 Blue | 0, 0, 255, 255 |
Look Parameters Tone Curve PV2012 Green | 0, 0, 255, 255 |
Look Parameters Tone Curve PV2012 Red | 0, 0, 255, 255 |
Look Parameters Version | 16.4 |
Look Supports Amount | false |
Look Supports Monochrome | false |
Look Supports Output Referred | false |
Luminance Adjustment Aqua | 0 |
Luminance Adjustment Blue | 0 |
Luminance Adjustment Green | 0 |
Luminance Adjustment Magenta | 0 |
Luminance Adjustment Orange | 0 |
Luminance Adjustment Purple | 0 |
Luminance Adjustment Red | 0 |
Luminance Adjustment Yellow | 0 |
Luminance Smoothing | 0 |
Marked | True |
Metering Mode | Multi-segment |
Override Look Vignette | False |
Parametric Darks | 0 |
Parametric Highlight Split | 75 |
Parametric Highlights | 0 |
Parametric Lights | 0 |
Parametric Midtone Split | 50 |
Parametric Shadow Split | 25 |
Parametric Shadows | 0 |
Perspective Aspect | 0 |
Perspective Horizontal | 0 |
Perspective Rotate | 0.0 |
Perspective Scale | 100 |
Perspective Upright | 0 |
Perspective Vertical | 0 |
Perspective X | 0.00 |
Perspective Y | 0.00 |
Pick | 0 |
Point Colors | -1.000000, -1.000000, -1.000000, -1.000000, -1.000000, -1.000000, -1.000000, -1.000000, -1.000000, -1.000000, -1.000000, -1.000000, -1.000000, -1.000000, -1.000000, -1.000000, -1.000000, -1.000000, -1.000000 |
Post Crop Vignette Amount | 0 |
Preserved File Name | _DSZ2193.NEF |
Process Version | 15.4 |
Rating | 3 |
Raw File Name | Chinese Water Deer-DSZ2193.DNG |
Recommended Exposure Index | 360 |
Red Hue | 0 |
Red Saturation | 0 |
Rights | Bruce Hyde |
SDR Blend | 0 |
SDR Brightness | 0 |
SDR Clarity | 0 |
SDR Contrast | 0 |
SDR Highlights | 0 |
SDR Shadows | 0 |
SDR Whites | 0 |
Saturation | Normal |
Saturation Adjustment Aqua | 0 |
Saturation Adjustment Blue | 0 |
Saturation Adjustment Green | +5 |
Saturation Adjustment Magenta | 0 |
Saturation Adjustment Orange | 0 |
Saturation Adjustment Purple | 0 |
Saturation Adjustment Red | 0 |
Saturation Adjustment Yellow | +66 |
Scale Factor To 35 mm Equivalent | 1.5 |
Scene Capture Type | Standard |
Scene Type | Directly photographed |
Sensing Method | One-chip color area |
Sensitivity Type | Recommended Exposure Index |
Shadow Tint | 0 |
Shadows 2012 | +50 |
Sharpen Detail | 25 |
Sharpen Edge Masking | 58 |
Sharpen Radius | +1.0 |
Sharpness | Normal |
Split Toning Balance | 0 |
Split Toning Highlight Hue | 0 |
Split Toning Highlight Saturation | 0 |
Split Toning Shadow Hue | 0 |
Split Toning Shadow Saturation | 0 |
State | England |
Subject | Chinese Water Deer, Hydropotes inermis inermis, Mammals, Swanbourne Estate, Teeth, male |
Subject Distance Range | Unknown |
Texture | +43 |
Tint | +23 |
Tone Curve Name 2012 | Linear |
Tone Curve PV2012 | 0, 0, 255, 255 |
Tone Curve PV2012 Blue | 0, 0, 255, 255 |
Tone Curve PV2012 Green | 0, 0, 255, 255 |
Tone Curve PV2012 Red | 0, 0, 255, 255 |
Version | 16.4 |
Vibrance | +12 |
Vignette Amount | 0 |
Vignette Correction Already Applied | True |
Weighted Flat Subject | Chinese Water Deer, Hydropotes inermis inermis, Mammals, Swanbourne Estate, male, Teeth |
White Balance | Auto |
Whites 2012 | -17 |
GPS Information |
GPS Altitude | 104 m |
GPS Date Stamp | 2020:04:23 |
GPS Date/Time | 2020:04:23 11:39:56.99Z |
GPS Latitude | 51 deg 55' 43.31" N |
GPS Latitude Ref | North |
GPS Longitude | 0 deg 49' 37.68" W |
GPS Longitude Ref | West |
GPS Map Datum | WGS-84 |
GPS Position | 51 deg 55' 43.31" N, 0 deg 49' 37.68" W |
GPS Satellites | 00 |
GPS Time Stamp | 11:39:56.99 |
GPS Version ID | 2.3.0.0 |