Shooting information for this photo
Camera: | Canon PowerShot SX30 IS |
Exposure: | 0.0125 sec. (1/80) |
Aperture: | f/4.5 |
Focal Length: | 27.3 mm (35 mm equivalent: 153.4 mm) |
Flash: | Off, Did not fire |
Max Aperture: | 4.5 |
Resolution: | 240 x 240 dpi |
Original Date: | 2010:11:29 18:39:47 |
Created on: | 2010:11:29 18:39:47 |
Modified on: | 2024:07:11 16:15:21 |
Software: | Adobe Photoshop Lightroom Classic 13.4 (Windows) |
Copyright: | Bruce Hyde |
Already Applied | True |
Approximate Focus Distance | 2.4 |
Artist | Bruce Hyde |
Auto Lateral CA | 0 |
Blacks 2012 | -5 |
Blue Hue | 0 |
Blue Saturation | 0 |
Camera Profile | Embedded |
Circle Of Confusion | 0.005 mm |
Clarity 2012 | +43 |
Color Grade Blending | 50 |
Color Grade Global Hue | 0 |
Color Grade Global Lum | 0 |
Color Grade Global Sat | 0 |
Color Grade Highlight Lum | 0 |
Color Grade Midtone Hue | 0 |
Color Grade Midtone Lum | 0 |
Color Grade Midtone Sat | 0 |
Color Grade Shadow Lum | 0 |
Color Noise Reduction | 0 |
Color Space | sRGB |
Compatible Version | 234881024 |
Contrast 2012 | -24 |
Country | Maldives |
Creator | Bruce Hyde |
Crop Angle | -0.574004 |
Crop Bottom | 0.986818 |
Crop Constrain To Warp | 0 |
Crop Left | 0.002884 |
Crop Right | 0.997116 |
Crop Top | 0.013182 |
Custom Rendered | Normal |
Date Created | 2010:11:29 18:39:47 |
Defringe Green Amount | 0 |
Defringe Green Hue Hi | 60 |
Defringe Green Hue Lo | 40 |
Defringe Purple Amount | 0 |
Defringe Purple Hue Hi | 70 |
Defringe Purple Hue Lo | 30 |
Dehaze | 0 |
Description | After the Wedding |
Digital Zoom Ratio | 1 |
Exposure 2012 | +0.03 |
Exposure Compensation | 0 |
Exposure Mode | Auto |
Field Of View | 13.4 deg |
Firmware | 1.00 |
Flash Compensation | 0 |
Format | image/jpeg |
Grain Amount | 0 |
Green Hue | 0 |
Green Saturation | 0 |
HDR Edit Mode | 0 |
Has Crop | True |
Has Settings | True |
Highlights 2012 | -50 |
Hue Adjustment Aqua | 0 |
Hue Adjustment Blue | 0 |
Hue Adjustment Green | 0 |
Hue Adjustment Magenta | 0 |
Hue Adjustment Orange | 0 |
Hue Adjustment Purple | 0 |
Hue Adjustment Red | 0 |
Hue Adjustment Yellow | 0 |
Hyperfocal Distance | 31.03 m |
ISO | 250 |
Image Description | After the Wedding |
Image Size | 3651x2738 |
Incremental Temperature | 0 |
Incremental Tint | 0 |
Lens | 4.3-150.5 mm |
Lens Info | 4.3-150.5mm f/? |
Lens Manual Distortion Amount | 0 |
Lens Model | 4.3-150.5 mm |
Lens Profile Enable | 0 |
Light Value | 9.3 |
Look Amount | 0.98 |
Look Cluster | Adobe |
Look Group | Modern |
Look Name | Modern 07 |
Look Parameters Convert To Grayscale | False |
Look Parameters Look Table | E1095149FDB39D7A057BAB208837E2 E1 |
Look Parameters Process Version | 15.4 |
Look Parameters RGB Table | D0A626800FCD9BB00251BD0BB83F5A B8 |
Look Parameters RGB Table Amount | 0.75 |
Look Parameters Version | 16.4 |
Look Supports Monochrome | false |
Luminance Adjustment Aqua | 0 |
Luminance Adjustment Blue | 0 |
Luminance Adjustment Green | 0 |
Luminance Adjustment Magenta | 0 |
Luminance Adjustment Orange | 0 |
Luminance Adjustment Purple | 0 |
Luminance Adjustment Red | 0 |
Luminance Adjustment Yellow | 0 |
Luminance Smoothing | 0 |
Marked | True |
Metering Mode | Multi-segment |
Override Look Vignette | False |
Owner Name | Bruce Hyde |
Parametric Darks | 0 |
Parametric Highlight Split | 75 |
Parametric Highlights | 0 |
Parametric Lights | 0 |
Parametric Midtone Split | 50 |
Parametric Shadow Split | 25 |
Parametric Shadows | 0 |
Perspective Aspect | 0 |
Perspective Horizontal | 0 |
Perspective Rotate | 0.0 |
Perspective Scale | 100 |
Perspective Upright | 0 |
Perspective Vertical | 0 |
Perspective X | 0.00 |
Perspective Y | 0.00 |
Pick | 0 |
Point Colors | -1.000000, -1.000000, -1.000000, -1.000000, -1.000000, -1.000000, -1.000000, -1.000000, -1.000000, -1.000000, -1.000000, -1.000000, -1.000000, -1.000000, -1.000000, -1.000000, -1.000000, -1.000000, -1.000000 |
Post Crop Vignette Amount | 0 |
Process Version | 11.0 |
Rating | 3 |
Raw File Name | Reethi Rah-DSA_0558.JPG |
Red Hue | 0 |
Red Saturation | 0 |
Rights | Bruce Hyde |
Saturation | +2 |
Saturation Adjustment Aqua | 0 |
Saturation Adjustment Blue | 0 |
Saturation Adjustment Green | 0 |
Saturation Adjustment Magenta | 0 |
Saturation Adjustment Orange | 0 |
Saturation Adjustment Purple | 0 |
Saturation Adjustment Red | 0 |
Saturation Adjustment Yellow | 0 |
Scale Factor To 35 mm Equivalent | 5.6 |
Scene Capture Type | Standard |
Sensing Method | One-chip color area |
Sensitivity Type | Standard Output Sensitivity and Recommended Exposure Index |
Shadow Tint | 0 |
Shadows 2012 | +58 |
Sharpness | 0 |
Split Toning Balance | 0 |
Split Toning Highlight Hue | 0 |
Split Toning Highlight Saturation | 0 |
Split Toning Shadow Hue | 0 |
Split Toning Shadow Saturation | 0 |
State | Malé |
Subject | James' Wedding, Maldives |
Texture | 0 |
Tone Curve Name 2012 | Linear |
Tone Curve PV2012 | 0, 0, 255, 255 |
Tone Curve PV2012 Blue | 0, 0, 255, 255 |
Tone Curve PV2012 Green | 0, 0, 255, 255 |
Tone Curve PV2012 Red | 0, 0, 255, 255 |
User Comment | Tables - Merit |
Version | 16.4 |
Vibrance | +11 |
Vignette Amount | 0 |
Weighted Flat Subject | James' Wedding, Maldives |
White Balance | Auto |
Whites 2012 | -10 |
GPS Information |
GPS Altitude | 0.4 m |
GPS Latitude | 4 deg 30' 46.58" N |
GPS Latitude Ref | North |
GPS Longitude | 73 deg 22' 9.38" E |
GPS Longitude Ref | East |
GPS Position | 4 deg 30' 46.58" N, 73 deg 22' 9.38" E |
GPS Version ID | 2.2.0.0 |