Shooting information for this photo
Camera: | Canon PowerShot SX30 IS |
Exposure: | 0.00125 sec. (1/800) |
Aperture: | f/5.8 |
Focal Length: | 150.5 mm (35 mm equivalent: 616.8 mm) |
Flash: | Off, Did not fire |
Max Aperture: | 5.8 |
Resolution: | 240 x 240 dpi |
Original Date: | 2011:09:15 09:51:05 |
Created on: | 2011:09:15 09:51:05 |
Modified on: | 2024:07:11 16:17:42 |
Software: | Adobe Photoshop Lightroom Classic 13.4 (Windows) |
Copyright: | Bruce Hyde |
Already Applied | True |
Artist | Bruce Hyde |
Auto Lateral CA | 0 |
Blacks 2012 | -60 |
Blue Hue | 0 |
Blue Saturation | 0 |
Brightness | +50 |
Camera Profile | Embedded |
Circle Of Confusion | 0.007 mm |
Clarity 2012 | 0 |
Color Grade Blending | 50 |
Color Grade Global Hue | 0 |
Color Grade Global Lum | 0 |
Color Grade Global Sat | 0 |
Color Grade Highlight Lum | 0 |
Color Grade Midtone Hue | 0 |
Color Grade Midtone Lum | 0 |
Color Grade Midtone Sat | 0 |
Color Grade Shadow Lum | 0 |
Color Noise Reduction | 59 |
Color Noise Reduction Detail | 50 |
Color Noise Reduction Smoothness | 67 |
Color Space | sRGB |
Compatible Version | 251854848 |
Contrast | +25 |
Contrast 2012 | +7 |
Convert To Grayscale | False |
Creator | Bruce Hyde |
Crop Angle | 0 |
Crop Bottom | 1 |
Crop Constrain To Warp | 0 |
Crop Left | 0 |
Crop Right | 1 |
Crop Top | 0 |
Custom Rendered | Normal |
Date Created | 2011:09:15 09:51:05 |
Defringe Green Amount | 0 |
Defringe Green Hue Hi | 60 |
Defringe Green Hue Lo | 40 |
Defringe Purple Amount | 0 |
Defringe Purple Hue Hi | 70 |
Defringe Purple Hue Lo | 30 |
Dehaze | +26 |
Digital Zoom Ratio | 1.666666667 |
Exposure 2012 | +0.62 |
Exposure Compensation | 0 |
Exposure Mode | Auto |
Field Of View | 3.3 deg |
Firmware | b. |
Flash Compensation | 0 |
Format | image/jpeg |
Grain Amount | 0 |
Green Hue | 0 |
Green Saturation | 0 |
HDR Edit Mode | 0 |
Has Crop | False |
Has Settings | True |
Highlights 2012 | -68 |
Hue Adjustment Aqua | 0 |
Hue Adjustment Blue | 0 |
Hue Adjustment Green | 0 |
Hue Adjustment Magenta | 0 |
Hue Adjustment Orange | 0 |
Hue Adjustment Purple | 0 |
Hue Adjustment Red | 0 |
Hue Adjustment Yellow | 0 |
Hyperfocal Distance | 532.65 m |
ISO | 80 |
Image Size | 3651x2738 |
Incremental Temperature | 0 |
Incremental Tint | 0 |
Lens ID | Unknown (2436) |
Lens Manual Distortion Amount | 0 |
Lens Profile Enable | 0 |
Light Value | 15.0 |
Luminance Adjustment Aqua | 0 |
Luminance Adjustment Blue | -9 |
Luminance Adjustment Green | 0 |
Luminance Adjustment Magenta | 0 |
Luminance Adjustment Orange | 0 |
Luminance Adjustment Purple | 0 |
Luminance Adjustment Red | 0 |
Luminance Adjustment Yellow | 0 |
Luminance Noise Reduction Contrast | 27 |
Luminance Noise Reduction Detail | 54 |
Luminance Smoothing | 57 |
Marked | True |
Metering Mode | Multi-segment |
Override Look Vignette | False |
Owner Name | Ž. |
Parametric Darks | 0 |
Parametric Highlight Split | 75 |
Parametric Highlights | 0 |
Parametric Lights | 0 |
Parametric Midtone Split | 50 |
Parametric Shadow Split | 25 |
Parametric Shadows | 0 |
Perspective Aspect | 0 |
Perspective Horizontal | 0 |
Perspective Rotate | 0.0 |
Perspective Scale | 100 |
Perspective Upright | 0 |
Perspective Vertical | 0 |
Perspective X | 0.00 |
Perspective Y | 0.00 |
Pick | 0 |
Point Colors | -1.000000, -1.000000, -1.000000, -1.000000, -1.000000, -1.000000, -1.000000, -1.000000, -1.000000, -1.000000, -1.000000, -1.000000, -1.000000, -1.000000, -1.000000, -1.000000, -1.000000, -1.000000, -1.000000 |
Post Crop Vignette Amount | 0 |
Process Version | 15.4 |
Rating | 3 |
Raw File Name | Common Darter - Sympetrum striolatum 15-09-2011 09-51-05.JPG |
Red Hue | 0 |
Red Saturation | 0 |
Rights | Bruce Hyde |
Saturation | +8 |
Saturation Adjustment Aqua | +23 |
Saturation Adjustment Blue | +45 |
Saturation Adjustment Green | 0 |
Saturation Adjustment Magenta | 0 |
Saturation Adjustment Orange | 0 |
Saturation Adjustment Purple | 0 |
Saturation Adjustment Red | 0 |
Saturation Adjustment Yellow | 0 |
Scale Factor To 35 mm Equivalent | 4.1 |
Scene Capture Type | Standard |
Sensing Method | One-chip color area |
Sensitivity Type | Standard Output Sensitivity and Recommended Exposure Index |
Shadow Tint | 0 |
Shadows | 5 |
Shadows 2012 | +85 |
Sharpness | 0 |
Split Toning Balance | 0 |
Split Toning Highlight Hue | 0 |
Split Toning Highlight Saturation | 0 |
Split Toning Shadow Hue | 0 |
Split Toning Shadow Saturation | 0 |
Subject | Common Darter, Dragonflies, Insects, Invertebrae, Odonata, Sympetrum striolatum, male |
Texture | 0 |
Tone Curve Name 2012 | Linear |
Tone Curve PV2012 | 0, 0, 255, 255 |
Tone Curve PV2012 Blue | 0, 0, 255, 255 |
Tone Curve PV2012 Green | 0, 0, 255, 255 |
Tone Curve PV2012 Red | 0, 0, 255, 255 |
Version | 16.4 |
Vibrance | 0 |
Vignette Amount | 0 |
Weighted Flat Subject | Common Darter, Dragonflies, Insects, Invertebrae, Odonata, Sympetrum striolatum, male |
White Balance | Manual |
Whites 2012 | -10 |