Shooting information for this photo
Camera: | Apple iPhone XS |
Exposure: | 0.01667 sec. (1/60) |
Aperture: | f/1.8 |
Focal Length: | 4.2 mm (35 mm equivalent: 26.0 mm) |
Flash: | Off, Did not fire |
Exposure mode: | Program AE |
Resolution: | 240 x 240 dpi |
Original Date: | 2023:06:09 21:47:28 |
Created on: | 2023:06:09 21:47:28.567 |
Modified on: | 2024:07:05 17:41:20 |
Software: | Adobe Photoshop Lightroom Classic 13.3.1 (Windows) |
Copyright: | © Bruce Hyde |
Already Applied | True |
Auto Lateral CA | 0 |
Blacks 2012 | -15 |
Blue Hue | 0 |
Blue Saturation | 0 |
Brightness | +50 |
Brightness Value | 2.048353649 |
Camera Profile | Embedded |
Circle Of Confusion | 0.005 mm |
City | Reading |
Clarity 2012 | -88 |
Color Grade Blending | 50 |
Color Grade Global Hue | 0 |
Color Grade Global Lum | 0 |
Color Grade Global Sat | 0 |
Color Grade Highlight Lum | 0 |
Color Grade Midtone Hue | 0 |
Color Grade Midtone Lum | 0 |
Color Grade Midtone Sat | 0 |
Color Grade Shadow Lum | 0 |
Color Noise Reduction | 0 |
Color Space | sRGB |
Contrast | +25 |
Contrast 2012 | +100 |
Convert To Grayscale | False |
Country | United Kingdom |
Crop Angle | 0 |
Crop Bottom | 1 |
Crop Constrain To Warp | 0 |
Crop Left | 0 |
Crop Right | 1 |
Crop Top | 0 |
Date Created | 2023:06:09 21:47:28+01:00 |
Defringe Green Amount | 0 |
Defringe Green Hue Hi | 60 |
Defringe Green Hue Lo | 40 |
Defringe Purple Amount | 0 |
Defringe Purple Hue Hi | 70 |
Defringe Purple Hue Lo | 30 |
Dehaze | -16 |
Exposure 2012 | +0.09 |
Exposure Compensation | 0 |
Exposure Mode | Auto |
Field Of View | 69.4 deg |
Focal Length In 35mm Format | 26 mm |
Format | image/jpeg |
Grain Amount | 0 |
Green Hue | 0 |
Green Saturation | 0 |
HDR Edit Mode | 0 |
Has Crop | False |
Has Settings | True |
Highlights 2012 | -60 |
Hue Adjustment Aqua | 0 |
Hue Adjustment Blue | 0 |
Hue Adjustment Green | 0 |
Hue Adjustment Magenta | 0 |
Hue Adjustment Orange | 0 |
Hue Adjustment Purple | 0 |
Hue Adjustment Red | 0 |
Hue Adjustment Yellow | 0 |
Hyperfocal Distance | 2.04 m |
ISO | 200 |
Image Size | 3651x2738 |
Incremental Temperature | 0 |
Incremental Tint | 0 |
Lens | iPhone XS back dual camera 4.25mm f/1.8 |
Lens Info | 4.25-6mm f/1.8-2.4 |
Lens Make | Apple |
Lens Manual Distortion Amount | 0 |
Lens Model | iPhone XS back dual camera 4.25mm f/1.8 |
Lens Profile Enable | 0 |
Light Value | 6.6 |
Luminance Adjustment Aqua | 0 |
Luminance Adjustment Blue | 0 |
Luminance Adjustment Green | 0 |
Luminance Adjustment Magenta | 0 |
Luminance Adjustment Orange | 0 |
Luminance Adjustment Purple | 0 |
Luminance Adjustment Red | 0 |
Luminance Adjustment Yellow | 0 |
Luminance Smoothing | 0 |
Metering Mode | Multi-segment |
Override Look Vignette | False |
Parametric Darks | 0 |
Parametric Highlight Split | 75 |
Parametric Highlights | 0 |
Parametric Lights | 0 |
Parametric Midtone Split | 50 |
Parametric Shadow Split | 25 |
Parametric Shadows | 0 |
Perspective Aspect | 0 |
Perspective Horizontal | 0 |
Perspective Rotate | 0.0 |
Perspective Scale | 100 |
Perspective Upright | 0 |
Perspective Vertical | 0 |
Perspective X | 0.00 |
Perspective Y | 0.00 |
Pick | 0 |
Point Colors | -1.000000, -1.000000, -1.000000, -1.000000, -1.000000, -1.000000, -1.000000, -1.000000, -1.000000, -1.000000, -1.000000, -1.000000, -1.000000, -1.000000, -1.000000, -1.000000, -1.000000, -1.000000, -1.000000 |
Post Crop Vignette Amount | 0 |
Preserved File Name | IMG_3378.JPG |
Process Version | 15.4 |
Rating | 3 |
Raw File Name | Twilight at Sonning-DSZ3378.JPG |
Red Hue | 0 |
Red Saturation | 0 |
Rights | © Bruce Hyde |
Saturation | +2 |
Saturation Adjustment Aqua | 0 |
Saturation Adjustment Blue | 0 |
Saturation Adjustment Green | 0 |
Saturation Adjustment Magenta | 0 |
Saturation Adjustment Orange | 0 |
Saturation Adjustment Purple | 0 |
Saturation Adjustment Red | 0 |
Saturation Adjustment Yellow | 0 |
Scale Factor To 35 mm Equivalent | 6.1 |
Scene Capture Type | Standard |
Scene Type | Directly photographed |
Sensing Method | One-chip color area |
Shadow Tint | 0 |
Shadows | 5 |
Shadows 2012 | -63 |
Sharpness | 0 |
Split Toning Balance | 0 |
Split Toning Highlight Hue | 0 |
Split Toning Highlight Saturation | 0 |
Split Toning Shadow Hue | 0 |
Split Toning Shadow Saturation | 0 |
State | England |
Subject | Silhouette, Sonning, Thames, dusk, reflections, twilight |
Subject Area | 2013 1511 2217 1393 |
Texture | 0 |
Tone Curve Name 2012 | Linear |
Tone Curve PV2012 | 0, 0, 255, 255 |
Tone Curve PV2012 Blue | 0, 0, 255, 255 |
Tone Curve PV2012 Green | 0, 0, 255, 255 |
Tone Curve PV2012 Red | 0, 0, 255, 255 |
Version | 16.3.1 |
Vibrance | +12 |
Vignette Amount | 0 |
Weighted Flat Subject | twilight, dusk, Sonning, Thames, reflections, Silhouette |
White Balance | Auto |
Whites 2012 | +27 |
GPS Information |
GPS Altitude | 36.3 m |
GPS Dest Bearing | 314.9194182 |
GPS Dest Bearing Ref | True North |
GPS Horizontal Positioning Error | 14.82585627 m |
GPS Img Direction | 314.9194182 |
GPS Img Direction Ref | True North |
GPS Latitude | 51 deg 28' 32.45" N |
GPS Latitude Ref | North |
GPS Longitude | 0 deg 54' 47.29" W |
GPS Longitude Ref | West |
GPS Position | 51 deg 28' 32.45" N, 0 deg 54' 47.29" W |
GPS Speed | 0.04729359593 |
GPS Speed Ref | km/h |
GPS Version ID | 2.2.0.0 |