Shooting information for this photo
Camera: | NIKON CORPORATION NIKON Z 6 |
Exposure: | 0.00156 sec. (1/640) |
Aperture: | f/5.6 |
Focal Length: | 220.0 mm (35 mm equivalent: 330.0 mm) |
Flash: | No Flash |
Exposure mode: | Shutter speed priority AE |
Resolution: | 72 x 72 dpi |
Original Date: | 2020:04:25 10:49:25.74 |
Created on: | 2020:04:25 10:49:25.74 |
Modified on: | 2021:12:24 17:21:52 |
Software: | Adobe Photoshop Lightroom Classic 11.1 (Windows) |
Copyright: | Bruce Hyde |
Already Applied | True |
Approximate Focus Distance | 4294967295 |
Artist | Bruce Hyde |
Auto Lateral CA | 1 |
Blacks 2012 | +12 |
Blue Hue | 0 |
Blue Saturation | 0 |
CFA Pattern | [Red,Green][Green,Blue] |
Camera Profile | Adobe Standard v2 |
Circle Of Confusion | 0.020 mm |
Clarity 2012 | +36 |
Color Grade Blending | 50 |
Color Grade Global Hue | 0 |
Color Grade Global Lum | 0 |
Color Grade Global Sat | 0 |
Color Grade Highlight Lum | 0 |
Color Grade Midtone Hue | 0 |
Color Grade Midtone Lum | 0 |
Color Grade Midtone Sat | 0 |
Color Grade Shadow Lum | 0 |
Color Noise Reduction | 25 |
Color Noise Reduction Detail | 50 |
Color Noise Reduction Smoothness | 50 |
Color Space | sRGB |
Color Temperature | 5350 |
Contrast | Normal |
Contrast 2012 | -26 |
Creator | Bruce Hyde |
Crop Angle | 0 |
Crop Bottom | 0.691105 |
Crop Constrain To Warp | 0 |
Crop Left | 0.14423 |
Crop Right | 0.464743 |
Crop Top | 0.370592 |
Custom Rendered | Custom |
Date Created | 2020:04:25 10:49:25.74+01:00 |
Defringe Green Amount | 0 |
Defringe Green Hue Hi | 60 |
Defringe Green Hue Lo | 40 |
Defringe Purple Amount | 0 |
Defringe Purple Hue Hi | 70 |
Defringe Purple Hue Lo | 30 |
Dehaze | +19 |
Exposure 2012 | +0.95 |
Exposure Compensation | 0 |
Exposure Mode | Auto |
Field Of View | 6.2 deg |
Focal Length In 35mm Format | 330 mm |
Format | image/jpeg |
Gain Control | None |
Grain Amount | 0 |
Green Hue | 0 |
Green Saturation | 0 |
Has Crop | True |
Has Settings | True |
Highlights 2012 | -68 |
Hue Adjustment Aqua | 0 |
Hue Adjustment Blue | 0 |
Hue Adjustment Green | 0 |
Hue Adjustment Magenta | 0 |
Hue Adjustment Orange | 0 |
Hue Adjustment Purple | 0 |
Hue Adjustment Red | 0 |
Hue Adjustment Yellow | 0 |
Hyperfocal Distance | 431.48 m |
ISO | 500 |
Image Number | 8266 |
Image Size | 600x400 |
Lens | TAMRON 18-400mm F3.5-6.3 Di II VC HLD B028N |
Lens ID | Sigma 70-300mm F4-5.6 APO DG Macro HSM |
Lens Info | 18-400mm f/3.5-6.3 |
Lens Manual Distortion Amount | 0 |
Lens Model | TAMRON 18-400mm F3.5-6.3 Di II VC HLD B028N |
Lens Profile Enable | 0 |
Light Source | Unknown |
Light Value | 12.0 |
Look Amount | 1 |
Look Group | Profiles |
Look Name | Adobe Color |
Look Parameters Camera Profile | Adobe Standard |
Look Parameters Convert To Grayscale | False |
Look Parameters Look Table | E1095149FDB39D7A057BAB208837E2 E1 |
Look Parameters Process Version | 11.0 |
Look Parameters Tone Curve PV2012 | 0, 0, 22, 16, 40, 35, 127, 127, 224, 230, 240, 246, 255, 255 |
Look Parameters Tone Curve PV2012 Blue | 0, 0, 255, 255 |
Look Parameters Tone Curve PV2012 Green | 0, 0, 255, 255 |
Look Parameters Tone Curve PV2012 Red | 0, 0, 255, 255 |
Look Parameters Version | 14.1 |
Look Supports Amount | false |
Look Supports Monochrome | false |
Look Supports Output Referred | false |
Luminance Adjustment Aqua | 0 |
Luminance Adjustment Blue | 0 |
Luminance Adjustment Green | 0 |
Luminance Adjustment Magenta | 0 |
Luminance Adjustment Orange | 0 |
Luminance Adjustment Purple | 0 |
Luminance Adjustment Red | 0 |
Luminance Adjustment Yellow | 0 |
Luminance Smoothing | 0 |
Marked | True |
Metering Mode | Multi-segment |
Override Look Vignette | False |
Parametric Darks | 0 |
Parametric Highlight Split | 75 |
Parametric Highlights | 0 |
Parametric Lights | 0 |
Parametric Midtone Split | 50 |
Parametric Shadow Split | 25 |
Parametric Shadows | 0 |
Perspective Aspect | 0 |
Perspective Horizontal | 0 |
Perspective Rotate | 0.0 |
Perspective Scale | 100 |
Perspective Upright | 0 |
Perspective Vertical | 0 |
Perspective X | 0.00 |
Perspective Y | 0.00 |
Post Crop Vignette Amount | 0 |
Preserved File Name | _DSZ2289.NEF |
Process Version | 11.0 |
Rating | 3 |
Recommended Exposure Index | 500 |
Red Hue | 0 |
Red Saturation | 0 |
Rights | Bruce Hyde |
Saturation | Normal |
Saturation Adjustment Aqua | 0 |
Saturation Adjustment Blue | 0 |
Saturation Adjustment Green | 0 |
Saturation Adjustment Magenta | 0 |
Saturation Adjustment Orange | 0 |
Saturation Adjustment Purple | 0 |
Saturation Adjustment Red | 0 |
Saturation Adjustment Yellow | 0 |
Scale Factor To 35 mm Equivalent | 1.5 |
Scene Capture Type | Standard |
Scene Type | Directly photographed |
Sensing Method | One-chip color area |
Sensitivity Type | Recommended Exposure Index |
Shadow Tint | 0 |
Shadows 2012 | +34 |
Sharpen Detail | 25 |
Sharpen Edge Masking | 83 |
Sharpen Radius | +1.0 |
Sharpness | Normal |
Split Toning Balance | 0 |
Split Toning Highlight Hue | 0 |
Split Toning Highlight Saturation | 0 |
Split Toning Shadow Hue | 0 |
Split Toning Shadow Saturation | 0 |
Subject | Aythya fuligula, Birds, Manor Farm, Tufted Duck, female |
Subject Distance Range | Unknown |
Texture | +43 |
Tint | +5 |
Tone Curve Name 2012 | Linear |
Tone Curve PV2012 | 0, 0, 255, 255 |
Tone Curve PV2012 Blue | 0, 0, 255, 255 |
Tone Curve PV2012 Green | 0, 0, 255, 255 |
Tone Curve PV2012 Red | 0, 0, 255, 255 |
Version | 14.1 |
Vibrance | +15 |
Vignette Amount | 0 |
Weighted Flat Subject | Tufted Duck, Aythya fuligula, Birds, Manor Farm, female |
White Balance | Auto |
Whites 2012 | -16 |
GPS Information |
GPS Altitude | 123 m Above Sea Level |
GPS Altitude Ref | Above Sea Level |
GPS Date Stamp | 2020:04:25 |
GPS Date/Time | 2020:04:25 09:48:59Z |
GPS Latitude | 51 deg 55' 1.64" N |
GPS Latitude Ref | North |
GPS Longitude | 0 deg 49' 29.39" W |
GPS Longitude Ref | West |
GPS Map Datum | WGS-84 |
GPS Position | 51 deg 55' 1.64" N, 0 deg 49' 29.39" W |
GPS Satellites | 00 |
GPS Time Stamp | 09:48:59 |
GPS Version ID | 2.3.0.0 |