Shooting information for this photo
Camera: | NIKON CORPORATION NIKON Z 6 |
Exposure: | 0.002 sec. (1/500) |
Aperture: | f/10.0 |
Focal Length: | 370.0 mm (35 mm equivalent: 555.0 mm) |
Flash: | No Flash |
Exposure mode: | Shutter speed priority AE |
Resolution: | 72 x 72 dpi |
Original Date: | 2020:04:21 11:41:16.32 |
Created on: | 2020:04:21 11:41:16.32 |
Modified on: | 2021:12:24 17:21:47 |
Software: | Adobe Photoshop Lightroom Classic 11.1 (Windows) |
Copyright: | Bruce Hyde |
Already Applied | True |
Approximate Focus Distance | 4294967295 |
Artist | Bruce Hyde |
Auto Lateral CA | 1 |
Blacks 2012 | -29 |
Blue Hue | 0 |
Blue Saturation | 0 |
CFA Pattern | [Red,Green][Green,Blue] |
Camera Profile | Adobe Standard v2 |
Circle Of Confusion | 0.020 mm |
Clarity 2012 | +14 |
Color Grade Blending | 50 |
Color Grade Global Hue | 0 |
Color Grade Global Lum | 0 |
Color Grade Global Sat | 0 |
Color Grade Highlight Lum | 0 |
Color Grade Midtone Hue | 0 |
Color Grade Midtone Lum | 0 |
Color Grade Midtone Sat | 0 |
Color Grade Shadow Lum | 0 |
Color Noise Reduction | 25 |
Color Noise Reduction Detail | 50 |
Color Noise Reduction Smoothness | 50 |
Color Space | sRGB |
Color Temperature | 4450 |
Contrast | Normal |
Contrast 2012 | +7 |
Creator | Bruce Hyde |
Crop Angle | 0 |
Crop Bottom | 0.846348 |
Crop Constrain To Warp | 0 |
Crop Left | 0.075054 |
Crop Right | 0.81211 |
Crop Top | 0.109292 |
Custom Rendered | Custom |
Date Created | 2020:04:21 11:41:16.32+01:00 |
Defringe Green Amount | 0 |
Defringe Green Hue Hi | 60 |
Defringe Green Hue Lo | 40 |
Defringe Purple Amount | 0 |
Defringe Purple Hue Hi | 70 |
Defringe Purple Hue Lo | 30 |
Dehaze | +31 |
Exposure 2012 | +0.19 |
Exposure Compensation | 0 |
Exposure Mode | Auto |
Field Of View | 3.7 deg |
Focal Length In 35mm Format | 555 mm |
Format | image/jpeg |
Gain Control | None |
Grain Amount | 0 |
Green Hue | 0 |
Green Saturation | 0 |
Has Crop | True |
Has Settings | True |
Highlights 2012 | -41 |
Hue Adjustment Aqua | 0 |
Hue Adjustment Blue | 0 |
Hue Adjustment Green | 0 |
Hue Adjustment Magenta | 0 |
Hue Adjustment Orange | 0 |
Hue Adjustment Purple | 0 |
Hue Adjustment Red | 0 |
Hue Adjustment Yellow | 0 |
Hyperfocal Distance | 683.45 m |
ISO | 200 |
Image Number | 8033 |
Image Size | 600x400 |
Lens | TAMRON 18-400mm F3.5-6.3 Di II VC HLD B028N |
Lens ID | Sigma 70-300mm F4-5.6 APO DG Macro HSM |
Lens Info | 18-400mm f/3.5-6.3 |
Lens Manual Distortion Amount | 0 |
Lens Model | TAMRON 18-400mm F3.5-6.3 Di II VC HLD B028N |
Lens Profile Distortion Scale | 100 |
Lens Profile Enable | 1 |
Lens Profile Filename | NIKON CORPORATION (TAMRON 18-400mm F3.5-6.3 DiII VC HLD B028N) - RAW.lcp |
Lens Profile Is Embedded | False |
Lens Profile Name | Adobe (TAMRON 18-400mm F3.5-6.3 Di II VC HLD B028N, NIKON CORPORATION) |
Lens Profile Setup | LensDefaults |
Lens Profile Vignetting Scale | 100 |
Light Source | Unknown |
Light Value | 14.6 |
Look Amount | 1 |
Look Group | Profiles |
Look Name | Adobe Color |
Look Parameters Camera Profile | Adobe Standard |
Look Parameters Convert To Grayscale | False |
Look Parameters Look Table | E1095149FDB39D7A057BAB208837E2 E1 |
Look Parameters Process Version | 11.0 |
Look Parameters Tone Curve PV2012 | 0, 0, 22, 16, 40, 35, 127, 127, 224, 230, 240, 246, 255, 255 |
Look Parameters Tone Curve PV2012 Blue | 0, 0, 255, 255 |
Look Parameters Tone Curve PV2012 Green | 0, 0, 255, 255 |
Look Parameters Tone Curve PV2012 Red | 0, 0, 255, 255 |
Look Parameters Version | 14.1 |
Look Supports Amount | false |
Look Supports Monochrome | false |
Look Supports Output Referred | false |
Luminance Adjustment Aqua | 0 |
Luminance Adjustment Blue | 0 |
Luminance Adjustment Green | 0 |
Luminance Adjustment Magenta | 0 |
Luminance Adjustment Orange | 0 |
Luminance Adjustment Purple | 0 |
Luminance Adjustment Red | 0 |
Luminance Adjustment Yellow | 0 |
Luminance Smoothing | 0 |
Marked | True |
Metering Mode | Spot |
Override Look Vignette | False |
Paint Correction Active | true |
Paint Correction Amount | 1 |
Paint Correction Brightness | 0 |
Paint Correction Clarity | 0 |
Paint Correction Clarity 2012 | 0 |
Paint Correction Contrast | 0 |
Paint Correction Contrast 2012 | -0.56522 |
Paint Correction Correction Range Mask Color Amount | 0.5 |
Paint Correction Correction Range Mask Depth Feather | 0.5 |
Paint Correction Correction Range Mask Depth Max | 1 |
Paint Correction Correction Range Mask Depth Min | 0 |
Paint Correction Correction Range Mask Lum Feather | 0.5 |
Paint Correction Correction Range Mask Lum Max | 1 |
Paint Correction Correction Range Mask Lum Min | 0 |
Paint Correction Correction Range Mask Type | 0 |
Paint Correction Correction Range Mask Version | 2 |
Paint Correction Correction Sync ID | 054CDD98E7D5584B92ED5FC83EF784 32 |
Paint Correction Defringe | 0 |
Paint Correction Exposure | 0 |
Paint Correction Exposure 2012 | -0.23925 |
Paint Correction Highlights 2012 | 0 |
Paint Correction Hue | 0 |
Paint Correction Local Blacks 2012 | 0.47826 |
Paint Correction Local Dehaze | 0 |
Paint Correction Local Texture | 0.47826 |
Paint Correction Local Whites 2012 | 0 |
Paint Correction Luminance Noise | 0 |
Paint Correction Mask Center Weight | 0.169568 |
Paint Correction Mask Flow | 0.663 |
Paint Correction Mask Mask Active | true |
Paint Correction Mask Mask Blend Mode | 0 |
Paint Correction Mask Mask Inverted | false |
Paint Correction Mask Mask Sync ID | 9637A15AAB2E254992DF09273E64A6 A1 |
Paint Correction Mask Radius | 0.006513 |
Paint Correction Mask Value | 1 |
Paint Correction Mask What | Mask/Paint |
Paint Correction Moire | 0 |
Paint Correction Saturation | 0 |
Paint Correction Shadows 2012 | -0.47826 |
Paint Correction Sharpness | 0 |
Paint Correction Temperature | 0 |
Paint Correction Tint | 0 |
Paint Correction What | Correction |
Parametric Darks | 0 |
Parametric Highlight Split | 75 |
Parametric Highlights | 0 |
Parametric Lights | 0 |
Parametric Midtone Split | 50 |
Parametric Shadow Split | 25 |
Parametric Shadows | 0 |
Perspective Aspect | 0 |
Perspective Horizontal | 0 |
Perspective Rotate | 0.0 |
Perspective Scale | 100 |
Perspective Upright | 0 |
Perspective Vertical | 0 |
Perspective X | 0.00 |
Perspective Y | 0.00 |
Post Crop Vignette Amount | 0 |
Preserved File Name | _DSZ2056.NEF |
Process Version | 11.0 |
Rating | 4 |
Recommended Exposure Index | 200 |
Red Hue | 0 |
Red Saturation | 0 |
Rights | Bruce Hyde |
Saturation | Normal |
Saturation Adjustment Aqua | 0 |
Saturation Adjustment Blue | 0 |
Saturation Adjustment Green | 0 |
Saturation Adjustment Magenta | 0 |
Saturation Adjustment Orange | 0 |
Saturation Adjustment Purple | 0 |
Saturation Adjustment Red | 0 |
Saturation Adjustment Yellow | 0 |
Scale Factor To 35 mm Equivalent | 1.5 |
Scene Capture Type | Standard |
Scene Type | Directly photographed |
Sensing Method | One-chip color area |
Sensitivity Type | Recommended Exposure Index |
Shadow Tint | 0 |
Shadows 2012 | +42 |
Sharpen Detail | 25 |
Sharpen Edge Masking | 0 |
Sharpen Radius | +1.0 |
Sharpness | Normal |
Split Toning Balance | 0 |
Split Toning Highlight Hue | 0 |
Split Toning Highlight Saturation | 0 |
Split Toning Shadow Hue | 0 |
Split Toning Shadow Saturation | 0 |
Subject | Buck, Canines, Chinese Water Deer, Hydropotes inermis inermis, Mammals, Swanbourne Estate, Teeth, male |
Subject Distance Range | Unknown |
Texture | +17 |
Tint | +14 |
Tone Curve Name 2012 | Linear |
Tone Curve PV2012 | 0, 0, 255, 255 |
Tone Curve PV2012 Blue | 0, 0, 255, 255 |
Tone Curve PV2012 Green | 0, 0, 255, 255 |
Tone Curve PV2012 Red | 0, 0, 255, 255 |
Version | 14.1 |
Vibrance | +9 |
Vignette Amount | 0 |
Weighted Flat Subject | Chinese Water Deer, Hydropotes inermis inermis, Mammals, Swanbourne Estate, Buck, male, Canines, Teeth |
White Balance | Auto |
Whites 2012 | +50 |
GPS Information |
GPS Altitude | 104 m Above Sea Level |
GPS Altitude Ref | Above Sea Level |
GPS Date Stamp | 2020:04:21 |
GPS Date/Time | 2020:04:21 10:40:23.99Z |
GPS Latitude | 51 deg 55' 48.59" N |
GPS Latitude Ref | North |
GPS Longitude | 0 deg 49' 35.24" W |
GPS Longitude Ref | West |
GPS Map Datum | WGS-84 |
GPS Position | 51 deg 55' 48.59" N, 0 deg 49' 35.24" W |
GPS Satellites | 00 |
GPS Time Stamp | 10:40:23.99 |
GPS Version ID | 2.3.0.0 |