Shooting information for this photo
Camera: | NIKON CORPORATION NIKON Z 6 |
Exposure: | 0.001 sec. (1/1000) |
Aperture: | f/9.5 |
Focal Length: | 220.0 mm (35 mm equivalent: 330.0 mm) |
Flash: | No Flash |
Exposure mode: | Manual |
Resolution: | 72 x 72 dpi |
Original Date: | 2019:08:15 16:42:42.07 |
Created on: | 2019:08:15 16:42:42.07 |
Modified on: | 2019:12:21 22:18:23 |
Software: | Adobe Photoshop Lightroom Classic 9.1 (Windows) |
Copyright: | Bruce Hyde |
Already Applied | True |
Artist | Bruce Hyde |
Auto Lateral CA | 1 |
Blacks 2012 | -25 |
Blue Hue | 0 |
Blue Saturation | 0 |
CFA Pattern | [Red,Green][Green,Blue] |
Camera Profile | Camera Standard v2 |
Circle Of Confusion | 0.020 mm |
Clarity 2012 | 0 |
Color Noise Reduction | 10 |
Color Noise Reduction Detail | 50 |
Color Noise Reduction Smoothness | 50 |
Color Space | sRGB |
Color Temperature | 4850 |
Contrast | Normal |
Contrast 2012 | +7 |
Convert To Grayscale | False |
Creator | Bruce Hyde |
Crop Angle | 0 |
Crop Bottom | 0.617789 |
Crop Constrain To Warp | 0 |
Crop Left | 0.296875 |
Crop Right | 0.712741 |
Crop Top | 0.201923 |
Custom Rendered | Custom |
Date Created | 2019:08:15 16:42:42.07+01:00 |
Defringe Green Amount | 0 |
Defringe Green Hue Hi | 60 |
Defringe Green Hue Lo | 40 |
Defringe Purple Amount | 0 |
Defringe Purple Hue Hi | 70 |
Defringe Purple Hue Lo | 30 |
Dehaze | 0 |
Exposure 2012 | +0.57 |
Exposure Compensation | 0 |
Exposure Mode | Manual |
Field Of View | 6.2 deg |
Focal Length In 35mm Format | 330 mm |
Format | image/jpeg |
Gain Control | High gain up |
Grain Amount | 0 |
Green Hue | 0 |
Green Saturation | 0 |
Has Crop | True |
Has Settings | True |
Highlights 2012 | -47 |
Hue Adjustment Aqua | 0 |
Hue Adjustment Blue | 0 |
Hue Adjustment Green | 0 |
Hue Adjustment Magenta | 0 |
Hue Adjustment Orange | 0 |
Hue Adjustment Purple | 0 |
Hue Adjustment Red | 0 |
Hue Adjustment Yellow | 0 |
Hyperfocal Distance | 254.34 m |
ISO | 10000 |
Image Number | 866 |
Image Size | 600x400 |
Lens | 18.0-400.0 mm f/3.5-6.3 |
Lens Info | 18-400mm f/3.5-6.3 |
Lens Manual Distortion Amount | 0 |
Lens Model | 18.0-400.0 mm f/3.5-6.3 |
Lens Profile Chromatic Aberration Scale | 100 |
Lens Profile Distortion Scale | 100 |
Lens Profile Enable | 1 |
Lens Profile Filename | NIKON CORPORATION (TAMRON 18-400mm F3.5-6.3 DiII VC HLD B028N) - RAW.lcp |
Lens Profile Name | Adobe (TAMRON 18-400mm F3.5-6.3 Di II VC HLD B028N, NIKON CORPORATION) |
Lens Profile Setup | Custom |
Lens Profile Vignetting Scale | 100 |
Light Source | Unknown |
Light Value | 9.8 |
Luminance Adjustment Aqua | 0 |
Luminance Adjustment Blue | 0 |
Luminance Adjustment Green | 0 |
Luminance Adjustment Magenta | 0 |
Luminance Adjustment Orange | 0 |
Luminance Adjustment Purple | 0 |
Luminance Adjustment Red | 0 |
Luminance Adjustment Yellow | 0 |
Luminance Noise Reduction Contrast | 0 |
Luminance Noise Reduction Detail | 75 |
Luminance Smoothing | 45 |
Marked | True |
Metering Mode | Center-weighted average |
Override Look Vignette | False |
Parametric Darks | 0 |
Parametric Highlight Split | 75 |
Parametric Highlights | 0 |
Parametric Lights | 0 |
Parametric Midtone Split | 50 |
Parametric Shadow Split | 25 |
Parametric Shadows | 0 |
Perspective Aspect | 0 |
Perspective Horizontal | 0 |
Perspective Rotate | 0.0 |
Perspective Scale | 100 |
Perspective Upright | 0 |
Perspective Vertical | 0 |
Perspective X | 0.00 |
Perspective Y | 0.00 |
Post Crop Vignette Amount | 0 |
Preserved File Name | _DSZ0503.NEF |
Process Version | 11.0 |
Rating | 3 |
Recommended Exposure Index | 10000 |
Red Hue | 0 |
Red Saturation | 0 |
Rights | Bruce Hyde |
Saturation | Normal |
Saturation Adjustment Aqua | 0 |
Saturation Adjustment Blue | 0 |
Saturation Adjustment Green | 0 |
Saturation Adjustment Magenta | 0 |
Saturation Adjustment Orange | 0 |
Saturation Adjustment Purple | 0 |
Saturation Adjustment Red | 0 |
Saturation Adjustment Yellow | 0 |
Scale Factor To 35 mm Equivalent | 1.5 |
Scene Capture Type | Standard |
Scene Type | Directly photographed |
Sensing Method | One-chip color area |
Sensitivity Type | Recommended Exposure Index |
Shadow Tint | 0 |
Shadows 2012 | +16 |
Sharpen Detail | 25 |
Sharpen Edge Masking | 0 |
Sharpen Radius | +1.0 |
Sharpness | Normal |
Split Toning Balance | 0 |
Split Toning Highlight Hue | 0 |
Split Toning Highlight Saturation | 0 |
Split Toning Shadow Hue | 0 |
Split Toning Shadow Saturation | 0 |
Subject | Garden, Mammals, Sciurus carolinensis, Squirrel, Vine Cottage |
Subject Distance Range | Unknown |
Texture | 0 |
Tint | +35 |
Tone Curve | 0, 0, 32, 22, 64, 56, 128, 128, 192, 196, 255, 255 |
Tone Curve Blue | 0, 0, 255, 255 |
Tone Curve Green | 0, 0, 255, 255 |
Tone Curve Name | Medium Contrast |
Tone Curve Name 2012 | Linear |
Tone Curve PV2012 | 0, 0, 255, 255 |
Tone Curve PV2012 Blue | 0, 0, 255, 255 |
Tone Curve PV2012 Green | 0, 0, 255, 255 |
Tone Curve PV2012 Red | 0, 0, 255, 255 |
Tone Curve Red | 0, 0, 255, 255 |
Tone Map Strength | 0 |
Version | 12.1 |
Vibrance | +19 |
Vignette Amount | 0 |
White Balance | Auto |
Whites 2012 | +4 |
GPS Information |
GPS Altitude | 128 m Above Sea Level |
GPS Altitude Ref | Above Sea Level |
GPS Date Stamp | 2019:08:15 |
GPS Date/Time | 2019:08:15 15:40:51.26Z |
GPS Latitude | 51 deg 55' 5.63" N |
GPS Latitude Ref | North |
GPS Longitude | 0 deg 49' 38.63" W |
GPS Longitude Ref | West |
GPS Map Datum | WGS-84 |
GPS Position | 51 deg 55' 5.63" N, 0 deg 49' 38.63" W |
GPS Satellites | 00 |
GPS Time Stamp | 15:40:51.26 |
GPS Version ID | 2.3.0.0 |