Shooting information for this photo
Camera: | NIKON CORPORATION NIKON D7200 |
Exposure: | 0.004 sec. (1/250) |
Aperture: | f/8.0 |
Focal Length: | 90.0 mm (35 mm equivalent: 135.0 mm) |
Flash: | Off, Did not fire |
Exposure mode: | Shutter speed priority AE |
Max Aperture: | 3.4 |
Resolution: | 240 x 240 dpi |
Original Date: | 2018:08:21 12:54:25.05 |
Created on: | 2018:08:21 12:54:25.05 |
Modified on: | 2018:09:18 17:17:32 |
Software: | Adobe Photoshop Lightroom Classic 7.5 (Windows) |
Copyright: | Bruce Hyde |
Already Applied | True |
Approximate Focus Distance | 0.71 |
Artist | Bruce Hyde |
Auto Lateral CA | 0 |
Blacks 2012 | -17 |
Blue Hue | 0 |
Blue Saturation | 0 |
CFA Pattern | [Red,Green][Green,Blue] |
Camera Profile | Adobe Standard |
Circle Of Confusion | 0.020 mm |
City | Milton Keynes |
Clarity 2012 | 0 |
Color Noise Reduction | 25 |
Color Noise Reduction Detail | 50 |
Color Noise Reduction Smoothness | 50 |
Color Space | sRGB |
Color Temperature | 4400 |
Contrast | Normal |
Contrast 2012 | -22 |
Convert To Grayscale | False |
Country | United Kingdom |
Country Code | GB |
Creator | Bruce Hyde |
Crop Angle | 0 |
Crop Bottom | 0.920573 |
Crop Constrain To Warp | 0 |
Crop Left | 0.166016 |
Crop Right | 0.73763 |
Crop Top | 0.348959 |
Custom Rendered | Normal |
Date Created | 2018:08:21 12:54:25.05 |
Defringe Green Amount | 0 |
Defringe Green Hue Hi | 60 |
Defringe Green Hue Lo | 40 |
Defringe Purple Amount | 0 |
Defringe Purple Hue Hi | 70 |
Defringe Purple Hue Lo | 30 |
Dehaze | +21 |
Digital Zoom Ratio | 1 |
Exposure 2012 | -0.07 |
Exposure Compensation | 0 |
Exposure Mode | Auto |
Field Of View | 15.2 deg |
Focal Length In 35mm Format | 135 mm |
Format | image/jpeg |
Gain Control | None |
Grain Amount | 0 |
Green Hue | 0 |
Green Saturation | 0 |
Has Crop | True |
Has Settings | True |
Highlights 2012 | -58 |
Hue Adjustment Aqua | 0 |
Hue Adjustment Blue | 0 |
Hue Adjustment Green | 0 |
Hue Adjustment Magenta | 0 |
Hue Adjustment Orange | 0 |
Hue Adjustment Purple | 0 |
Hue Adjustment Red | 0 |
Hue Adjustment Yellow | 0 |
Hyperfocal Distance | 50.55 m |
ISO | 200 |
Image Number | 16295 |
Image Size | 3873x2582 |
Lens | TAMRON SP 90mm F2.8 Di Macro VC USD F017N |
Lens ID | TAMRON SP 90mm F2.8 Di Macro VC USD F017N |
Lens Info | 90mm f/2.8 |
Lens Manual Distortion Amount | 0 |
Lens Model | TAMRON SP 90mm F2.8 Di Macro VC USD F017N |
Lens Profile Enable | 0 |
Lens Profile Setup | LensDefaults |
Light Source | Unknown |
Light Value | 13.0 |
Location | Swanbourne |
Look Amount | 1.000000 |
Look Group | Profiles |
Look Name | Adobe Color |
Look Parameters Camera Profile | Adobe Standard |
Look Parameters Convert To Grayscale | False |
Look Parameters Look Table | E1095149FDB39D7A057BAB208837E2 E1 |
Look Parameters Process Version | 10.0 |
Look Parameters Tone Curve PV2012 | 0, 0, 22, 16, 40, 35, 127, 127, 224, 230, 240, 246, 255, 255 |
Look Parameters Tone Curve PV2012 Blue | 0, 0, 255, 255 |
Look Parameters Tone Curve PV2012 Green | 0, 0, 255, 255 |
Look Parameters Tone Curve PV2012 Red | 0, 0, 255, 255 |
Look Parameters Version | 10.5 |
Look Supports Amount | false |
Look Supports Monochrome | false |
Look Supports Output Referred | false |
Luminance Adjustment Aqua | 0 |
Luminance Adjustment Blue | 0 |
Luminance Adjustment Green | 0 |
Luminance Adjustment Magenta | 0 |
Luminance Adjustment Orange | 0 |
Luminance Adjustment Purple | 0 |
Luminance Adjustment Red | 0 |
Luminance Adjustment Yellow | 0 |
Luminance Smoothing | 0 |
Metering Mode | Center-weighted average |
Override Look Vignette | False |
Parametric Darks | 0 |
Parametric Highlight Split | 75 |
Parametric Highlights | 0 |
Parametric Lights | 0 |
Parametric Midtone Split | 50 |
Parametric Shadow Split | 25 |
Parametric Shadows | 0 |
Perspective Aspect | 0 |
Perspective Horizontal | 0 |
Perspective Rotate | 0.0 |
Perspective Scale | 100 |
Perspective Upright | 0 |
Perspective Vertical | 0 |
Perspective X | 0.00 |
Perspective Y | 0.00 |
Post Crop Vignette Amount | 0 |
Process Version | 10.0 |
Rating | 2 |
Raw File Name | _DSA8488.NEF |
Red Hue | 0 |
Red Saturation | 0 |
Rights | Bruce Hyde |
Saturation | Normal |
Saturation Adjustment Aqua | 0 |
Saturation Adjustment Blue | 0 |
Saturation Adjustment Green | 0 |
Saturation Adjustment Magenta | 0 |
Saturation Adjustment Orange | 0 |
Saturation Adjustment Purple | 0 |
Saturation Adjustment Red | 0 |
Saturation Adjustment Yellow | 0 |
Scale Factor To 35 mm Equivalent | 1.5 |
Scene Capture Type | Standard |
Scene Type | Directly photographed |
Sensing Method | One-chip color area |
Sensitivity Type | Recommended Exposure Index |
Shadow Tint | 0 |
Shadows 2012 | +36 |
Sharpen Detail | 25 |
Sharpen Edge Masking | 0 |
Sharpen Radius | +1.0 |
Sharpness | Normal |
Split Toning Balance | 0 |
Split Toning Highlight Hue | 0 |
Split Toning Highlight Saturation | 0 |
Split Toning Shadow Hue | 0 |
Split Toning Shadow Saturation | 0 |
State | England |
Subject | Common Spreadwing, Damselflies, Dragonflies, Emerald Damselfly, Insects, Invertebrae, Lestes sponsa, Odonata, Swanbourne Pond, male |
Subject Distance Range | Unknown |
Tint | +3 |
Tone Curve | 0, 0, 255, 255 |
Tone Curve Blue | 0, 0, 255, 255 |
Tone Curve Green | 0, 0, 255, 255 |
Tone Curve Name | Linear |
Tone Curve Name 2012 | Linear |
Tone Curve PV2012 | 0, 0, 255, 255 |
Tone Curve PV2012 Blue | 0, 0, 255, 255 |
Tone Curve PV2012 Green | 0, 0, 255, 255 |
Tone Curve PV2012 Red | 0, 0, 255, 255 |
Tone Curve Red | 0, 0, 255, 255 |
Tone Map Strength | 0 |
Version | 10.5 |
Vibrance | +11 |
Vignette Amount | 0 |
White Balance | Auto |
Whites 2012 | +23 |
GPS Information |
GPS Altitude | 90 m |
GPS Date Stamp | 2018:08:21 |
GPS Date/Time | 2018:08:21 11:53:14Z |
GPS Latitude | 51 deg 55' 54.01" N |
GPS Latitude Ref | North |
GPS Longitude | 0 deg 50' 22.15" W |
GPS Longitude Ref | West |
GPS Position | 51 deg 55' 54.01" N, 0 deg 50' 22.15" W |
GPS Satellites | 06 |
GPS Time Stamp | 11:53:14 |
GPS Version ID | 2.3.0.0 |