Shooting information for this photo
Camera: | FUJIFILM FinePix X100 |
Exposure: | 0.00333 sec. (1/300) |
Aperture: | f/5.6 |
Focal Length: | 23.0 mm (35 mm equivalent: 18.2 mm) |
Flash: | Off, Did not fire |
Exposure mode: | Aperture-priority AE |
Max Aperture: | 2.0 |
Resolution: | 240 x 240 dpi |
Original Date: | 2013:10:31 13:07:19 |
Created on: | 2013:10:31 13:07:19 |
Modified on: | 2013:11:04 19:20:55 |
Software: | Adobe Photoshop Lightroom 4.4 (Windows) |
Already Applied | True |
Auto Lateral CA | 0 |
Blacks 2012 | -10 |
Blue Hue | 0 |
Blue Saturation | 0 |
Brightness Value | 8.18 |
Camera Profile | Adobe Standard |
Circle Of Confusion | 0.038 mm |
Clarity 2012 | -10 |
Color Noise Reduction | 25 |
Color Noise Reduction Detail | 50 |
Color Temperature | 3563 |
Contrast 2012 | -19 |
Convert To Grayscale | True |
Crop Angle | 0 |
Crop Bottom | 0.982877 |
Crop Constrain To Warp | 0 |
Crop Height | 2799 |
Crop Left | 0 |
Crop Right | 0.982877 |
Crop Top | 0 |
Crop Unit | pixels |
Crop Width | 4215 |
Custom Rendered | Normal |
Date Created | 2013:10:31 13:07:19 |
Exposure 2012 | -0.24 |
Exposure Compensation | +0.33 |
Exposure Mode | Auto |
Field Of View | 89.5 deg |
Format | image/jpeg |
Grain Amount | 6 |
Grain Frequency | 50 |
Grain Size | 25 |
Gray Mixer Aqua | +50 |
Gray Mixer Blue | -1 |
Gray Mixer Green | +75 |
Gray Mixer Magenta | -1 |
Gray Mixer Orange | -4 |
Gray Mixer Purple | +2 |
Gray Mixer Red | -4 |
Gray Mixer Yellow | +100 |
Green Hue | 0 |
Green Saturation | 0 |
Has Crop | True |
Has Settings | True |
Highlights 2012 | -69 |
Hyperfocal Distance | 2.48 m |
ISO | 200 |
Image Size | 4215x2799 |
Lens Manual Distortion Amount | 0 |
Lens Profile Chromatic Aberration Scale | 100 |
Lens Profile Distortion Scale | 100 |
Lens Profile Enable | 0 |
Lens Profile Filename | Fujifilm FinePix X100.lcp |
Lens Profile Name | Adobe (Fujifilm FinePix X100) |
Lens Profile Setup | LensDefaults |
Lens Profile Vignetting Scale | 100 |
Light Source | Unknown |
Light Value | 12.2 |
Luminance Smoothing | 0 |
Metering Mode | Multi-segment |
Parametric Darks | -2 |
Parametric Highlight Split | 75 |
Parametric Highlights | 0 |
Parametric Lights | -3 |
Parametric Midtone Split | 50 |
Parametric Shadow Split | 25 |
Parametric Shadows | 0 |
Perspective Horizontal | 0 |
Perspective Rotate | 0.0 |
Perspective Scale | 100 |
Perspective Vertical | 0 |
Post Crop Vignette Amount | +100 |
Post Crop Vignette Feather | 100 |
Post Crop Vignette Midpoint | 67 |
Post Crop Vignette Roundness | -48 |
Post Crop Vignette Style | 1 |
Process Version | 6.7 |
Red Hue | 0 |
Red Saturation | 0 |
Scale Factor To 35 mm Equivalent | 0.8 |
Scene Capture Type | Standard |
Scene Type | Directly photographed |
Sensing Method | One-chip color area |
Sensitivity Type | Standard Output Sensitivity |
Shadow Tint | 0 |
Shadows 2012 | +50 |
Sharpen Detail | 25 |
Sharpen Edge Masking | 0 |
Sharpen Radius | +1.0 |
Sharpness | Normal |
Split Toning Balance | 0 |
Split Toning Highlight Hue | 0 |
Split Toning Highlight Saturation | 0 |
Split Toning Shadow Hue | 0 |
Split Toning Shadow Saturation | 0 |
Subject Distance Range | Unknown |
Tint | -150 |
Tone Curve Name 2012 | Linear |
Tone Curve PV2012 | 0, 0, 255, 255 |
Tone Curve PV2012 Blue | 0, 0, 255, 255 |
Tone Curve PV2012 Green | 0, 0, 255, 255 |
Tone Curve PV2012 Red | 0, 0, 255, 255 |
Version | 7.4 |
Vignette Amount | 0 |
White Balance | Auto |
Whites 2012 | +26 |