Shooting information for this photo
Camera: | FUJIFILM FinePix X100 |
Exposure: | 0.00286 sec. (1/350) |
Aperture: | f/5.6 |
Focal Length: | 23.0 mm (35 mm equivalent: 17.9 mm) |
Flash: | Off, Did not fire |
Exposure mode: | Aperture-priority AE |
Max Aperture: | 2.0 |
Resolution: | 240 x 240 dpi |
Original Date: | 2013:10:31 13:06:24 |
Created on: | 2013:10:31 13:06:24 |
Modified on: | 2013:10:31 15:38:53 |
Software: | Adobe Photoshop Lightroom 4.4 (Windows) |
Already Applied | True |
Auto Lateral CA | 0 |
Blacks 2012 | -10 |
Blue Hue | -14 |
Blue Saturation | +11 |
Brightness Value | 7.81 |
Camera Profile | Adobe Standard |
Circle Of Confusion | 0.039 mm |
Clarity 2012 | +24 |
Color Noise Reduction | 25 |
Color Noise Reduction Detail | 50 |
Color Temperature | 4500 |
Contrast 2012 | +2 |
Convert To Grayscale | True |
Custom Rendered | Normal |
Date Created | 2013:10:31 13:06:24 |
Exposure 2012 | +0.30 |
Exposure Compensation | 0 |
Exposure Mode | Auto |
Field Of View | 90.4 deg |
Format | image/jpeg |
Grain Amount | 2 |
Grain Frequency | 50 |
Grain Size | 25 |
Gray Mixer Aqua | -16 |
Gray Mixer Blue | -27 |
Gray Mixer Green | +2 |
Gray Mixer Magenta | 0 |
Gray Mixer Orange | 0 |
Gray Mixer Purple | 0 |
Gray Mixer Red | +10 |
Gray Mixer Yellow | +16 |
Green Hue | -11 |
Green Saturation | +7 |
Has Crop | False |
Has Settings | True |
Highlights 2012 | -26 |
Hyperfocal Distance | 2.44 m |
ISO | 200 |
Image Size | 2848x4288 |
Lens Manual Distortion Amount | 0 |
Lens Profile Enable | 0 |
Lens Profile Setup | LensDefaults |
Light Source | Unknown |
Light Value | 12.4 |
Luminance Smoothing | 0 |
Metering Mode | Multi-segment |
Parametric Darks | -13 |
Parametric Highlight Split | 75 |
Parametric Highlights | -7 |
Parametric Lights | +3 |
Parametric Midtone Split | 50 |
Parametric Shadow Split | 25 |
Parametric Shadows | +7 |
Perspective Horizontal | 0 |
Perspective Rotate | 0.0 |
Perspective Scale | 100 |
Perspective Vertical | 0 |
Post Crop Vignette Amount | -26 |
Post Crop Vignette Feather | 75 |
Post Crop Vignette Highlight Contrast | 0 |
Post Crop Vignette Midpoint | 58 |
Post Crop Vignette Roundness | -55 |
Post Crop Vignette Style | 2 |
Process Version | 6.7 |
Red Hue | +25 |
Red Saturation | 0 |
Scale Factor To 35 mm Equivalent | 0.8 |
Scene Capture Type | Standard |
Scene Type | Directly photographed |
Sensing Method | One-chip color area |
Sensitivity Type | Standard Output Sensitivity |
Shadow Tint | -61 |
Shadows 2012 | +26 |
Sharpen Detail | 25 |
Sharpen Edge Masking | 0 |
Sharpen Radius | +1.0 |
Sharpness | Normal |
Split Toning Balance | 0 |
Split Toning Highlight Hue | 0 |
Split Toning Highlight Saturation | 0 |
Split Toning Shadow Hue | 0 |
Split Toning Shadow Saturation | 0 |
Subject Distance Range | Unknown |
Tint | +34 |
Tone Curve Name 2012 | Linear |
Tone Curve PV2012 | 0, 0, 255, 255 |
Tone Curve PV2012 Blue | 0, 0, 255, 255 |
Tone Curve PV2012 Green | 0, 0, 255, 255 |
Tone Curve PV2012 Red | 0, 0, 255, 255 |
Version | 7.4 |
Vignette Amount | +100 |
Vignette Midpoint | 24 |
White Balance | Auto |
Whites 2012 | +38 |