Shooting information for this photo
Camera: | FUJIFILM FinePix X100 |
Exposure: | 0.14286 sec. (1/7) |
Aperture: | f/2.0 |
Focal Length: | 23.0 mm (35 mm equivalent: 18.6 mm) |
Flash: | Off, Did not fire |
Exposure mode: | Aperture-priority AE |
Max Aperture: | 2.0 |
Resolution: | 240 x 240 dpi |
Original Date: | 2013:08:23 22:05:30 |
Created on: | 2013:08:23 22:05:30 |
Modified on: | 2013:08:26 19:56:11 |
Software: | Adobe Photoshop Lightroom 4.4 (Windows) |
Already Applied | True |
Auto Lateral CA | 0 |
Blacks 2012 | -10 |
Blue Hue | 0 |
Blue Saturation | 0 |
Brightness Value | -3.92 |
Camera Profile | Adobe Standard |
Circle Of Confusion | 0.037 mm |
Clarity 2012 | +26 |
Color Noise Reduction | 39 |
Color Noise Reduction Detail | 50 |
Color Temperature | 2550 |
Contrast 2012 | +5 |
Convert To Grayscale | True |
Crop Angle | 0 |
Crop Bottom | 0.958904 |
Crop Constrain To Warp | 0 |
Crop Height | 2731 |
Crop Left | 0.041096 |
Crop Right | 1 |
Crop Top | 0 |
Crop Unit | pixels |
Crop Width | 4112 |
Custom Rendered | Custom |
Date Created | 2013:08:23 22:05:30 |
Exposure 2012 | -0.10 |
Exposure Compensation | 0 |
Exposure Mode | Auto |
Field Of View | 88.0 deg |
Format | image/jpeg |
Grain Amount | 20 |
Grain Frequency | 50 |
Grain Size | 25 |
Gray Mixer Aqua | -20 |
Gray Mixer Blue | +4 |
Gray Mixer Green | -23 |
Gray Mixer Magenta | +7 |
Gray Mixer Orange | -11 |
Gray Mixer Purple | +13 |
Gray Mixer Red | -2 |
Gray Mixer Yellow | -15 |
Green Hue | 0 |
Green Saturation | 0 |
Has Crop | True |
Has Settings | True |
Highlights 2012 | -55 |
Hyperfocal Distance | 7.13 m |
ISO | 1600 |
Image Size | 4112x2731 |
Lens Manual Distortion Amount | 0 |
Lens Profile Chromatic Aberration Scale | 100 |
Lens Profile Distortion Scale | 100 |
Lens Profile Enable | 1 |
Lens Profile Filename | Fujifilm FinePix X100.lcp |
Lens Profile Name | Adobe (Fujifilm FinePix X100) |
Lens Profile Setup | Custom |
Lens Profile Vignetting Scale | 100 |
Light Source | Unknown |
Light Value | 0.8 |
Luminance Noise Reduction Contrast | 56 |
Luminance Noise Reduction Detail | 50 |
Luminance Smoothing | 66 |
Metering Mode | Multi-segment |
Parametric Darks | +25 |
Parametric Highlight Split | 75 |
Parametric Highlights | +75 |
Parametric Lights | +10 |
Parametric Midtone Split | 50 |
Parametric Shadow Split | 25 |
Parametric Shadows | -100 |
Perspective Horizontal | 0 |
Perspective Rotate | 0.0 |
Perspective Scale | 100 |
Perspective Vertical | 0 |
Post Crop Vignette Amount | 0 |
Process Version | 6.7 |
Red Hue | 0 |
Red Saturation | 0 |
Scale Factor To 35 mm Equivalent | 0.8 |
Scene Capture Type | Standard |
Scene Type | Directly photographed |
Sensing Method | One-chip color area |
Sensitivity Type | Standard Output Sensitivity |
Shadow Tint | 0 |
Shadows 2012 | +21 |
Sharpen Detail | 25 |
Sharpen Edge Masking | 0 |
Sharpen Radius | +2.0 |
Sharpness | Normal |
Split Toning Balance | 0 |
Split Toning Highlight Hue | 55 |
Split Toning Highlight Saturation | 33 |
Split Toning Shadow Hue | 21 |
Split Toning Shadow Saturation | 0 |
Subject Distance Range | Unknown |
Tint | +6 |
Tone Curve Name 2012 | Linear |
Tone Curve PV2012 | 0, 0, 255, 255 |
Tone Curve PV2012 Blue | 0, 0, 255, 255 |
Tone Curve PV2012 Green | 0, 0, 255, 255 |
Tone Curve PV2012 Red | 0, 0, 255, 255 |
Version | 7.4 |
Vignette Amount | -100 |
Vignette Midpoint | 0 |
White Balance | Auto |
Whites 2012 | +2 |