Shooting information for this photo
Camera: | Canon EOS 5D Mark IV |
Exposure: | 0.02 sec. (1/50) |
Aperture: | f/4.0 |
Focal Length: | 35.0 mm (35 mm equivalent: 57.5 mm) |
Flash: | Off, Did not fire |
Exposure mode: | Aperture-priority AE |
Max Aperture: | 1.4 |
Resolution: | 150 x 150 dpi |
Original Date: | 2020:10:02 08:48:32.85 |
Created on: | 2020:10:02 08:48:32.85 |
Modified on: | 2022:10:24 19:02:39 |
Software: | Adobe Photoshop Lightroom Classic 11.5 (Windows) |
Copyright: | matlam-PHOTOGRAPHY Matthias Lammers |
Already Applied | True |
Approximate Focus Distance | 4294967295 |
Artist | Matthias Lammers |
Auto Lateral CA | 0 |
Blacks 2012 | -18 |
Blue Hue | -17 |
Blue Saturation | +40 |
Camera Profile | Adobe Standard |
Circle Of Confusion | 0.018 mm |
Clarity 2012 | +11 |
Color Grade Blending | 50 |
Color Grade Global Hue | 0 |
Color Grade Global Lum | 0 |
Color Grade Global Sat | 0 |
Color Grade Highlight Lum | 0 |
Color Grade Midtone Hue | 259 |
Color Grade Midtone Lum | 0 |
Color Grade Midtone Sat | 0 |
Color Grade Shadow Lum | 0 |
Color Noise Reduction | 25 |
Color Noise Reduction Detail | 50 |
Color Noise Reduction Smoothness | 50 |
Color Space | sRGB |
Color Temperature | 5019 |
Compatible Version | 234881024 |
Contrast 2012 | +6 |
Creator | Matthias Lammers |
Crop Angle | 0 |
Crop Bottom | 1 |
Crop Constrain To Warp | 0 |
Crop Left | 0.081473 |
Crop Right | 0.914806 |
Crop Top | 0 |
Custom Rendered | Normal |
Date Created | 2020:10:02 08:48:32.85+01:00 |
Defringe Green Amount | 0 |
Defringe Green Hue Hi | 60 |
Defringe Green Hue Lo | 40 |
Defringe Purple Amount | 0 |
Defringe Purple Hue Hi | 70 |
Defringe Purple Hue Lo | 30 |
Dehaze | 0 |
Exposure 2012 | +0.46 |
Exposure Compensation | 0 |
Exposure Mode | Auto bracket |
Field Of View | 34.8 deg |
Firmware | 1.2.1 |
Flash Compensation | 0 |
Format | image/jpeg |
Grain Amount | 0 |
Green Hue | -85 |
Green Saturation | +26 |
Has Crop | True |
Has Settings | True |
Highlights 2012 | -70 |
Hue Adjustment Aqua | -100 |
Hue Adjustment Blue | -96 |
Hue Adjustment Green | -100 |
Hue Adjustment Magenta | 0 |
Hue Adjustment Orange | -9 |
Hue Adjustment Purple | 0 |
Hue Adjustment Red | +27 |
Hue Adjustment Yellow | -100 |
Hyperfocal Distance | 16.74 m |
ISO | 200 |
Image Number | 0 |
Image Size | 3072x3840 |
Lens | 35mm F1.4 DG HSM | Art 012 |
Lens ID | Canon 35mm F1.4 DG HSM | Art 012 |
Lens Info | 35mm f/? |
Lens Manual Distortion Amount | 0 |
Lens Model | 35mm F1.4 DG HSM | Art 012 |
Lens Profile Enable | 0 |
Light Value | 8.6 |
Look Amount | 1 |
Look Group | Profiles |
Look Name | Adobe Color |
Look Parameters Camera Profile | Adobe Standard |
Look Parameters Convert To Grayscale | False |
Look Parameters Look Table | E1095149FDB39D7A057BAB208837E2 E1 |
Look Parameters Process Version | 11.0 |
Look Parameters Tone Curve PV2012 | 0, 0, 22, 16, 40, 35, 127, 127, 224, 230, 240, 246, 255, 255 |
Look Parameters Tone Curve PV2012 Blue | 0, 0, 255, 255 |
Look Parameters Tone Curve PV2012 Green | 0, 0, 255, 255 |
Look Parameters Tone Curve PV2012 Red | 0, 0, 255, 255 |
Look Parameters Version | 14.5 |
Look Supports Amount | false |
Look Supports Monochrome | false |
Look Supports Output Referred | false |
Luminance Adjustment Aqua | 0 |
Luminance Adjustment Blue | 0 |
Luminance Adjustment Green | 0 |
Luminance Adjustment Magenta | 0 |
Luminance Adjustment Orange | +27 |
Luminance Adjustment Purple | 0 |
Luminance Adjustment Red | 0 |
Luminance Adjustment Yellow | +16 |
Luminance Smoothing | 0 |
Marked | True |
Metering Mode | Multi-segment |
Override Look Vignette | True |
Owner Name | Matthias Lammers |
Parametric Darks | 0 |
Parametric Highlight Split | 75 |
Parametric Highlights | 0 |
Parametric Lights | 0 |
Parametric Midtone Split | 50 |
Parametric Shadow Split | 25 |
Parametric Shadows | 0 |
Perspective Aspect | 0 |
Perspective Horizontal | 0 |
Perspective Rotate | 0.0 |
Perspective Scale | 100 |
Perspective Upright | 0 |
Perspective Vertical | 0 |
Perspective X | 0.00 |
Perspective Y | 0.00 |
Post Crop Vignette Amount | -35 |
Post Crop Vignette Feather | 100 |
Post Crop Vignette Highlight Contrast | 100 |
Post Crop Vignette Midpoint | 28 |
Post Crop Vignette Roundness | +75 |
Post Crop Vignette Style | 1 |
Preserved File Name | ML721485.CR2 |
Process Version | 11.0 |
Range Mask Map Info Range Mask Map Info Lab Max | 0.993332 0.552575 0.557107 |
Range Mask Map Info Range Mask Map Info Lab Min | 0.000549 0.461311 0.490486 |
Range Mask Map Info Range Mask Map Info RGB Max | 0.798352 0.729793 0.761593 |
Range Mask Map Info Range Mask Map Info RGB Min | 0.002518 0.002594 0.001999 |
Raw File Name | 0109.CR2 |
Recommended Exposure Index | 200 |
Red Hue | 0 |
Red Saturation | 0 |
Rights | matlam-PHOTOGRAPHY Matthias Lammers |
Saturation | +23 |
Saturation Adjustment Aqua | 0 |
Saturation Adjustment Blue | 0 |
Saturation Adjustment Green | 0 |
Saturation Adjustment Magenta | 0 |
Saturation Adjustment Orange | +32 |
Saturation Adjustment Purple | 0 |
Saturation Adjustment Red | 0 |
Saturation Adjustment Yellow | +23 |
Scale Factor To 35 mm Equivalent | 1.6 |
Scene Capture Type | Standard |
Sensitivity Type | Recommended Exposure Index |
Shadow Tint | 0 |
Shadows 2012 | +25 |
Sharpen Detail | 25 |
Sharpen Edge Masking | 79 |
Sharpen Radius | +0.8 |
Sharpness | 75 |
Split Toning Balance | 0 |
Split Toning Highlight Hue | 0 |
Split Toning Highlight Saturation | 0 |
Split Toning Shadow Hue | 24 |
Split Toning Shadow Saturation | 0 |
Texture | +30 |
Tint | +6 |
Tone Curve Name 2012 | Linear |
Tone Curve PV2012 | 0, 0, 255, 255 |
Tone Curve PV2012 Blue | 0, 0, 255, 255 |
Tone Curve PV2012 Green | 0, 0, 255, 255 |
Tone Curve PV2012 Red | 0, 0, 255, 255 |
Usage Terms | Zur freien persönlichen Verwendung des Porträtierten. Alle anderen Verwendungen sind genehmigungspflichtig. |
Version | 14.5 |
Vibrance | -42 |
Vignette Amount | 0 |
Web Statement | http://matlam-photography.jimd o.com/ |
White Balance | Manual |
Whites 2012 | +14 |