Shooting information for this photo
Camera: | Canon EOS R5 |
Exposure: | 0.0125 sec. (1/80) |
Aperture: | f/8.0 |
Focal Length: | 116.0 mm (35 mm equivalent: 115.8 mm) |
Flash: | No Flash |
Exposure mode: | Manual |
Max Aperture: | 4.0 |
Resolution: | 400 x 400 dpi |
Original Date: | 2021:07:03 05:22:53.22Z |
Created on: | 2021:07:03 05:22:53.22Z |
Modified on: | 2021:07:03 09:09:10+02:00 |
Already Applied | True |
Approximate Focus Distance | 4294967295 |
Auto Lateral CA | 1 |
Auto White Version | 134348800 |
Blacks 2012 | -31 |
Blue Hue | 0 |
Blue Saturation | 0 |
Camera Profile | Adobe Standard |
Circle Of Confusion | 0.030 mm |
Circular Gradient Based Corrections Correction Active | true |
Circular Gradient Based Corrections Correction Amount | 1.000000 |
Circular Gradient Based Corrections Correction Masks Angle | 0.000000 |
Circular Gradient Based Corrections Correction Masks Bottom | 0.479799 |
Circular Gradient Based Corrections Correction Masks Feather | +50 |
Circular Gradient Based Corrections Correction Masks Flipped | true |
Circular Gradient Based Corrections Correction Masks Left | 0.515654 |
Circular Gradient Based Corrections Correction Masks Mask Value | 1.000000 |
Circular Gradient Based Corrections Correction Masks Midpoint | +50 |
Circular Gradient Based Corrections Correction Masks Right | 0.679257 |
Circular Gradient Based Corrections Correction Masks Roundness | 0 |
Circular Gradient Based Corrections Correction Masks Top | 0.130897 |
Circular Gradient Based Corrections Correction Masks Version | +2 |
Circular Gradient Based Corrections Correction Masks What | Mask/CircularGradient |
Circular Gradient Based Corrections Correction Range Mask Color Amount | 0.500000 |
Circular Gradient Based Corrections Correction Range Mask Depth Feather | 0.500000 |
Circular Gradient Based Corrections Correction Range Mask Depth Max | 1.000000 |
Circular Gradient Based Corrections Correction Range Mask Depth Min | 0.000000 |
Circular Gradient Based Corrections Correction Range Mask Lum Feather | 0.500000 |
Circular Gradient Based Corrections Correction Range Mask Lum Max | 1.000000 |
Circular Gradient Based Corrections Correction Range Mask Lum Min | 0.000000 |
Circular Gradient Based Corrections Correction Range Mask Type | 0 |
Circular Gradient Based Corrections Correction Range Mask Version | +2 |
Circular Gradient Based Corrections Local Blacks 2012 | 0.000000 |
Circular Gradient Based Corrections Local Brightness | 0.000000 |
Circular Gradient Based Corrections Local Clarity 2012 | 0.129630 |
Circular Gradient Based Corrections Local Contrast 2012 | 0.000000 |
Circular Gradient Based Corrections Local Defringe | 0.000000 |
Circular Gradient Based Corrections Local Dehaze | 0.222220 |
Circular Gradient Based Corrections Local Exposure 2012 | 0.000000 |
Circular Gradient Based Corrections Local Highlights 2012 | 0.000000 |
Circular Gradient Based Corrections Local Hue | 0.000000 |
Circular Gradient Based Corrections Local Luminance Noise | 0.000000 |
Circular Gradient Based Corrections Local Moire | 0.000000 |
Circular Gradient Based Corrections Local Saturation | 0.000000 |
Circular Gradient Based Corrections Local Shadows 2012 | 0.000000 |
Circular Gradient Based Corrections Local Sharpness | 0.000000 |
Circular Gradient Based Corrections Local Temperature | 0.000000 |
Circular Gradient Based Corrections Local Texture | 0.000000 |
Circular Gradient Based Corrections Local Tint | 0.000000 |
Circular Gradient Based Corrections Local Toning Hue | 13.972400 |
Circular Gradient Based Corrections Local Toning Saturation | 0.000000 |
Circular Gradient Based Corrections Local Whites 2012 | 0.000000 |
Circular Gradient Based Corrections What | Correction |
Clarity 2012 | +28 |
Color Grade Blending | 100 |
Color Grade Global Hue | 0 |
Color Grade Global Lum | 0 |
Color Grade Global Sat | 0 |
Color Grade Highlight Lum | 0 |
Color Grade Midtone Hue | 0 |
Color Grade Midtone Lum | 0 |
Color Grade Midtone Sat | 0 |
Color Grade Shadow Lum | 0 |
Color Noise Reduction | 25 |
Color Noise Reduction Detail | 50 |
Color Noise Reduction Smoothness | 50 |
Color Temperature | 7500 |
Contrast 2012 | +17 |
Convert To Grayscale | False |
Creator | Matthias Lammers |
Crop Angle | 0 |
Crop Bottom | 1 |
Crop Constrain To Warp | 0 |
Crop Left | 0 |
Crop Right | 1 |
Crop Top | 0 |
Custom Rendered | Normal |
Date Created | 2021:07:03 05:22:53.22Z |
Defringe Green Amount | 0 |
Defringe Green Hue Hi | 60 |
Defringe Green Hue Lo | 40 |
Defringe Purple Amount | 0 |
Defringe Purple Hue Hi | 70 |
Defringe Purple Hue Lo | 30 |
Dehaze | +13 |
Distortion Correction Already Applied | True |
Exposure 2012 | +0.05 |
Exposure Compensation | 0 |
Exposure Mode | Manual |
Field Of View | 17.7 deg |
Firmware | 1.3.1 |
Flash Compensation | 0 |
Flash Fired | False |
Flash Function | False |
Flash Mode | Unknown |
Flash Red Eye Mode | False |
Flash Return | No return detection |
Format | image/png |
Grain Amount | 0 |
Green Hue | 0 |
Green Saturation | 0 |
Has Crop | False |
Has Settings | True |
Highlights 2012 | -64 |
Hue Adjustment Aqua | 0 |
Hue Adjustment Blue | 0 |
Hue Adjustment Green | 0 |
Hue Adjustment Magenta | 0 |
Hue Adjustment Orange | 0 |
Hue Adjustment Purple | 0 |
Hue Adjustment Red | 0 |
Hue Adjustment Yellow | -27 |
Hyperfocal Distance | 55.90 m |
ISO | 500 |
Image Number | 0 |
Image Size | 1281x1920 |
Lateral Chromatic Aberration Correction Already Applied | True |
Lens | EF70-200mm f/4L IS USM |
Lens ID | Canon EF 70-200mm f/4L IS |
Lens Info | 70-200mm f/? |
Lens Manual Distortion Amount | 0 |
Lens Model | EF70-200mm f/4L IS USM |
Lens Profile Distortion Scale | 100 |
Lens Profile Enable | 1 |
Lens Profile Filename | Canon EOS 5D Mark II (Canon EF 70-200mm f4L IS USM) - RAW.lcp |
Lens Profile Is Embedded | False |
Lens Profile Name | Adobe (Canon EF 70-200mm f/4 L IS USM) |
Lens Profile Setup | LensDefaults |
Lens Profile Vignetting Scale | 100 |
Light Value | 10.0 |
Luminance Adjustment Aqua | 0 |
Luminance Adjustment Blue | 0 |
Luminance Adjustment Green | 0 |
Luminance Adjustment Magenta | 0 |
Luminance Adjustment Orange | 0 |
Luminance Adjustment Purple | 0 |
Luminance Adjustment Red | 0 |
Luminance Adjustment Yellow | 0 |
Luminance Noise Reduction Contrast | 0 |
Luminance Noise Reduction Detail | 50 |
Luminance Smoothing | 15 |
Marked | True |
Metering Mode | Multi-segment |
Override Look Vignette | False |
Parametric Darks | 0 |
Parametric Highlight Split | 75 |
Parametric Highlights | 0 |
Parametric Lights | 0 |
Parametric Midtone Split | 50 |
Parametric Shadow Split | 25 |
Parametric Shadows | 0 |
Perspective Aspect | 0 |
Perspective Horizontal | 0 |
Perspective Rotate | 0.0 |
Perspective Scale | 100 |
Perspective Upright | 0 |
Perspective Vertical | 0 |
Perspective X | 0.00 |
Perspective Y | 0.00 |
Post Crop Vignette Amount | 0 |
Post Crop Vignette Feather | 100 |
Post Crop Vignette Highlight Contrast | 100 |
Post Crop Vignette Midpoint | 40 |
Post Crop Vignette Roundness | +80 |
Preserved File Name | MLPH3853.CR3 |
Process Version | 11.0 |
Raw File Name | MLPH3853.CR3 |
Recommended Exposure Index | 500 |
Red Hue | 0 |
Red Saturation | 0 |
Rights | matlam-PHOTOGRAPHY Matthias Lammers |
Saturation | +4 |
Saturation Adjustment Aqua | 0 |
Saturation Adjustment Blue | -43 |
Saturation Adjustment Green | 0 |
Saturation Adjustment Magenta | 0 |
Saturation Adjustment Orange | +13 |
Saturation Adjustment Purple | 0 |
Saturation Adjustment Red | 0 |
Saturation Adjustment Yellow | 0 |
Scale Factor To 35 mm Equivalent | 1.0 |
Scene Capture Type | Standard |
Sensitivity Type | 2 |
Shadow Tint | 0 |
Shadows 2012 | +57 |
Sharpen Detail | 25 |
Sharpen Edge Masking | 51 |
Sharpen Radius | +1.0 |
Sharpness | 78 |
Split Toning Balance | 0 |
Split Toning Highlight Hue | 0 |
Split Toning Highlight Saturation | 0 |
Split Toning Shadow Hue | 45 |
Split Toning Shadow Saturation | 10 |
Texture | +30 |
Tint | +12 |
Tone Curve Name 2012 | Custom |
Tone Curve PV2012 | 0, 18, 22, 26, 72, 78, 137, 150, 255, 248 |
Tone Curve PV2012 Blue | 0, 0, 255, 255 |
Tone Curve PV2012 Green | 0, 0, 255, 255 |
Tone Curve PV2012 Red | 0, 0, 255, 255 |
Usage Terms | Zur freien persönlichen Verwendung des Porträtierten. Alle anderen Verwendungen sind genehmigungspflichtig. |
Version | 13.3 |
Vibrance | +18 |
Vignette Amount | +15 |
Vignette Correction Already Applied | True |
Vignette Midpoint | 30 |
Web Statement | http://matlam-photography.jimd o.com/ |
White Balance | Auto |
Whites 2012 | +50 |