Shooting information for this photo
Camera: | Canon EOS 5D Mark IV |
Exposure: | 0.0125 sec. (1/80) |
Aperture: | f/2.8 |
Focal Length: | 35.0 mm (35 mm equivalent: 122.5 mm) |
Flash: | Off, Did not fire |
Exposure mode: | Manual |
Max Aperture: | 1.4 |
Resolution: | 400 x 400 dpi |
Original Date: | 2020:09:24 19:55:51.61 |
Created on: | 2020:09:24 19:55:51.61 |
Modified on: | 2020:09:26 07:10:06 |
Software: | Adobe Photoshop Lightroom Classic 9.4 (Windows) |
Copyright: | matlam-PHOTOGRAPHY Matthias Lammers |
Already Applied | True |
Approximate Focus Distance | 2.22 |
Artist | Matthias Lammers |
Auto Lateral CA | 1 |
Blacks 2012 | -70 |
Blue Hue | 0 |
Blue Saturation | -40 |
Camera Profile | Adobe Standard |
Circle Of Confusion | 0.009 mm |
Clarity 2012 | +13 |
Color Noise Reduction | 35 |
Color Noise Reduction Detail | 55 |
Color Noise Reduction Smoothness | 50 |
Color Space | sRGB |
Color Temperature | 4581 |
Contrast 2012 | +80 |
Convert To Grayscale | True |
Creator | Matthias Lammers |
Custom Rendered | Normal |
Date Created | 2020:09:24 19:55:51.61+01:00 |
Dehaze | +25 |
Distortion Correction Already Applied | True |
Exposure 2012 | +0.25 |
Exposure Compensation | -1/3 |
Exposure Mode | Manual |
Field Of View | 16.7 deg |
Firmware | 1.2.1 |
Flash Compensation | 0 |
Format | image/jpeg |
Grain Amount | 8 |
Grain Frequency | 100 |
Grain Size | 15 |
Gray Mixer Aqua | -15 |
Gray Mixer Blue | +10 |
Gray Mixer Green | -25 |
Gray Mixer Magenta | +4 |
Gray Mixer Orange | -5 |
Gray Mixer Purple | +15 |
Gray Mixer Red | -7 |
Gray Mixer Yellow | -20 |
Green Hue | 0 |
Green Saturation | +30 |
Has Crop | False |
Has Settings | True |
Highlights 2012 | -90 |
Hyperfocal Distance | 50.96 m |
ISO | 3200 |
Image Number | 0 |
Image Size | 1920x1280 |
Lateral Chromatic Aberration Correction Already Applied | True |
Lens | 35mm F1.4 DG HSM | Art 012 |
Lens ID | Canon 35mm F1.4 DG HSM | Art 012 |
Lens Info | 35mm f/? |
Lens Manual Distortion Amount | 0 |
Lens Model | 35mm F1.4 DG HSM | Art 012 |
Lens Profile Chromatic Aberration Scale | 100 |
Lens Profile Distortion Scale | 100 |
Lens Profile Enable | 1 |
Lens Profile Filename | Canon (SIGMA 35mm F1.4 DG HSM A012) - RAW.lcp |
Lens Profile Is Embedded | False |
Lens Profile Name | Adobe (SIGMA 35mm F1.4 DG HSM A012, Canon) |
Lens Profile Setup | LensDefaults |
Lens Profile Vignetting Scale | 100 |
Light Value | 4.3 |
Luminance Noise Reduction Contrast | 10 |
Luminance Noise Reduction Detail | 60 |
Luminance Smoothing | 25 |
Marked | True |
Metering Mode | Multi-segment |
Override Look Vignette | True |
Owner Name | Matthias Lammers |
Parametric Darks | 0 |
Parametric Highlight Split | 75 |
Parametric Highlights | 0 |
Parametric Lights | 0 |
Parametric Midtone Split | 50 |
Parametric Shadow Split | 25 |
Parametric Shadows | 0 |
Perspective Aspect | 0 |
Perspective Horizontal | 0 |
Perspective Rotate | 0.0 |
Perspective Scale | 100 |
Perspective Upright | 0 |
Perspective Vertical | 0 |
Perspective X | 0.00 |
Perspective Y | 0.00 |
Post Crop Vignette Amount | -30 |
Post Crop Vignette Feather | 100 |
Post Crop Vignette Highlight Contrast | 100 |
Post Crop Vignette Midpoint | 45 |
Post Crop Vignette Roundness | +50 |
Post Crop Vignette Style | 1 |
Preserved File Name | ML721274.CR2 |
Process Version | 11.0 |
Rating | 1 |
Raw File Name | 0049.CR2 |
Recommended Exposure Index | 3200 |
Red Hue | +2 |
Red Saturation | -2 |
Rights | matlam-PHOTOGRAPHY Matthias Lammers |
Scale Factor To 35 mm Equivalent | 3.5 |
Scene Capture Type | Standard |
Sensitivity Type | Recommended Exposure Index |
Shadow Tint | +2 |
Shadows 2012 | +80 |
Sharpen Detail | 30 |
Sharpen Edge Masking | 60 |
Sharpen Radius | +0.8 |
Sharpness | 25 |
Split Toning Balance | 0 |
Split Toning Highlight Hue | 0 |
Split Toning Highlight Saturation | 0 |
Split Toning Shadow Hue | 0 |
Split Toning Shadow Saturation | 0 |
Texture | +38 |
Tint | +8 |
Tone Curve | 0, 0, 255, 255 |
Tone Curve Blue | 0, 0, 255, 255 |
Tone Curve Green | 0, 0, 255, 255 |
Tone Curve Name | Linear |
Tone Curve Name 2012 | Linear |
Tone Curve PV2012 | 0, 0, 255, 255 |
Tone Curve PV2012 Blue | 0, 0, 255, 255 |
Tone Curve PV2012 Green | 0, 0, 255, 255 |
Tone Curve PV2012 Red | 0, 0, 255, 255 |
Tone Curve Red | 0, 0, 255, 255 |
Tone Map Strength | 0 |
Usage Terms | Zur freien persönlichen Verwendung des Porträtierten. Alle anderen Verwendungen sind genehmigungspflichtig. |
Version | 12.4 |
Vignette Amount | 0 |
Vignette Correction Already Applied | True |
Web Statement | http://matlam-photography.jimd o.com/ |
White Balance | Auto |
Whites 2012 | -1 |
GPS Information |
GPS Date Stamp | 2020:09:24 |
GPS Date/Time | 2020:09:24 18:55:43.904Z |
GPS Dilution Of Precision | 1.6 |
GPS Map Datum | WGS-84 |
GPS Measure Mode | 3-Dimensional Measurement |
GPS Satellites | 11 |
GPS Status | Measurement Active |
GPS Time Stamp | 18:55:43.904 |