Shooting information for this photo
Camera: | FUJIFILM X-T4 |
Exposure: | 0.005 sec. (1/200) |
Aperture: | f/4.8 |
Focal Length: | 200.0 mm (35 mm equivalent: 300.0 mm) |
Flash: | No Flash |
Exposure mode: | Manual |
Max Aperture: | 3.5 |
Resolution: | 236 x 236 dpi |
Original Date: | 2022:06:23 16:02:17 |
Created on: | 2022:06:23 16:02:17 |
Modified on: | 2022:06:30 16:47:33 |
Software: | Adobe Photoshop Lightroom Classic 11.0 (Windows) |
Copyright: | Isabelle BARRUHET |
Already Applied | True |
Artist | Isabelle BARRUHET |
Auto Lateral CA | 1 |
Blacks 2012 | +69 |
Blue Hue | 0 |
Blue Saturation | 0 |
Brightness Value | 0.27 |
Camera Profile | Adobe Standard |
Circle Of Confusion | 0.020 mm |
Clarity 2012 | +66 |
Color Grade Blending | 50 |
Color Grade Global Hue | 0 |
Color Grade Global Lum | 0 |
Color Grade Global Sat | 0 |
Color Grade Highlight Lum | 0 |
Color Grade Midtone Hue | 0 |
Color Grade Midtone Lum | 0 |
Color Grade Midtone Sat | 0 |
Color Grade Shadow Lum | 0 |
Color Noise Reduction | 25 |
Color Noise Reduction Detail | 50 |
Color Noise Reduction Smoothness | 50 |
Color Space | sRGB |
Color Temperature | 5150 |
Contrast 2012 | 0 |
Creator | Isabelle BARRUHET |
Crop Angle | 0 |
Crop Bottom | 1 |
Crop Constrain To Warp | 0 |
Crop Left | 0 |
Crop Right | 1 |
Crop Top | 0 |
Custom Rendered | Normal |
Date Created | 2022:06:23 16:02:17 |
Defringe Green Amount | 0 |
Defringe Green Hue Hi | 60 |
Defringe Green Hue Lo | 40 |
Defringe Purple Amount | 0 |
Defringe Purple Hue Hi | 70 |
Defringe Purple Hue Lo | 30 |
Dehaze | +49 |
Distortion Correction Already Applied | True |
Exposure 2012 | +1.90 |
Exposure Compensation | 0 |
Exposure Mode | Manual |
Field Of View | 6.9 deg |
Focal Length In 35mm Format | 300 mm |
Format | image/jpeg |
Fuji Rating Already Applied | True |
Grain Amount | 0 |
Green Hue | 0 |
Green Saturation | 0 |
Has Crop | False |
Has Settings | True |
Highlights 2012 | +49 |
Hue Adjustment Aqua | 0 |
Hue Adjustment Blue | 0 |
Hue Adjustment Green | 0 |
Hue Adjustment Magenta | 0 |
Hue Adjustment Orange | 0 |
Hue Adjustment Purple | 0 |
Hue Adjustment Red | 0 |
Hue Adjustment Yellow | 0 |
Hyperfocal Distance | 416.03 m |
ISO | 1000 |
Image Size | 6240x4160 |
Lateral Chromatic Aberration Correction Already Applied | True |
Lens | XF55-200mmF3.5-4.8 R LM OIS |
Lens Info | 55-200mm f/3.5-4.8 |
Lens Make | FUJIFILM |
Lens Manual Distortion Amount | 0 |
Lens Model | XF55-200mmF3.5-4.8 R LM OIS |
Lens Profile Distortion Scale | 100 |
Lens Profile Enable | 1 |
Lens Profile Filename | Fujifilm FinePix X100.lcp |
Lens Profile Is Embedded | False |
Lens Profile Name | Adobe (Fujifilm FinePix X100) |
Lens Profile Setup | Custom |
Lens Profile Vignetting Scale | 100 |
Light Source | Unknown |
Light Value | 8.8 |
Look Amount | 1 |
Look Group | Profiles |
Look Name | Adobe Color |
Look Parameters Camera Profile | Adobe Standard |
Look Parameters Convert To Grayscale | False |
Look Parameters Look Table | E1095149FDB39D7A057BAB208837E2 E1 |
Look Parameters Process Version | 11.0 |
Look Parameters Tone Curve PV2012 | 0, 0, 22, 16, 40, 35, 127, 127, 224, 230, 240, 246, 255, 255 |
Look Parameters Tone Curve PV2012 Blue | 0, 0, 255, 255 |
Look Parameters Tone Curve PV2012 Green | 0, 0, 255, 255 |
Look Parameters Tone Curve PV2012 Red | 0, 0, 255, 255 |
Look Parameters Version | 14.0 |
Look Supports Amount | false |
Look Supports Monochrome | false |
Look Supports Output Referred | false |
Luminance Adjustment Aqua | 0 |
Luminance Adjustment Blue | 0 |
Luminance Adjustment Green | 0 |
Luminance Adjustment Magenta | 0 |
Luminance Adjustment Orange | 0 |
Luminance Adjustment Purple | 0 |
Luminance Adjustment Red | 0 |
Luminance Adjustment Yellow | 0 |
Luminance Noise Reduction Contrast | 56 |
Luminance Noise Reduction Detail | 50 |
Luminance Smoothing | 32 |
Metering Mode | Multi-segment |
Override Look Vignette | False |
Parametric Darks | 0 |
Parametric Highlight Split | 75 |
Parametric Highlights | 0 |
Parametric Lights | 0 |
Parametric Midtone Split | 50 |
Parametric Shadow Split | 25 |
Parametric Shadows | 0 |
Perspective Aspect | 0 |
Perspective Horizontal | 0 |
Perspective Rotate | 0.0 |
Perspective Scale | 100 |
Perspective Upright | 0 |
Perspective Vertical | 0 |
Perspective X | 0.00 |
Perspective Y | 0.00 |
Post Crop Vignette Amount | 0 |
Preserved File Name | DSCF1690.RAF |
Process Version | 11.0 |
Raw File Name | DSCF1690.RAF |
Red Hue | 0 |
Red Saturation | 0 |
Rights | Isabelle BARRUHET |
Saturation | 0 |
Saturation Adjustment Aqua | 0 |
Saturation Adjustment Blue | 0 |
Saturation Adjustment Green | 0 |
Saturation Adjustment Magenta | 0 |
Saturation Adjustment Orange | 0 |
Saturation Adjustment Purple | 0 |
Saturation Adjustment Red | 0 |
Saturation Adjustment Yellow | 0 |
Scale Factor To 35 mm Equivalent | 1.5 |
Scene Capture Type | Standard |
Scene Type | Directly photographed |
Sensing Method | One-chip color area |
Sensitivity Type | Standard Output Sensitivity |
Shadow Tint | 0 |
Shadows 2012 | +58 |
Sharpen Detail | 35 |
Sharpen Edge Masking | 86 |
Sharpen Radius | +2.1 |
Sharpness | Normal |
Split Toning Balance | 0 |
Split Toning Highlight Hue | 0 |
Split Toning Highlight Saturation | 0 |
Split Toning Shadow Hue | 0 |
Split Toning Shadow Saturation | 0 |
Subject Distance Range | Unknown |
Texture | +35 |
Tint | +26 |
Tone Curve Name 2012 | Linear |
Tone Curve PV2012 | 0, 0, 255, 255 |
Tone Curve PV2012 Blue | 0, 0, 255, 255 |
Tone Curve PV2012 Green | 0, 0, 255, 255 |
Tone Curve PV2012 Red | 0, 0, 255, 255 |
Version | 14.0 |
Vibrance | 0 |
Vignette Amount | 0 |
Vignette Correction Already Applied | True |
White Balance | Auto |
Whites 2012 | +41 |