Shooting information for this photo
Camera: | NIKON CORPORATION NIKON D300 |
Exposure: | 0.01111 sec. (1/90) |
Aperture: | f/2.8 |
Focal Length: | 125.0 mm (35 mm equivalent: 187.0 mm) |
Flash: | No Flash |
Exposure mode: | Manual |
Max Aperture: | 2.8 |
Resolution: | 240 x 240 dpi |
Dimension: | 4081 x 2710 pixels |
Original Date: | 2010:11:03 13:40:19.34 |
Digitized Date: | 2010:11:03 13:40:19.34-04:00 |
Created on: | 2010:11:03 13:40:19.34 |
Modified on: | 2010:11:08 17:45:53 |
Software: | Ver.1.10 |
Already Applied | True |
Blue Hue | 0 |
Blue Saturation | 0 |
Brightness | -9 |
CFA Pattern | [Red,Green][Green,Blue] |
Camera Profile | Camera Neutral beta 2 |
Chromatic Aberration B | 0 |
Chromatic Aberration R | 0 |
Circle Of Confusion | 0.020 mm |
Clarity | +70 |
Color Noise Reduction | 25 |
Color Noise Reduction Detail | 50 |
Color Temperature | 3800 |
Contrast | Normal |
Convert To Grayscale | False |
Crop Angle | 0 |
Crop Bottom | 1 |
Crop Constrain To Warp | 0 |
Crop Height | 2710 |
Crop Left | 0.024169 |
Crop Right | 0.975831 |
Crop Top | 0.048338 |
Crop Unit | pixels |
Crop Width | 4081 |
Custom Rendered | Normal |
Defringe | 0 |
Depth Of Field | 0.14 m (4.40 - 4.54) |
Digital Zoom Ratio | 1 |
Exposure | +3.08 |
Exposure Compensation | 0 |
Exposure Mode | Manual |
Field Of View | 11.0 deg |
Fill Light | 39 |
Flash Fired | False |
Flash Function | False |
Flash Mode | Unknown |
Flash Red Eye Mode | False |
Flash Return | No return detection |
Focal Length In 35mm Format | 187 mm |
Gain Control | High gain up |
Grain Amount | 0 |
Green Hue | 0 |
Green Saturation | 0 |
Has Crop | True |
Has Settings | True |
Highlight Recovery | 0 |
Hue Adjustment Aqua | 0 |
Hue Adjustment Blue | 0 |
Hue Adjustment Green | 0 |
Hue Adjustment Magenta | 0 |
Hue Adjustment Orange | 0 |
Hue Adjustment Purple | 0 |
Hue Adjustment Red | 0 |
Hue Adjustment Yellow | 0 |
Hyperfocal Distance | 277.85 m |
ISO | 1100 |
Image Number | 7120 |
Image Size | 4081x2710 |
Lens | 70.0-200.0 mm f/2.8 |
Lens ID | AF-S VR Zoom-Nikkor 70-200mm f/2.8G IF-ED |
Lens Info | 70-200mm f/2.8 |
Lens Manual Distortion Amount | 0 |
Lens Profile Enable | 0 |
Lens Profile Setup | LensDefaults |
Light Source | Unknown |
Light Value | 6.0 |
Luminance Adjustment Aqua | 0 |
Luminance Adjustment Blue | 0 |
Luminance Adjustment Green | 0 |
Luminance Adjustment Magenta | 0 |
Luminance Adjustment Orange | 0 |
Luminance Adjustment Purple | 0 |
Luminance Adjustment Red | 0 |
Luminance Adjustment Yellow | 0 |
Luminance Smoothing | 0 |
Metering Mode | Multi-segment |
Parametric Darks | 0 |
Parametric Highlight Split | 75 |
Parametric Highlights | 0 |
Parametric Lights | 0 |
Parametric Midtone Split | 50 |
Parametric Shadow Split | 25 |
Parametric Shadows | 0 |
Perspective Horizontal | 0 |
Perspective Rotate | 0.0 |
Perspective Scale | 100 |
Perspective Vertical | 0 |
Post Crop Vignette Amount | 0 |
Process Version | 5.7 |
Rating | 2 |
Red Hue | 0 |
Red Saturation | 0 |
Saturation | Normal |
Saturation Adjustment Aqua | 0 |
Saturation Adjustment Blue | 0 |
Saturation Adjustment Green | 0 |
Saturation Adjustment Magenta | 0 |
Saturation Adjustment Orange | 0 |
Saturation Adjustment Purple | 0 |
Saturation Adjustment Red | 0 |
Saturation Adjustment Yellow | 0 |
Scale Factor To 35 mm Equivalent | 1.5 |
Scene Capture Type | Standard |
Scene Type | Directly photographed |
Sensing Method | One-chip color area |
Shadow Tint | 0 |
Shadows | 5 |
Sharpen Detail | 25 |
Sharpen Edge Masking | 0 |
Sharpen Radius | +1.0 |
Sharpness | Normal |
Split Toning Balance | 0 |
Split Toning Highlight Hue | 0 |
Split Toning Highlight Saturation | 0 |
Split Toning Shadow Hue | 0 |
Split Toning Shadow Saturation | 0 |
Subject Distance | 4.47 m |
Subject Distance Range | Unknown |
Tint | +2 |
Tone Curve | 0, 0, 32, 22, 64, 56, 128, 128, 192, 196, 255, 255 |
Tone Curve Name | Medium Contrast |
Version | 6.1 |
Vibrance | +24 |
Vignette Amount | 0 |
White Balance | Auto |