Shooting information for this photo
Camera: | NIKON CORPORATION NIKON D300 |
Exposure: | 0.004 sec. (1/250) |
Aperture: | f/6.7 |
Focal Length: | 60.0 mm (35 mm equivalent: 90.0 mm) |
Flash: | No Flash |
Exposure mode: | Manual |
Max Aperture: | 3.0 |
Resolution: | 240 x 240 dpi |
Dimension: | 1470 x 1470 pixels |
Original Date: | 2012:02:20 15:07:48.82 |
Digitized Date: | 2012:02:20 15:07:48.82-05:00 |
Created on: | 2012:02:20 15:07:48.82 |
Modified on: | 2012:03:01 15:10:11 |
Software: | Ver.1.10 |
Already Applied | True |
Blue Hue | 0 |
Blue Saturation | 0 |
Brightness | +95 |
CFA Pattern | [Red,Green][Green,Blue] |
Camera Profile | Camera Neutral beta 2 |
Chromatic Aberration B | 0 |
Chromatic Aberration R | 0 |
Circle Of Confusion | 0.020 mm |
Clarity | +40 |
Color Noise Reduction | 25 |
Color Noise Reduction Detail | 50 |
Color Temperature | 4450 |
Contrast | Normal |
Convert To Grayscale | False |
Crop Angle | 0 |
Crop Bottom | 0.680414 |
Crop Constrain To Warp | 0 |
Crop Height | 1470 |
Crop Left | 0.400052 |
Crop Right | 0.742804 |
Crop Top | 0.164362 |
Crop Unit | pixels |
Crop Width | 1470 |
Custom Rendered | Normal |
Defringe | 0 |
Depth Of Field | 0.011 m (0.414 - 0.426) |
Digital Zoom Ratio | 1 |
Exposure | 0.00 |
Exposure Compensation | 0 |
Exposure Mode | Manual |
Field Of View | 22.6 deg |
Fill Light | 28 |
Flash Fired | False |
Flash Function | False |
Flash Mode | Unknown |
Flash Red Eye Mode | False |
Flash Return | No return detection |
Focal Length In 35mm Format | 90 mm |
Gain Control | None |
Grain Amount | 0 |
Green Hue | 0 |
Green Saturation | 0 |
Has Crop | True |
Has Settings | True |
Highlight Recovery | 0 |
Hue Adjustment Aqua | 0 |
Hue Adjustment Blue | 0 |
Hue Adjustment Green | 0 |
Hue Adjustment Magenta | 0 |
Hue Adjustment Orange | 0 |
Hue Adjustment Purple | 0 |
Hue Adjustment Red | 0 |
Hue Adjustment Yellow | 0 |
Hyperfocal Distance | 26.82 m |
ISO | 200 |
Image Number | 18053 |
Image Size | 1470x1470 |
Label | Green |
Lens | 60.0 mm f/2.8 |
Lens ID | AF-S Micro Nikkor 60mm f/2.8G ED |
Lens Info | 60mm f/2.8 |
Lens Manual Distortion Amount | 0 |
Lens Profile Enable | 0 |
Lens Profile Setup | LensDefaults |
Light Source | Unknown |
Light Value | 12.5 |
Luminance Adjustment Aqua | 0 |
Luminance Adjustment Blue | 0 |
Luminance Adjustment Green | 0 |
Luminance Adjustment Magenta | 0 |
Luminance Adjustment Orange | 0 |
Luminance Adjustment Purple | 0 |
Luminance Adjustment Red | 0 |
Luminance Adjustment Yellow | 0 |
Luminance Smoothing | 0 |
Metering Mode | Multi-segment |
Parametric Darks | 0 |
Parametric Highlight Split | 75 |
Parametric Highlights | 0 |
Parametric Lights | 0 |
Parametric Midtone Split | 50 |
Parametric Shadow Split | 25 |
Parametric Shadows | 0 |
Perspective Horizontal | 0 |
Perspective Rotate | 0.0 |
Perspective Scale | 100 |
Perspective Vertical | 0 |
Post Crop Vignette Amount | 0 |
Process Version | 5.7 |
Rating | 1 |
Red Hue | 0 |
Red Saturation | 0 |
Saturation | Normal |
Saturation Adjustment Aqua | 0 |
Saturation Adjustment Blue | 0 |
Saturation Adjustment Green | 0 |
Saturation Adjustment Magenta | 0 |
Saturation Adjustment Orange | 0 |
Saturation Adjustment Purple | 0 |
Saturation Adjustment Red | 0 |
Saturation Adjustment Yellow | 0 |
Scale Factor To 35 mm Equivalent | 1.5 |
Scene Capture Type | Standard |
Scene Type | Directly photographed |
Sensing Method | One-chip color area |
Shadow Tint | 0 |
Shadows | 13 |
Sharpen Detail | 25 |
Sharpen Edge Masking | 0 |
Sharpen Radius | +1.0 |
Sharpness | Normal |
Split Toning Balance | 0 |
Split Toning Highlight Hue | 0 |
Split Toning Highlight Saturation | 0 |
Split Toning Shadow Hue | 0 |
Split Toning Shadow Saturation | 0 |
Subject Distance | 0.42 m |
Subject Distance Range | Unknown |
Tint | +7 |
Tone Curve | 0, 0, 32, 22, 64, 56, 128, 128, 192, 196, 255, 255 |
Tone Curve Name | Medium Contrast |
Version | 6.1 |
Vibrance | +20 |
Vignette Amount | 0 |
White Balance | Auto |
GPS Information |
GPS Altitude | 11 m Above Sea Level |
GPS Altitude Ref | Above Sea Level |
GPS Date Stamp | 2012:02:20 |
GPS Date/Time | 2012:02:20 19:05:25Z |
GPS Latitude | 27 deg 19' 36.61" N |
GPS Latitude Ref | North |
GPS Longitude | 82 deg 32' 25.60" W |
GPS Longitude Ref | West |
GPS Position | 27 deg 19' 36.61" N, 82 deg 32' 25.60" W |
GPS Satellites | 09 |
GPS Time Stamp | 19:05:25 |
GPS Version ID | 2.2.0.0 |