Shooting information for this photo
Camera: | NIKON CORPORATION NIKON D7500 |
Exposure: | 0.00156 sec. (1/640) |
Aperture: | f/7.1 |
Focal Length: | 600.0 mm (35 mm equivalent: 900.0 mm) |
Flash: | Off, Did not fire |
Exposure mode: | Manual |
Max Aperture: | 6.3 |
Resolution: | 240 x 240 dpi |
Original Date: | 2022:07:25 10:12:45.32 |
Created on: | 2022:07:25 10:12:45.32 |
Modified on: | 2022:07:25 11:53:36 |
Software: | Adobe Photoshop Lightroom 6.14 (Windows) |
Copyright: | UwSchu |
Already Applied | True |
Approximate Focus Distance | 3.55 |
Artist | UwSchu |
Auto Lateral CA | 1 |
Auto White Version | 134348800 |
Blacks 2012 | -15 |
Blue Hue | 0 |
Blue Saturation | 0 |
CFA Pattern | [Red,Green][Green,Blue] |
Camera Profile | Adobe Standard |
Circle Of Confusion | 0.020 mm |
Clarity 2012 | +48 |
Color Noise Reduction | 25 |
Color Noise Reduction Detail | 50 |
Color Noise Reduction Smoothness | 50 |
Color Space | sRGB |
Color Temperature | 4816 |
Contrast | Normal |
Contrast 2012 | +26 |
Convert To Grayscale | False |
Creator | UwSchu |
Crop Angle | 0 |
Crop Bottom | 0.970547 |
Crop Constrain To Warp | 0 |
Crop Left | 0 |
Crop Right | 0.818691 |
Crop Top | 0.279777 |
Custom Rendered | Normal |
Date Created | 2022:07:25 10:12:45.32 |
Defringe Green Amount | 0 |
Defringe Green Hue Hi | 60 |
Defringe Green Hue Lo | 40 |
Defringe Purple Amount | 0 |
Defringe Purple Hue Hi | 70 |
Defringe Purple Hue Lo | 30 |
Dehaze | 0 |
Distortion Correction Already Applied | True |
Exposure 2012 | 0.00 |
Exposure Compensation | 0 |
Exposure Mode | Manual |
Field Of View | 2.3 deg |
Focal Length In 35mm Format | 900 mm |
Format | image/jpeg |
Gain Control | None |
Grain Amount | 0 |
Green Hue | 0 |
Green Saturation | 0 |
Has Crop | True |
Has Settings | True |
Highlights 2012 | -69 |
Hue Adjustment Aqua | 0 |
Hue Adjustment Blue | 0 |
Hue Adjustment Green | 0 |
Hue Adjustment Magenta | 0 |
Hue Adjustment Orange | 0 |
Hue Adjustment Purple | 0 |
Hue Adjustment Red | 0 |
Hue Adjustment Yellow | 0 |
Hyperfocal Distance | 2531.31 m |
ISO | 450 |
Image Number | 20975 |
Image Size | 4558x2564 |
Lateral Chromatic Aberration Correction Already Applied | True |
Lens | TAMRON SP AF 150-600mm F5-6.3 VC USD A011N |
Lens ID | TAMRON SP AF 150-600mm F5-6.3 VC USD A011N |
Lens Info | 150-600mm f/5-6.3 |
Lens Manual Distortion Amount | 0 |
Lens Model | TAMRON SP AF 150-600mm F5-6.3 VC USD A011N |
Lens Profile Chromatic Aberration Scale | 100 |
Lens Profile Distortion Scale | 100 |
Lens Profile Enable | 1 |
Lens Profile Filename | NIKON CORPORATION (TAMRON SP 150-600mm F5-6.3 Di VC USD A011N) - RAW.lcp |
Lens Profile Name | Adobe (TAMRON SP 150-600mm F5-6.3 Di VC USD A011N, NIKON CORPORATION) |
Lens Profile Setup | LensDefaults |
Lens Profile Vignetting Scale | 100 |
Light Source | Unknown |
Light Value | 12.8 |
Luminance Adjustment Aqua | 0 |
Luminance Adjustment Blue | 0 |
Luminance Adjustment Green | 0 |
Luminance Adjustment Magenta | 0 |
Luminance Adjustment Orange | 0 |
Luminance Adjustment Purple | 0 |
Luminance Adjustment Red | 0 |
Luminance Adjustment Yellow | 0 |
Luminance Noise Reduction Contrast | 0 |
Luminance Noise Reduction Detail | 50 |
Luminance Smoothing | 15 |
Metering Mode | Multi-segment |
Parametric Darks | 0 |
Parametric Highlight Split | 75 |
Parametric Highlights | 0 |
Parametric Lights | 0 |
Parametric Midtone Split | 50 |
Parametric Shadow Split | 25 |
Parametric Shadows | 0 |
Perspective Aspect | 0 |
Perspective Horizontal | 0 |
Perspective Rotate | 0.0 |
Perspective Scale | 100 |
Perspective Upright | 0 |
Perspective Vertical | 0 |
Perspective X | 0.00 |
Perspective Y | 0.00 |
Post Crop Vignette Amount | 0 |
Process Version | 6.7 |
Recommended Exposure Index | 450 |
Red Hue | 0 |
Red Saturation | 0 |
Rights | UwSchu |
Saturation | Normal |
Saturation Adjustment Aqua | 0 |
Saturation Adjustment Blue | 0 |
Saturation Adjustment Green | 0 |
Saturation Adjustment Magenta | 0 |
Saturation Adjustment Orange | 0 |
Saturation Adjustment Purple | 0 |
Saturation Adjustment Red | 0 |
Saturation Adjustment Yellow | 0 |
Scale Factor To 35 mm Equivalent | 1.5 |
Scene Capture Type | Standard |
Scene Type | Directly photographed |
Sensing Method | One-chip color area |
Sensitivity Type | Recommended Exposure Index |
Shadow Tint | 0 |
Shadows 2012 | +100 |
Sharpen Detail | 25 |
Sharpen Edge Masking | 82 |
Sharpen Radius | +1.0 |
Sharpness | Normal |
Split Toning Balance | 0 |
Split Toning Highlight Hue | 0 |
Split Toning Highlight Saturation | 0 |
Split Toning Shadow Hue | 0 |
Split Toning Shadow Saturation | 0 |
Subject Distance Range | Unknown |
Tint | +1 |
Tone Curve | 0, 0, 255, 255 |
Tone Curve Blue | 0, 0, 255, 255 |
Tone Curve Green | 0, 0, 255, 255 |
Tone Curve Name | Linear |
Tone Curve Name 2012 | Linear |
Tone Curve PV2012 | 0, 0, 255, 255 |
Tone Curve PV2012 Blue | 0, 0, 255, 255 |
Tone Curve PV2012 Green | 0, 0, 255, 255 |
Tone Curve PV2012 Red | 0, 0, 255, 255 |
Tone Curve Red | 0, 0, 255, 255 |
Tone Map Strength | 0 |
Version | 10.1 |
Vibrance | +18 |
Vignette Amount | 0 |
Vignette Correction Already Applied | True |
White Balance | Auto |
Whites 2012 | +24 |