Shooting information for this photo
Camera: | NIKON CORPORATION NIKON D7000 |
Exposure: | 0.03333 sec. (1/30) |
Aperture: | f/3.5 |
Focal Length: | 16.0 mm (35 mm equivalent: 24.0 mm) |
Flash: | Off, Did not fire |
Exposure mode: | Aperture-priority AE |
Max Aperture: | 3.5 |
Resolution: | 240 x 240 dpi |
Original Date: | 2016:08:27 13:55:36.70 |
Created on: | 2016:08:27 13:55:36.70 |
Modified on: | 2016:09:03 10:57:28 |
Software: | Adobe Photoshop Lightroom 5.7 (Windows) |
Copyright: | uwschu |
Already Applied | True |
Approximate Focus Distance | 2 |
Artist | uwschu |
Auto Lateral CA | 1 |
Auto White Version | 134348800 |
Blacks 2012 | 0 |
Blue Hue | 0 |
Blue Saturation | 0 |
CFA Pattern | [Red,Green][Green,Blue] |
Camera Profile | Adobe Standard |
Circle Of Confusion | 0.020 mm |
Clarity 2012 | +50 |
Color Noise Reduction | 25 |
Color Noise Reduction Detail | 50 |
Color Noise Reduction Smoothness | 50 |
Color Temperature | 4250 |
Contrast | Normal |
Contrast 2012 | 0 |
Convert To Grayscale | True |
Creator | uwschu |
Crop Angle | 0 |
Crop Bottom | 0.866359 |
Crop Constrain To Warp | 0 |
Crop Left | 0.021374 |
Crop Right | 1 |
Crop Top | 0.142858 |
Custom Rendered | Normal |
Date Created | 2016:08:27 13:55:36.70 |
Digital Zoom Ratio | 1 |
Exposure 2012 | +0.24 |
Exposure Compensation | 0 |
Exposure Mode | Auto |
Field Of View | 73.7 deg |
Focal Length In 35mm Format | 24 mm |
Format | image/jpeg |
Gain Control | None |
Gradient Based Corr Active | true |
Gradient Based Corr Amount | 1.000000 |
Gradient Based Corr Brightness | 0.000000 |
Gradient Based Corr Clarity 2012 | 0.000000 |
Gradient Based Corr Contrast 2012 | 0.000000 |
Gradient Based Corr Defringe | 0.000000 |
Gradient Based Corr Exposure 2012 | -0.345500 |
Gradient Based Corr Highlights 2012 | 0.000000 |
Gradient Based Corr Hue | 240.000000 |
Gradient Based Corr Luminance Noise | 0.000000 |
Gradient Based Corr Mask Full X | 0.689154 |
Gradient Based Corr Mask Full Y | 1.129830 |
Gradient Based Corr Mask Value | 1.000000 |
Gradient Based Corr Mask What | Mask/Gradient |
Gradient Based Corr Mask Zero X | 0.424286 |
Gradient Based Corr Mask Zero Y | -0.079369 |
Gradient Based Corr Moire | 0.000000 |
Gradient Based Corr Saturation | 0.000000 |
Gradient Based Corr Shadows 2012 | 0.000000 |
Gradient Based Corr Sharpness | 0.000000 |
Gradient Based Corr Temperature | 0.000000 |
Gradient Based Corr Tint | 0.000000 |
Gradient Based Corr What | Correction |
Grain Amount | 0 |
Gray Mixer Aqua | -19 |
Gray Mixer Blue | +9 |
Gray Mixer Green | -27 |
Gray Mixer Magenta | +5 |
Gray Mixer Orange | -18 |
Gray Mixer Purple | +16 |
Gray Mixer Red | -60 |
Gray Mixer Yellow | -22 |
Green Hue | 0 |
Green Saturation | 0 |
Has Crop | True |
Has Settings | True |
Highlights 2012 | -100 |
Hyperfocal Distance | 3.65 m |
ISO | 280 |
Image Number | 28111 |
Image Size | 2362x4823 |
Lens | 16.0-85.0 mm f/3.5-5.6 |
Lens ID | AF-S DX VR Zoom-Nikkor 16-85mm f/3.5-5.6G ED |
Lens Info | 16-85mm f/3.5-5.6 |
Lens Manual Distortion Amount | 0 |
Lens Model | 16.0-85.0 mm f/3.5-5.6 |
Lens Profile Enable | 0 |
Lens Profile Setup | LensDefaults |
Light Source | Unknown |
Light Value | 7.0 |
Luminance Noise Reduction Contrast | 0 |
Luminance Noise Reduction Detail | 50 |
Luminance Smoothing | 17 |
Metering Mode | Multi-segment |
Paint Correction Active | true |
Paint Correction Amount | 1.000000 |
Paint Correction Brightness | 0.000000 |
Paint Correction Clarity 2012 | 0.000000 |
Paint Correction Contrast 2012 | 0.000000 |
Paint Correction Defringe | 0.000000 |
Paint Correction Exposure 2012 | -0.075000 |
Paint Correction Highlights 2012 | 0.000000 |
Paint Correction Hue | 240.000000 |
Paint Correction Luminance Noise | 0.000000 |
Paint Correction Mask Center Weight | 0.001143 |
Paint Correction Mask Flow | 0.726000 |
Paint Correction Mask Radius | 0.079157 |
Paint Correction Mask Value | 0.973000 |
Paint Correction Mask What | Mask/Paint |
Paint Correction Moire | 0.000000 |
Paint Correction Saturation | 0.000000 |
Paint Correction Shadows 2012 | 0.000000 |
Paint Correction Sharpness | 0.000000 |
Paint Correction Temperature | 0.000000 |
Paint Correction Tint | 0.000000 |
Paint Correction What | Correction |
Parametric Darks | 0 |
Parametric Highlight Split | 75 |
Parametric Highlights | 0 |
Parametric Lights | 0 |
Parametric Midtone Split | 50 |
Parametric Shadow Split | 25 |
Parametric Shadows | 0 |
Perspective Aspect | 0 |
Perspective Horizontal | 0 |
Perspective Rotate | 0.0 |
Perspective Scale | 100 |
Perspective Upright | 4 |
Perspective Vertical | 0 |
Post Crop Vignette Amount | 0 |
Process Version | 6.7 |
Red Hue | 0 |
Red Saturation | 0 |
Rights | uwschu |
Saturation | Normal |
Scale Factor To 35 mm Equivalent | 1.5 |
Scene Capture Type | Standard |
Scene Type | Directly photographed |
Sensing Method | One-chip color area |
Sensitivity Type | Recommended Exposure Index |
Shadow Tint | 0 |
Shadows 2012 | +79 |
Sharpen Detail | 25 |
Sharpen Edge Masking | 37 |
Sharpen Radius | +1.0 |
Sharpness | Normal |
Split Toning Balance | 0 |
Split Toning Highlight Hue | 0 |
Split Toning Highlight Saturation | 0 |
Split Toning Shadow Hue | 0 |
Split Toning Shadow Saturation | 0 |
Subject Distance Range | Unknown |
Tint | +29 |
Tone Curve | 0, 0, 255, 255 |
Tone Curve Blue | 0, 0, 255, 255 |
Tone Curve Green | 0, 0, 255, 255 |
Tone Curve Name | Linear |
Tone Curve Name 2012 | Linear |
Tone Curve PV2012 | 0, 0, 255, 255 |
Tone Curve PV2012 Blue | 0, 0, 255, 255 |
Tone Curve PV2012 Green | 0, 0, 255, 255 |
Tone Curve PV2012 Red | 0, 0, 255, 255 |
Tone Curve Red | 0, 0, 255, 255 |
Version | 8.7 |
Vignette Amount | 0 |
White Balance | Auto |
Whites 2012 | 0 |