Shooting information for this photo
Camera: | OLYMPUS CORPORATION E-M1MarkIII |
Exposure: | 0.00625 sec. (1/160) |
Aperture: | f/4.0 |
Focal Length: | 67.0 mm (35 mm equivalent: 134.0 mm) |
Flash: | Off, Did not fire |
Exposure mode: | Aperture-priority AE |
Max Aperture: | 2.8 |
Resolution: | 240 x 240 dpi |
Original Date: | 2022:10:22 11:20:21 |
Created on: | 2022:10:22 11:20:21 |
Modified on: | 2022:10:23 14:10:25 |
Software: | Adobe Photoshop Lightroom Classic 12.0 (Windows) |
Copyright: | Uwe Sasse |
Adobe White Level | 29944 |
Already Applied | True |
Approximate Focus Distance | 128 |
Auto Lateral CA | 0 |
Blacks 2012 | -16 |
Blue Hue | 0 |
Blue Saturation | 0 |
CFA Pattern | [Red,Green][Green,Blue] |
Camera Profile | Adobe Standard |
Circle Of Confusion | 0.015 mm |
Clarity 2012 | +6 |
Color Grade Blending | 100 |
Color Grade Global Hue | 0 |
Color Grade Global Lum | 0 |
Color Grade Global Sat | 0 |
Color Grade Highlight Lum | +10 |
Color Grade Midtone Hue | 33 |
Color Grade Midtone Lum | +12 |
Color Grade Midtone Sat | 3 |
Color Grade Shadow Lum | -5 |
Color Noise Reduction | 25 |
Color Noise Reduction Detail | 50 |
Color Noise Reduction Smoothness | 50 |
Color Space | sRGB |
Color Temperature | 5050 |
Contrast | Normal |
Contrast 2012 | 0 |
Crop Angle | 0 |
Crop Bottom | 1 |
Crop Constrain To Warp | 0 |
Crop Left | 0 |
Crop Right | 1 |
Crop Top | 0 |
Custom Rendered | Normal |
Date Created | 2022:10:22 11:20:21+01:00 |
Defringe Green Amount | 0 |
Defringe Green Hue Hi | 60 |
Defringe Green Hue Lo | 40 |
Defringe Purple Amount | 0 |
Defringe Purple Hue Hi | 70 |
Defringe Purple Hue Lo | 30 |
Dehaze | +7 |
Depth Of Field | inf (47.19 m - inf) |
Digital Zoom Ratio | 1 |
Exposure 2012 | 0.00 |
Exposure Compensation | 0 |
Exposure Mode | Auto |
Field Of View | 15.3 deg |
Flash Compensation | 0 |
Focal Length In 35mm Format | 134 mm |
Format | image/jpeg |
Gain Control | Low gain up |
Grain Amount | 9 |
Grain Frequency | 59 |
Grain Size | 19 |
Green Hue | 0 |
Green Saturation | 0 |
Has Crop | False |
Has Settings | True |
Highlights 2012 | +4 |
Hue Adjustment Aqua | -8 |
Hue Adjustment Blue | -12 |
Hue Adjustment Green | -7 |
Hue Adjustment Magenta | +20 |
Hue Adjustment Orange | -1 |
Hue Adjustment Purple | 0 |
Hue Adjustment Red | -8 |
Hue Adjustment Yellow | -5 |
Hyperfocal Distance | 74.70 m |
ISO | 400 |
Image Size | 5184x3888 |
Lens | OLYMPUS M.40-150mm F2.8 |
Lens Info | 40-150mm f/2.8 |
Lens Manual Distortion Amount | 0 |
Lens Model | OLYMPUS M.40-150mm F2.8 |
Lens Profile Enable | 0 |
Light Source | Unknown |
Light Value | 9.3 |
Look Amount | 1 |
Look Group | Profiles |
Look Name | Adobe Color |
Look Parameters Camera Profile | Adobe Standard |
Look Parameters Convert To Grayscale | False |
Look Parameters Look Table | E1095149FDB39D7A057BAB208837E2 E1 |
Look Parameters Process Version | 11.0 |
Look Parameters Tone Curve PV2012 | 0, 0, 22, 16, 40, 35, 127, 127, 224, 230, 240, 246, 255, 255 |
Look Parameters Tone Curve PV2012 Blue | 0, 0, 255, 255 |
Look Parameters Tone Curve PV2012 Green | 0, 0, 255, 255 |
Look Parameters Tone Curve PV2012 Red | 0, 0, 255, 255 |
Look Parameters Version | 15.0 |
Look Supports Amount | false |
Look Supports Monochrome | false |
Look Supports Output Referred | false |
Luminance Adjustment Aqua | +9 |
Luminance Adjustment Blue | +13 |
Luminance Adjustment Green | -2 |
Luminance Adjustment Magenta | +8 |
Luminance Adjustment Orange | -2 |
Luminance Adjustment Purple | +8 |
Luminance Adjustment Red | +8 |
Luminance Adjustment Yellow | +6 |
Luminance Smoothing | 0 |
Marked | True |
Metering Mode | Center-weighted average |
Original Colorspace | AdobeRGB |
Override Look Vignette | False |
Parametric Darks | 0 |
Parametric Highlight Split | 75 |
Parametric Highlights | 0 |
Parametric Lights | 0 |
Parametric Midtone Split | 50 |
Parametric Shadow Split | 25 |
Parametric Shadows | 0 |
Perspective Aspect | 0 |
Perspective Horizontal | 0 |
Perspective Rotate | 0.0 |
Perspective Scale | 100 |
Perspective Upright | 0 |
Perspective Vertical | 0 |
Perspective X | 0.00 |
Perspective Y | 0.00 |
Post Crop Vignette Amount | 0 |
Preserved File Name | _A228024.ORF |
Process Version | 11.0 |
Raw File Name | _A228024-dng_DxO_DeepPRIME.dng |
Red Hue | 0 |
Red Saturation | 0 |
Rights | Uwe Sasse |
Saturation | Normal |
Saturation Adjustment Aqua | -20 |
Saturation Adjustment Blue | -28 |
Saturation Adjustment Green | -33 |
Saturation Adjustment Magenta | 0 |
Saturation Adjustment Orange | -8 |
Saturation Adjustment Purple | -8 |
Saturation Adjustment Red | +2 |
Saturation Adjustment Yellow | -2 |
Scale Factor To 35 mm Equivalent | 2.0 |
Scene Capture Type | Standard |
Sensitivity Type | Standard Output Sensitivity |
Shadow Tint | 0 |
Shadows 2012 | -8 |
Sharpen Detail | 25 |
Sharpen Edge Masking | 0 |
Sharpen Radius | +1.0 |
Sharpness | Normal |
Split Toning Balance | -15 |
Split Toning Highlight Hue | 36 |
Split Toning Highlight Saturation | 3 |
Split Toning Shadow Hue | 53 |
Split Toning Shadow Saturation | 3 |
Subject Distance | 128 m |
Texture | +5 |
Tint | +30 |
Tone Curve Name 2012 | Custom |
Tone Curve PV2012 | 0, 8, 38, 48, 73, 94, 126, 153, 184, 203, 255, 250 |
Tone Curve PV2012 Blue | 0, 0, 70, 68, 172, 160, 255, 252 |
Tone Curve PV2012 Green | 0, 0, 55, 57, 116, 112, 191, 186, 255, 255 |
Tone Curve PV2012 Red | 0, 0, 38, 42, 83, 82, 174, 170, 255, 254 |
Version | 15.0 |
Vibrance | +57 |
Vignette Amount | 0 |
White Balance | Auto |
White Level | 30710 |
Whites 2012 | -18 |