Shooting information for this photo
Camera: | OLYMPUS CORPORATION E-M1MarkIII |
Exposure: | 0.8 sec. |
Aperture: | f/2.8 |
Focal Length: | 60.0 mm (35 mm equivalent: 120.0 mm) |
Flash: | On, Did not fire |
Exposure mode: | Aperture-priority AE |
Max Aperture: | 2.8 |
Original Date: | 2022:03:26 08:52:15 |
Created on: | 2022:03:26 08:52:15 |
Modified on: | 2022:03:28 09:46:33.35 |
Software: | Adobe Photoshop Lightroom 11.2 Classic (Windows) |
Copyright: | Uwe Sasse |
AE Lock | Off |
AF Areas | none |
AF Fine Tune | Off |
AF Fine Tune Adj | 0 0 0 |
AF Point | Left (or n/a) |
AF Point Selected | undef undef undef undef |
AF Search | Not Ready |
Adobe White Level | 29968 |
Already Applied | False |
Analog Balance | 1 1 1 |
Anti Alias Strength | 1 |
Approximate Focus Distance | 0.785 |
Art Filter | Off; 0; 0; 0 |
Art Filter Effect | Off; 0; 0; 0; No Effect; 0; 0; 0; 0; 0; 0; 0; 0; 0; 0; 0; 0; 0; 0; 0 |
As Shot Neutral | 0.563877 1 0.462094 |
Aspect Frame | 0 0 5183 3887 |
Aspect Ratio | 4:3 |
Auto Lateral CA | 0 |
Baseline Exposure | 0.32 |
Baseline Noise | 1.5 |
Baseline Sharpness | 1.5 |
Best Quality Scale | 1 |
Bits Per Sample | 16 16 16 |
Black Level 2 | 253 254 254 253 |
Blacks 2012 | 0 |
Blue Balance | 2.164063 |
Blue Hue | 0 |
Blue Saturation | 0 |
Body Firmware Version | 1.300 |
CFA Pattern | [Red,Green][Green,Blue] |
Calibration Illuminant 1 | Standard Light A |
Calibration Illuminant 2 | D65 |
Camera ID | OLYMPUS DIGITAL CAMERA |
Camera Profile | Adobe Standard |
Camera Serial Number | BJDA44350 |
Camera Settings Version | 0100 |
Camera Type 2 | Unknown (S0092) |
Circle Of Confusion | 0.015 mm |
Clarity 2012 | +17 |
Color Grade Blending | 50 |
Color Grade Global Hue | 0 |
Color Grade Global Lum | 0 |
Color Grade Global Sat | 0 |
Color Grade Highlight Lum | 0 |
Color Grade Midtone Hue | 0 |
Color Grade Midtone Lum | 0 |
Color Grade Midtone Sat | 0 |
Color Grade Shadow Lum | 0 |
Color Matrix | 274 12 -30 -66 396 -74 18 -116 354 |
Color Matrix 1 | 1.3782 -0.7726 0.0645 -0.3366 1.2336 0.1103 -0.0082 0.0624 0.5955 |
Color Matrix 2 | 1.1896 -0.511 -0.1076 -0.3181 1.1378 0.2048 -0.0519 0.1224 0.5166 |
Color Noise Reduction | 0 |
Color Space | Adobe RGB |
Color Temperature | 4450 |
Contrast | Normal |
Contrast 2012 | 0 |
Contrast Setting | 0 (min -5, max 5) |
Crop Angle | 0 |
Crop Bottom | 1 |
Crop Constrain To Warp | 0 |
Crop Height | 3888 |
Crop Left | 12 0 |
Crop Right | 1 |
Crop Top | 12 0 |
Crop Width | 5184 |
Custom Rendered | Normal |
Custom Saturation | 0 (min -5, max 5) |
DNG Backward Version | 1.1.0.0 |
DNG Lens Info | 60mm f/2.8 |
DNG Version | 1.4.0.0 |
Date Created | 2022:03:26 08:52:15+01:00 |
Default Crop Origin | 0 0 |
Default Crop Size | 5184 3888 |
Default Scale | 1 1 |
Default User Crop | 0 0 1 1 |
Defringe Green Amount | 0 |
Defringe Green Hue Hi | 60 |
Defringe Green Hue Lo | 40 |
Defringe Purple Amount | 0 |
Defringe Purple Hue Hi | 70 |
Defringe Purple Hue Lo | 30 |
Dehaze | -2 |
Depth Of Field | 0.013 m (0.778 - 0.792) |
Digital Zoom Ratio | 1 |
Distortion Correction | Off |
Distortion Correction 2 | Off |
Drive Mode | Single Shot |
Equipment Version | 0100 |
Exposure 2012 | +0.28 |
Exposure Compensation | +1.7 |
Exposure Mode | Aperture-priority AE |
Exposure Shift | 0 |
Extended WB Detect | Off |
Extender | None |
Extender Firmware Version | 0 |
Extender Status | Not attached |
External Flash | Off |
External Flash Bounce | Bounce or Off |
External Flash Zoom | 0 |
Face Detect Frame Crop | 0 0 640 480 0 0 640 480 0 0 0 0 |
Face Detect Frame Size | 640 480 640 480 0 0 |
Faces Detected | 0 0 0 |
Field Of View | 15.8 deg (0.22 m) |
Flash Compensation | 0 |
Flash Control Mode | Off; 0; 0; 0 |
Flash Exposure Comp | 0 |
Flash Firmware Version | 0 |
Flash Intensity | undef undef undef undef |
Flash Mode | Fill-in |
Flash Model | None |
Flash Remote Control | Off |
Flash Type | None |
Focal Length In 35mm Format | 120 mm |
Focus Distance | 0.785 m |
Focus Info Version | 0100 |
Focus Mode | MF; MF |
Focus Process | AF Not Used; 0 |
Focus Step Count | 4351 |
Focus Step Infinity | 5392 |
Focus Step Near | 18597 |
Format | image/dng |
Gain Base | 256 |
Gain Control | None |
Gradation | Normal; User-Selected |
Grain Amount | 0 |
Green Hue | 0 |
Green Saturation | 0 |
Has Crop | True |
Has Settings | True |
Highlights 2012 | +2 |
Hue Adjustment Aqua | 0 |
Hue Adjustment Blue | 0 |
Hue Adjustment Green | 0 |
Hue Adjustment Magenta | 0 |
Hue Adjustment Orange | 0 |
Hue Adjustment Purple | 0 |
Hue Adjustment Red | 0 |
Hue Adjustment Yellow | 0 |
Hyperfocal Distance | 85.58 m |
ISO | 200 |
Image Height | 3888 |
Image Processing Version | 0112 |
Image Size | 5184x3888 |
Image Stabilization | Off |
Image Width | 5184 |
Internal Flash | Off |
Lens | OLYMPUS M.60mm F2.8 Macro |
Lens Firmware Version | 1.200 |
Lens ID | Olympus M.Zuiko Digital ED 60mm F2.8 Macro |
Lens Info | 60mm f/2.8 |
Lens Manual Distortion Amount | 0 |
Lens Model | OLYMPUS M.60mm F2.8 Macro |
Lens Profile Enable | 0 |
Lens Properties | 0x4100 |
Lens Type | Olympus M.Zuiko Digital ED 60mm F2.8 Macro |
Level Gauge Pitch | Unknown (69 1) |
Level Gauge Roll | Unknown (73 1) |
Light Source | Unknown |
Light Value | 2.3 |
Linear Response Limit | 1 |
Look Amount | 1 |
Look Name | Adobe Color |
Look Parameters Camera Profile | Adobe Standard |
Look Parameters Convert To Grayscale | False |
Look Parameters Look Table | E1095149FDB39D7A057BAB208837E2 E1 |
Look Parameters Process Version | 11.0 |
Look Parameters Tone Curve PV2012 | 0, 0, 22, 16, 40, 35, 127, 127, 224, 230, 240, 246, 255, 255 |
Look Parameters Version | 14.2 |
Luminance Adjustment Aqua | 0 |
Luminance Adjustment Blue | 0 |
Luminance Adjustment Green | 0 |
Luminance Adjustment Magenta | 0 |
Luminance Adjustment Orange | 0 |
Luminance Adjustment Purple | 0 |
Luminance Adjustment Red | 0 |
Luminance Adjustment Yellow | 0 |
Luminance Smoothing | 0 |
Macro LED | Off |
Macro Mode | Off |
Manometer Pressure | 0 kPa |
Manometer Reading | -999.9 m, -999.9 ft |
Manual Flash | Off |
Manual Flash Strength | undef undef undef undef |
Marked | True |
Max Aperture | 2.9 |
Max Aperture At Max Focal | 2.8 |
Max Aperture At Min Focal | 2.8 |
Max Faces | 8 8 0 |
Max Focal Length | 60 |
Metering Mode | ESP |
Min Focal Length | 60 |
Modified Saturation | Off |
Multiple Exposure Mode | Off; 1 |
Noise Filter | Off |
Noise Reduction | Auto |
Noise Reduction 2 | (none) |
Original Best Quality Size | 0 0 |
Original Colorspace | AdobeRGB |
Original Default Crop Size | undef undef |
Original Default Final Size | 0 0 |
Override Look Vignette | False |
Panorama Mode | Off |
Parametric Darks | 0 |
Parametric Highlight Split | 75 |
Parametric Highlights | 0 |
Parametric Lights | 0 |
Parametric Midtone Split | 50 |
Parametric Shadow Split | 25 |
Parametric Shadows | 0 |
Perspective Aspect | 0 |
Perspective Horizontal | 0 |
Perspective Rotate | 0.0 |
Perspective Scale | 100 |
Perspective Upright | 0 |
Perspective Vertical | 0 |
Perspective X | 0.00 |
Perspective Y | 0.00 |
Photometric Interpretation | Linear Raw |
Picture Mode | Natural; 2 |
Picture Mode BW Filter | n/a |
Picture Mode Contrast | 0 (min -2, max 2) |
Picture Mode Effect | Standard |
Picture Mode Saturation | 0 (min -2, max 2) |
Picture Mode Sharpness | 0 (min -2, max 2) |
Picture Mode Tone | n/a |
Planar Configuration | Chunky |
Post Crop Vignette Amount | 0 |
Preserved File Name | _3264488.ORF |
Process Version | 11.0 |
Profile Embed Policy | Allow Copying |
Profile Name | Embedded |
Raw Data Unique ID | 3CC2120E0A35DE6EC37306671EFE05 6D |
Raw Dev Color Space | sRGB |
Raw Dev Contrast Value | 0 0 0 |
Raw Dev Edit Status | Original |
Raw Dev Engine | High Speed |
Raw Dev Exposure Bias Value | 0 |
Raw Dev Gray Point | 0 0 0 |
Raw Dev Memory Color Emphasis | 0 |
Raw Dev Noise Reduction | (none) |
Raw Dev Saturation Emphasis | 0 0 0 |
Raw Dev Settings | (none) |
Raw Dev Sharpness Value | 0 0 0 |
Raw Dev Version | 0100 |
Raw Dev WB Fine Adjustment | 0 |
Raw Dev White Balance Value | 0 |
Raw File Name | _3264488-dng_DxO_DeepPRIME.dng |
Red Balance | 1.773438 |
Red Hue | 0 |
Red Saturation | 0 |
Reference Black White | 0 255 128 255 128 255 |
Rights | Uwe Sasse |
Rows Per Strip | 121 |
Samples Per Pixel | 3 |
Saturation | Normal |
Saturation Adjustment Aqua | 0 |
Saturation Adjustment Blue | 0 |
Saturation Adjustment Green | 0 |
Saturation Adjustment Magenta | 0 |
Saturation Adjustment Orange | 0 |
Saturation Adjustment Purple | 0 |
Saturation Adjustment Red | 0 |
Saturation Adjustment Yellow | 0 |
Scale Factor To 35 mm Equivalent | 2.0 |
Scene Capture Type | Standard |
Scene Detect | 0 |
Scene Mode | Standard |
Sensitivity Type | Standard Output Sensitivity |
Sensor Temperature | 24 24 0 |
Shading Compensation | Off |
Shading Compensation 2 | Off |
Shadow Scale | 1 |
Shadow Tint | 0 |
Shadows 2012 | 0 |
Sharpness | Normal |
Sharpness Setting | 0 (min -5, max 5) |
Special Mode | Normal, Sequence: 0, Panorama: (none) |
Split Toning Balance | 0 |
Split Toning Highlight Hue | 0 |
Split Toning Highlight Saturation | 0 |
Split Toning Shadow Hue | 0 |
Split Toning Shadow Saturation | 0 |
Strip Byte Counts | 58806 |
Strip Offsets | 1537594 |
Subfile Type | Reduced-resolution image |
Subject Distance | 0.785 m |
Texture | +11 |
Tile Length | 160 |
Tile Width | 144 |
Tint | +26 |
Tone Curve Name 2012 | Medium Contrast |
Tone Curve PV2012 | 0, 0, 32, 22, 64, 56, 128, 128, 192, 196, 255, 255 |
Tone Curve PV2012 Blue | 0, 0, 255, 255 |
Tone Curve PV2012 Green | 0, 0, 255, 255 |
Tone Curve PV2012 Red | 0, 0, 255, 255 |
Unique Camera Model | Olympus E-M1 Mark III |
Valid Bits | 12 0 |
Version | 14.2 |
Vibrance | +9 |
Vignette Amount | 0 |
WB RB Levels | 454 554 256 256 |
WB RB Levels 3000K | 284 928 256 256 |
WB RB Levels 3300K | 340 728 256 256 |
WB RB Levels 3600K | 362 668 256 256 |
WB RB Levels 3900K | 382 622 256 256 |
WB RB Levels 4000K | 452 750 256 256 |
WB RB Levels 4300K | 406 606 256 256 |
WB RB Levels 4500K | 488 612 256 256 |
WB RB Levels 4800K | 436 556 256 256 |
WB RB Levels 5300K | 462 518 256 256 |
WB RB Levels 6000K | 498 472 256 256 |
WB RB Levels 6600K | 532 494 256 256 |
WB RB Levels 7500K | 544 412 256 256 |
WB RB Levels CWB1 | 460 460 256 256 |
WB RB Levels CWB2 | 460 460 256 256 |
WB RB Levels CWB3 | 460 460 256 256 |
WB RB Levels CWB4 | 460 460 256 256 |
White Balance | Custom |
White Balance 2 | Auto |
White Balance Bracket | 0 0 |
White Balance Temperature | Auto |
White Level | 30734 |
Whites 2012 | +13 |
Zoom Step Count | 0 |