Shooting information for this photo
Camera: | Canon EOS 6D |
Exposure: | 0.02 sec. (1/50) |
Aperture: | f/16.0 |
Focal Length: | 24.0 mm (35 mm equivalent: 25.7 mm) |
Flash: | Off, Did not fire |
Exposure mode: | Aperture-priority AE |
Max Aperture: | 4.0 |
Resolution: | 300 x 300 dpi |
Original Date: | 2016:11:12 16:34:13.60 |
Created on: | 2016:11:12 16:34:13.60 |
Modified on: | 2017:01:13 14:06:34 |
Software: | Adobe Photoshop Lightroom 6.8 (Macintosh) |
Copyright: | © RICHARD Christophe |
Already Applied | True |
Approximate Focus Distance | 3.42 |
Artist | RICHARD Christophe |
Auto Lateral CA | 1 |
Auto White Version | 134348800 |
Blacks 2012 | +100 |
Blue Hue | 0 |
Blue Saturation | 0 |
Camera Profile | ACR 4.4 |
Circle Of Confusion | 0.028 mm |
Clarity 2012 | +65 |
Color Noise Reduction | 25 |
Color Noise Reduction Detail | 50 |
Color Noise Reduction Smoothness | 50 |
Color Space | sRGB |
Color Temperature | 5997 |
Contrast 2012 | +50 |
Convert To Grayscale | True |
Creator | RICHARD Christophe |
Crop Angle | 0 |
Crop Bottom | 1 |
Crop Constrain To Warp | 0 |
Crop Left | 0 |
Crop Right | 0.933385 |
Crop Top | 0.066615 |
Custom Rendered | Normal |
Date Created | 2016:11:12 16:34:13.60 |
Dehaze | 0 |
Exposure 2012 | +0.45 |
Exposure Compensation | -1 |
Exposure Mode | Auto bracket |
Field Of View | 70.0 deg |
Firmware | 1.1.6 |
Flash Compensation | 0 |
Format | image/jpeg |
Grain Amount | 0 |
Gray Mixer Aqua | -19 |
Gray Mixer Blue | +9 |
Gray Mixer Green | -27 |
Gray Mixer Magenta | +4 |
Gray Mixer Orange | -18 |
Gray Mixer Purple | +15 |
Gray Mixer Red | -9 |
Gray Mixer Yellow | -22 |
Green Hue | 0 |
Green Saturation | 0 |
Has Crop | True |
Has Settings | True |
Highlights 2012 | -80 |
Hyperfocal Distance | 1.28 m |
ISO | 400 |
Image Number | 0 |
Image Size | 5107x3405 |
Lens | EF16-35mm f/4L IS USM |
Lens ID | Canon EF16-35mm f/4L IS USM |
Lens Info | 16-35mm f/? |
Lens Manual Distortion Amount | 0 |
Lens Model | EF16-35mm f/4L IS USM |
Lens Profile Chromatic Aberration Scale | 100 |
Lens Profile Distortion Scale | 100 |
Lens Profile Enable | 1 |
Lens Profile Filename | Canon EOS-1Ds Mark III (Canon EF 16-35mm f4L IS USM v2) - RAW.lcp |
Lens Profile Name | Adobe (Canon EF 16-35mm f/4L IS USM) v2 |
Lens Profile Setup | LensDefaults |
Lens Profile Vignetting Scale | 100 |
Light Value | 11.6 |
Luminance Smoothing | 0 |
Marked | True |
Metering Mode | Multi-segment |
Parametric Darks | -45 |
Parametric Highlight Split | 75 |
Parametric Highlights | -24 |
Parametric Lights | -26 |
Parametric Midtone Split | 50 |
Parametric Shadow Split | 25 |
Parametric Shadows | +42 |
Perspective Aspect | 0 |
Perspective Horizontal | 0 |
Perspective Rotate | 0.0 |
Perspective Scale | 100 |
Perspective Upright | 0 |
Perspective Vertical | 0 |
Perspective X | 0.00 |
Perspective Y | 0.00 |
Post Crop Vignette Amount | -20 |
Post Crop Vignette Feather | 50 |
Post Crop Vignette Highlight Contrast | 0 |
Post Crop Vignette Midpoint | 50 |
Post Crop Vignette Roundness | 0 |
Post Crop Vignette Style | 1 |
Process Version | 6.7 |
Recommended Exposure Index | 400 |
Red Hue | 0 |
Red Saturation | 0 |
Rights | © RICHARD Christophe |
Scale Factor To 35 mm Equivalent | 1.1 |
Scene Capture Type | Standard |
Sensitivity Type | Recommended Exposure Index |
Shadow Tint | 0 |
Shadows 2012 | +80 |
Sharpen Detail | 35 |
Sharpen Edge Masking | 12 |
Sharpen Radius | +1.0 |
Sharpness | 41 |
Split Toning Balance | 0 |
Split Toning Highlight Hue | 53 |
Split Toning Highlight Saturation | 8 |
Split Toning Shadow Hue | 46 |
Split Toning Shadow Saturation | 5 |
Subject | Architecture, Auvergne, Château de Domeyrat, Domeyrat, Europe, France, Haute-Loire, Pays & Région |
Tint | -18 |
Tone Curve | 0, 0, 255, 255 |
Tone Curve Blue | 0, 0, 255, 255 |
Tone Curve Green | 0, 0, 255, 255 |
Tone Curve Name | Linear |
Tone Curve Name 2012 | Linear |
Tone Curve PV2012 | 0, 0, 255, 255 |
Tone Curve PV2012 Blue | 0, 0, 255, 255 |
Tone Curve PV2012 Green | 0, 0, 255, 255 |
Tone Curve PV2012 Red | 0, 0, 255, 255 |
Tone Curve Red | 0, 0, 255, 255 |
Tone Map Strength | 0 |
Usage Terms | Tous droits réservés. |
Version | 9.8 |
Vignette Amount | 0 |
White Balance | Auto |
Whites 2012 | -11 |