Shooting information for this photo
Camera: | PENTAX Corporation PENTAX K200D |
Exposure: | 0.03333 sec. (1/30) |
Aperture: | f/4.0 |
Focal Length: | 48.0 mm (35 mm equivalent: 72.0 mm) |
Flash: | Off, Did not fire |
Exposure mode: | Shutter speed priority AE |
Resolution: | 300 x 300 dpi |
Original Date: | 2008:06:10 21:30:55 |
Digitized Date: | 2008:06:10 21:30:55+02:00 |
Created on: | 2008:06:10 21:30:55 |
Modified on: | 2008:06:13 19:33:27 |
Software: | K200D Ver 1.00 |
Copyright: | Copyright 2008 by Tobias Bauer. |
Already Applied | True |
Artist | Tobias Bauer |
Blue Hue | 0 |
Blue Saturation | 0 |
Brightness | +92 |
CFA Pattern | [Red,Green][Green,Blue] |
Camera Profile | ACR 4.4 |
Chromatic Aberration B | 0 |
Chromatic Aberration R | 0 |
Circle Of Confusion | 0.020 mm |
City | Wunsiedel |
Clarity | 100 |
Color Noise Reduction | 25 |
Color Temperature | 9498 |
Contrast | High |
Convert To Grayscale | True |
Country | Deutschland |
Country Code | DEU |
Creator | Tobias Bauer |
Crop Angle | 0 |
Crop Bottom | 0.333333 |
Crop Height | 314 |
Crop Left | 0.6714 |
Crop Right | 0.764706 |
Crop Top | 0.212121 |
Crop Unit | pixels |
Crop Width | 361 |
Custom Rendered | Normal |
Defringe | 0 |
Exposure | 0.00 |
Exposure Compensation | 0 |
Exposure Mode | Auto |
Field Of View | 28.1 deg |
Fill Light | 98 |
Flash Fired | False |
Flash Function | False |
Flash Mode | Off |
Flash Red Eye Mode | False |
Flash Return | No return detection |
Focal Length In 35mm Format | 72 mm |
Gray Mixer Aqua | -21 |
Gray Mixer Blue | +5 |
Gray Mixer Green | -24 |
Gray Mixer Magenta | +8 |
Gray Mixer Orange | -12 |
Gray Mixer Purple | +14 |
Gray Mixer Red | -2 |
Gray Mixer Yellow | -17 |
Green Hue | 0 |
Green Saturation | 0 |
Has Crop | True |
Has Settings | True |
Hierarchical Subject | Natur|Silouetten, Natur|Wetter, Natur|Wetter|Wolken, Orte|Deutschland, Orte|Deutschland|Bayern, Orte|Deutschland|Bayern|Wunsie del |
Highlight Recovery | 100 |
Hyperfocal Distance | 28.76 m |
ISO | 100 |
Image Size | 361x314 |
Lens | Tamron 35-90mm F4 AF or various SIGMA models |
Lens ID | Sigma 17-70mm F2.8-4.5 DC Macro or Sigma 18-50mm F3.5-5.6 DC or Tamron 35-90mm F4 AF |
Light Value | 8.9 |
Location | Wunsiedel |
Luminance Smoothing | 0 |
Marked | True |
Metering Mode | Multi-segment |
Parametric Darks | +46 |
Parametric Highlight Split | 75 |
Parametric Highlights | 0 |
Parametric Lights | +90 |
Parametric Midtone Split | 50 |
Parametric Shadow Split | 25 |
Parametric Shadows | -46 |
Red Hue | 0 |
Red Saturation | 0 |
Rights | Copyright 2008 by Tobias Bauer. |
Saturation | Normal |
Scale Factor To 35 mm Equivalent | 1.5 |
Scene Capture Type | Standard |
Sensing Method | One-chip color area |
Shadow Tint | 0 |
Shadows | 5 |
Sharpen Detail | 25 |
Sharpen Edge Masking | 0 |
Sharpen Radius | +1.0 |
Sharpness | Hard |
Split Toning Balance | 0 |
Split Toning Highlight Hue | 0 |
Split Toning Highlight Saturation | 0 |
Split Toning Shadow Hue | 0 |
Split Toning Shadow Saturation | 0 |
State | Bayern |
Subject | Bayern, Deutschland, Natur, Orte, Silouetten, Wetter, Wolken, Wunsiedel |
Subject Distance Range | Distant |
Tint | -23 |
Tone Curve | 0, 0, 32, 22, 64, 56, 128, 128, 192, 196, 255, 255 |
Tone Curve Name | Medium Contrast |
Version | 4.4.1 |
Vignette Amount | 0 |
White Balance | Auto |
GPS Information |
GPS Altitude | 573 m Above Sea Level |
GPS Altitude Ref | Above Sea Level |
GPS Date Stamp | 2008:06:10 |
GPS Date/Time | 2008:06:10 19:30:55Z |
GPS Latitude | 50 deg 2' 39.05" N |
GPS Latitude Ref | North |
GPS Longitude | 12 deg 0' 19.23" E |
GPS Longitude Ref | East |
GPS Map Datum | WGS-84 |
GPS Position | 50 deg 2' 39.05" N, 12 deg 0' 19.23" E |
GPS Satellites | 0 |
GPS Time Stamp | 19:30:55 |
GPS Version ID | 2.2.0.0 |