Shooting information for this photo
Camera: | PENTAX K200D |
Exposure: | 0.008 sec. (1/125) |
Aperture: | f/5.6 |
Focal Length: | 31.0 mm (35 mm equivalent: 46.0 mm) |
Flash: | Off, Did not fire |
Exposure mode: | Program AE |
Resolution: | 300 x 300 dpi |
Original Date: | 2011:12:03 13:57:57 |
Created on: | 2011:12:03 13:57:57 |
Modified on: | 2011:12:04 17:49:09 |
Software: | Adobe Photoshop Lightroom 3.5 (Windows) |
Already Applied | True |
Blue Hue | 0 |
Blue Saturation | 0 |
Brightness | +21 |
Camera Profile | Adobe Standard |
Chromatic Aberration B | 0 |
Chromatic Aberration R | 0 |
Circle Of Confusion | 0.020 mm |
City | Augsburg |
Clarity | 0 |
Color Noise Reduction | 25 |
Color Noise Reduction Detail | 50 |
Color Temperature | 5500 |
Contrast | High |
Convert To Grayscale | False |
Country | Deutschland |
Country Code | DEU |
Crop Angle | 0.703 |
Crop Bottom | 1 |
Crop Constrain To Warp | 0 |
Crop Height | 2545 |
Crop Left | 0.013033 |
Crop Right | 0.986967 |
Crop Top | 0 |
Crop Unit | pixels |
Crop Width | 3802 |
Custom Rendered | Normal |
Date Created | 2011:12:03 13:57:57 |
Defringe | 0 |
Exposure | 0.00 |
Exposure Compensation | 0 |
Exposure Mode | Auto |
Field Of View | 42.7 deg |
Fill Light | 15 |
Focal Length In 35mm Format | 46 mm |
Grain Amount | 0 |
Green Hue | 0 |
Green Saturation | 0 |
Has Crop | True |
Has Settings | True |
Highlight Recovery | 4 |
Hue Adjustment Aqua | 0 |
Hue Adjustment Blue | 0 |
Hue Adjustment Green | 0 |
Hue Adjustment Magenta | 0 |
Hue Adjustment Orange | 0 |
Hue Adjustment Purple | 0 |
Hue Adjustment Red | 0 |
Hue Adjustment Yellow | 0 |
Hyperfocal Distance | 8.48 m |
ISO | 100 |
Image Size | 2545x3802 |
Lens | Sigma or Tamron Lens |
Lens ID | Sigma 17-70mm F2.8-4.5 DC Macro or Sigma 18-50mm F3.5-5.6 DC |
Lens Manual Distortion Amount | 0 |
Lens Model | Sigma or Tamron Lens |
Lens Profile Enable | 0 |
Lens Profile Setup | LensDefaults |
Light Value | 11.9 |
Location | Augsburg |
Luminance Adjustment Aqua | 0 |
Luminance Adjustment Blue | 0 |
Luminance Adjustment Green | 0 |
Luminance Adjustment Magenta | 0 |
Luminance Adjustment Orange | 0 |
Luminance Adjustment Purple | 0 |
Luminance Adjustment Red | 0 |
Luminance Adjustment Yellow | 0 |
Luminance Smoothing | 0 |
Metering Mode | Multi-segment |
Parametric Darks | 0 |
Parametric Highlight Split | 75 |
Parametric Highlights | 0 |
Parametric Lights | 0 |
Parametric Midtone Split | 50 |
Parametric Shadow Split | 25 |
Parametric Shadows | 0 |
Perspective Horizontal | 0 |
Perspective Rotate | 0.0 |
Perspective Scale | 100 |
Perspective Vertical | 0 |
Post Crop Vignette Amount | 0 |
Primary Chromaticities | 0.64, 0.33, 0.21, 0.71, 0.15, 0.06 |
Process Version | 5.7 |
Red Hue | 0 |
Red Saturation | 0 |
Saturation | Normal |
Saturation Adjustment Aqua | 0 |
Saturation Adjustment Blue | 0 |
Saturation Adjustment Green | 0 |
Saturation Adjustment Magenta | 0 |
Saturation Adjustment Orange | 0 |
Saturation Adjustment Purple | 0 |
Saturation Adjustment Red | 0 |
Saturation Adjustment Yellow | 0 |
Scale Factor To 35 mm Equivalent | 1.5 |
Scene Capture Type | Standard |
Sensing Method | One-chip color area |
Shadow Tint | 0 |
Shadows | 3 |
Sharpen Detail | 25 |
Sharpen Edge Masking | 0 |
Sharpen Radius | +1.0 |
Sharpness | Hard |
Split Toning Balance | 0 |
Split Toning Highlight Hue | 0 |
Split Toning Highlight Saturation | 0 |
Split Toning Shadow Hue | 0 |
Split Toning Shadow Saturation | 0 |
State | Bayern |
Subject | Augsburg, Ausflugsziele, Orte, Rotes Tor |
Subject Distance Range | Distant |
Tint | +10 |
Tone Curve | 0, 0, 32, 22, 64, 56, 128, 128, 192, 196, 255, 255 |
Tone Curve Name | Medium Contrast |
Version | 6.5 |
Vibrance | 0 |
Vignette Amount | 0 |
White Balance | Auto |
White Point | 0.313, 0.329 |
GPS Information |
GPS Altitude | 491 m Above Sea Level |
GPS Altitude Ref | Above Sea Level |
GPS Date Stamp | 2011:12:03 |
GPS Date/Time | 2011:12:03 12:57:57Z |
GPS Latitude | 48 deg 21' 36.56" N |
GPS Latitude Ref | North |
GPS Longitude | 10 deg 54' 11.60" E |
GPS Longitude Ref | East |
GPS Map Datum | WGS-84 |
GPS Position | 48 deg 21' 36.56" N, 10 deg 54' 11.60" E |
GPS Time Stamp | 12:57:57 |
GPS Version ID | 2.2.0.0 |