Shooting information for this photo
Camera: | PENTAX K200D |
Exposure: | 0.008 sec. (1/125) |
Aperture: | f/5.6 |
Focal Length: | 17.0 mm (35 mm equivalent: 25.0 mm) |
Flash: | Off, Did not fire |
Exposure mode: | Program AE |
Resolution: | 240 x 240 dpi |
Original Date: | 2011:10:03 14:48:51 |
Created on: | 2011:10:03 14:48:51 |
Modified on: | 2011:10:04 15:35:03 |
Software: | Adobe Photoshop Lightroom 3.4.1 |
Copyright: | Copyright 2011 by Tobias Bauer. |
Already Applied | True |
Artist | Tobias Bauer |
Blue Hue | 0 |
Blue Saturation | 0 |
Brightness | 0 |
Camera Profile | Adobe Standard |
Chromatic Aberration B | 0 |
Chromatic Aberration R | 0 |
Circle Of Confusion | 0.020 mm |
City | Königstein/Sächsische Schweiz |
Clarity | 0 |
Color Noise Reduction | 25 |
Color Noise Reduction Detail | 50 |
Color Temperature | 5500 |
Contrast | High |
Convert To Grayscale | False |
Country | Deutschland |
Country Code | DEU |
Creator | Tobias Bauer |
Custom Rendered | Normal |
Date Created | 2011:10:03 14:48:51 |
Defringe | 0 |
Exposure | -0.05 |
Exposure Compensation | 0 |
Exposure Mode | Auto |
Field Of View | 71.5 deg |
Fill Light | 29 |
Focal Length In 35mm Format | 25 mm |
Grain Amount | 0 |
Green Hue | 0 |
Green Saturation | 0 |
Has Crop | False |
Has Settings | True |
Hierarchical Subject | Natur|Gewässer|Elbe, Natur|Landschaften, Orte|Ausflugsziele|Elbsandstei ngebirge, Orte|Ausflugsziele|Festung Königstein, Orte|Deutschland, Orte|Deutschland|Sachsen, Orte|Deutschland|Sachsen|Köni gstein/Sächsische Schweiz, Orte|Deutschland|Sachsen|Köni gstein/Sächsische Schweiz|Hütten |
Highlight Recovery | 23 |
Hue Adjustment Aqua | 0 |
Hue Adjustment Blue | 0 |
Hue Adjustment Green | 0 |
Hue Adjustment Magenta | 0 |
Hue Adjustment Orange | 0 |
Hue Adjustment Purple | 0 |
Hue Adjustment Red | 0 |
Hue Adjustment Yellow | 0 |
Hyperfocal Distance | 2.53 m |
ISO | 100 |
Image Size | 2592x3872 |
Lens | Sigma or Tamron Lens |
Lens ID | Sigma AF 10-20mm F4-5.6 EX DC or Sigma 12-24mm F4.5 EX DG or Sigma 17-70mm F2.8-4.5 DC Macro |
Lens Manual Distortion Amount | 0 |
Lens Model | Sigma or Tamron Lens |
Lens Profile Enable | 0 |
Lens Profile Setup | LensDefaults |
Light Value | 11.9 |
Location | Hütten |
Luminance Adjustment Aqua | 0 |
Luminance Adjustment Blue | 0 |
Luminance Adjustment Green | 0 |
Luminance Adjustment Magenta | 0 |
Luminance Adjustment Orange | 0 |
Luminance Adjustment Purple | 0 |
Luminance Adjustment Red | 0 |
Luminance Adjustment Yellow | 0 |
Luminance Smoothing | 0 |
Marked | True |
Metering Mode | Multi-segment |
Parametric Darks | 0 |
Parametric Highlight Split | 75 |
Parametric Highlights | 0 |
Parametric Lights | 0 |
Parametric Midtone Split | 50 |
Parametric Shadow Split | 25 |
Parametric Shadows | 0 |
Perspective Horizontal | 0 |
Perspective Rotate | 0.0 |
Perspective Scale | 100 |
Perspective Vertical | 0 |
Post Crop Vignette Amount | 0 |
Primary Chromaticities | 0.64, 0.33, 0.21, 0.71, 0.15, 0.06 |
Process Version | 5.7 |
Red Hue | 0 |
Red Saturation | 0 |
Rights | Copyright 2011 by Tobias Bauer. |
Saturation | Normal |
Saturation Adjustment Aqua | 0 |
Saturation Adjustment Blue | 0 |
Saturation Adjustment Green | 0 |
Saturation Adjustment Magenta | 0 |
Saturation Adjustment Orange | 0 |
Saturation Adjustment Purple | 0 |
Saturation Adjustment Red | 0 |
Saturation Adjustment Yellow | 0 |
Scale Factor To 35 mm Equivalent | 1.5 |
Scene Capture Type | Standard |
Sensing Method | One-chip color area |
Shadow Tint | 0 |
Shadows | 12 |
Sharpen Detail | 25 |
Sharpen Edge Masking | 0 |
Sharpen Radius | +1.0 |
Sharpness | Hard |
Split Toning Balance | 0 |
Split Toning Highlight Hue | 0 |
Split Toning Highlight Saturation | 0 |
Split Toning Shadow Hue | 0 |
Split Toning Shadow Saturation | 0 |
State | Sachsen |
Subject | Ausflugsziele, Deutschland, Elbe, Elbsandsteingebirge, Festung Königstein, Gewässer, Hütten, Königstein/Sächsische Schweiz, Landschaften, Natur, Orte, Sachsen |
Subject Distance Range | Close |
Tint | +10 |
Title | Elbsandsteingebirge |
Tone Curve | 0, 0, 32, 22, 64, 56, 128, 128, 192, 196, 255, 255 |
Tone Curve Name | Medium Contrast |
Version | 6.4.1 |
Vibrance | 0 |
Vignette Amount | 0 |
White Balance | Auto |
White Point | 0.313, 0.329 |
GPS Information |
GPS Altitude | 353 m Above Sea Level |
GPS Altitude Ref | Above Sea Level |
GPS Date Stamp | 2011:10:03 |
GPS Date/Time | 2011:10:03 12:48:51Z |
GPS Latitude | 50 deg 55' 13.25" N |
GPS Latitude Ref | North |
GPS Longitude | 14 deg 3' 29.13" E |
GPS Longitude Ref | East |
GPS Map Datum | WGS-84 |
GPS Position | 50 deg 55' 13.25" N, 14 deg 3' 29.13" E |
GPS Time Stamp | 12:48:51 |
GPS Version ID | 2.2.0.0 |