Shooting information for this photo
Camera: | PENTAX Corporation PENTAX K200D |
Exposure: | 0.008 sec. (1/125) |
Aperture: | f/6.7 |
Focal Length: | 23.0 mm (35 mm equivalent: 34.0 mm) |
Flash: | Off, Did not fire |
Exposure mode: | Program AE |
Resolution: | 240 x 240 dpi |
Dimension: | 3872 x 2592 pixels |
Original Date: | 2010:06:19 12:53:54 |
Digitized Date: | 2010:06:19 12:53:54+02:00 |
Created on: | 2010:06:19 12:53:54 |
Modified on: | 2010:06:20 14:06:30 |
Software: | K200D Ver 1.00 |
Copyright: | Copyright 2010 by Tobias Bauer. Alle Rechte vorbehalten |
Already Applied | True |
Artist | Tobias Bauer |
Blue Hue | 0 |
Blue Saturation | 0 |
Brightness | +48 |
Camera Profile | Adobe Standard |
Chromatic Aberration B | 0 |
Chromatic Aberration R | 0 |
Circle Of Confusion | 0.020 mm |
City | Wunsiedel |
Clarity | 0 |
Color Noise Reduction | 25 |
Color Noise Reduction Detail | 50 |
Color Temperature | 5500 |
Contrast | High |
Convert To Grayscale | False |
Country | Deutschland |
Country Code | DEU |
Creator | Tobias Bauer |
Custom Rendered | Normal |
Defringe | 0 |
Exposure | 0.00 |
Exposure Compensation | 0 |
Exposure Mode | Auto |
Field Of View | 55.8 deg |
Fill Light | 0 |
Flash Fired | False |
Flash Function | False |
Flash Mode | Off |
Flash Red Eye Mode | False |
Flash Return | No return detection |
Focal Length In 35mm Format | 34 mm |
Grain Amount | 0 |
Green Hue | 0 |
Green Saturation | 0 |
Has Crop | False |
Has Settings | True |
Highlight Recovery | 24 |
Hue Adjustment Aqua | 0 |
Hue Adjustment Blue | 0 |
Hue Adjustment Green | 0 |
Hue Adjustment Magenta | 0 |
Hue Adjustment Orange | 0 |
Hue Adjustment Purple | 0 |
Hue Adjustment Red | 0 |
Hue Adjustment Yellow | 0 |
Hyperfocal Distance | 3.88 m |
ISO | 100 |
Image Size | 3872x2592 |
Lens | Sigma or Tamron Lens |
Lens ID | Sigma 12-24mm F4.5 EX DG or Sigma 17-70mm F2.8-4.5 DC Macro or Sigma 18-50mm F3.5-5.6 DC |
Lens Manual Distortion Amount | 0 |
Lens Profile Enable | 0 |
Lens Profile Setup | LensDefaults |
Light Value | 12.5 |
Location | Wunsiedel |
Luminance Adjustment Aqua | 0 |
Luminance Adjustment Blue | 0 |
Luminance Adjustment Green | 0 |
Luminance Adjustment Magenta | 0 |
Luminance Adjustment Orange | 0 |
Luminance Adjustment Purple | 0 |
Luminance Adjustment Red | 0 |
Luminance Adjustment Yellow | 0 |
Luminance Smoothing | 0 |
Marked | True |
Metering Mode | Multi-segment |
Parametric Darks | 0 |
Parametric Highlight Split | 75 |
Parametric Highlights | 0 |
Parametric Lights | 0 |
Parametric Midtone Split | 50 |
Parametric Shadow Split | 25 |
Parametric Shadows | 0 |
Perspective Horizontal | 0 |
Perspective Rotate | 0.0 |
Perspective Scale | 100 |
Perspective Vertical | 0 |
Post Crop Vignette Amount | 0 |
Primary Chromaticities | 0.64, 0.33, 0.21, 0.71, 0.15, 0.06 |
Process Version | 5.7 |
Red Hue | 0 |
Red Saturation | 0 |
Rights | Copyright 2010 by Tobias Bauer. Alle Rechte vorbehalten |
Saturation | Normal |
Saturation Adjustment Aqua | 0 |
Saturation Adjustment Blue | 0 |
Saturation Adjustment Green | 0 |
Saturation Adjustment Magenta | 0 |
Saturation Adjustment Orange | 0 |
Saturation Adjustment Purple | 0 |
Saturation Adjustment Red | 0 |
Saturation Adjustment Yellow | 0 |
Scale Factor To 35 mm Equivalent | 1.5 |
Scene Capture Type | Standard |
Sensing Method | One-chip color area |
Shadow Tint | 0 |
Shadows | 5 |
Sharpen Detail | 25 |
Sharpen Edge Masking | 0 |
Sharpen Radius | +1.0 |
Sharpness | Hard |
Split Toning Balance | 0 |
Split Toning Highlight Hue | 0 |
Split Toning Highlight Saturation | 0 |
Split Toning Shadow Hue | 0 |
Split Toning Shadow Saturation | 0 |
State | Bayern |
Subject | Brunnenfest 2010 |
Subject Distance Range | Close |
Tint | +10 |
Title | Koppetentorbrunnen |
Tone Curve | 0, 0, 32, 22, 64, 56, 128, 128, 192, 196, 255, 255 |
Tone Curve Name | Medium Contrast |
Version | 6.1 |
Vibrance | 0 |
Vignette Amount | 0 |
White Balance | Auto |
White Point | 0.313, 0.329 |
GPS Information |
GPS Altitude | 548 m Above Sea Level |
GPS Altitude Ref | Above Sea Level |
GPS Date Stamp | 2010:06:19 |
GPS Date/Time | 2010:06:19 10:53:54Z |
GPS Latitude | 50 deg 2' 22.05" N |
GPS Latitude Ref | North |
GPS Longitude | 12 deg 0' 13.63" E |
GPS Longitude Ref | East |
GPS Map Datum | WGS-84 |
GPS Position | 50 deg 2' 22.05" N, 12 deg 0' 13.63" E |
GPS Satellites | 0 |
GPS Time Stamp | 10:53:54 |
GPS Version ID | 2.2.0.0 |